Workbook

Sheet 武将技能
B1: 说明：文字资源需要出两套，仙和魔，对立 | J1: 武器攻击 | K1: 等级系数 | L1: 召唤消耗
B2: 需要补充一个睡觉特效 | M2: 枪、骑 | N2: 弓、剑 | O2: 普通武器
B3: 英雄 | C3: 武器 | D3: 专属 | E3: 品质 | F3: 基础攻击 | G3: 技能 | H3: 技能名称 | J3: 2 | K3: 1 | L3: 10 | M3: 1.5 | N3: 1.88 | O3: 1.25
A4: 1 | B4: 悟空 | C4: 棍 | D4: 如意金箍棒 | E4: 橙 | F4: 棍类（圆形范围） | G4: 定身术，定身 | H4: 定身术 | J4: 3 | K4: 1.5 | L4: 12 | M4: 1.95 | N4: 2.44 | O4: =O3*1.5 -> 1.875
A5: 2 | B5: 悟能 | C5: 刀 | D5: 九齿钉耙 | E5: 紫 | F5: 攻击扇形范围 | G5: 小兵移动速度+20% | H5: 疾行术 | I5: 23.1 | J5: 4.2 | K5: 1.4 | L5: 14 | N5: 2.92 | O5: =O4*1.4 -> 2.625
A6: 3 | B6: 悟净 | C6: 棍 | D6: 降妖宝杖 | E6: 紫 | F6: 棍类（圆形范围） | G6: 小兵血量+20% | H6: 治疗术 | I6: 30.03 | J6: 5.46 | K6: 1.3 | L6: 16 | N6: 3.36 | O6: =O5*1.3 -> 3.4125
A7: 4 | B7: 哪吒 | C7: 枪 | D7: 火尖枪 | E7: 橙 | F7: 三连击（前方直线范围） | G7: 我命由我不由天，脚踩风火轮，沿路径攻击所有敌人 | H7: 风火轮回 | I7: 36.04 | J7: 6.82 | K7: 1.2 | L7: 18 | N7: 3.7 | O7: =O6*1.2 -> 4.095
A8: 5 | B8: 金吒 | C8: 枪 | D8: 奔雷神枪 | E8: 紫 | F8: 枪类（前方直线范围） | G8: 三连击 | H8: 三连击 | L8: 20 | N8: 添加攻速上限设定=0.2
A9: 6 | B9: 木吒 | C9: 刀 | D9: 吴钩双剑 | E9: 紫 | F9: 刀剑类（单体） | G9: 重劈，将扇形范围敌人击退 | H9: 重浪崩击 | L9: 22
A10: 7 | B10: 杨戬 | C10: 枪 | D10: 三尖两面刀 | E10: 橙 | F10: 五连击（前方直线范围） | G10: 召唤哮天犬攻击 | H10: 神犬出击 | L10: 24
A11: 8 | B11: 王母 | C11: 弓 | D11: 震天弓 | E11: 橙 | F11: 弓类（单体） | G11: 万箭齐发，群伤+击退+眩晕 | H11: 万箭齐发 | L11: 26
A12: 9 | B12: 玉帝 | C12: 刀 | D12: 轩辕剑 | E12: 橙 | F12: 三箭齐发（单体） | G12: 己方提升速度，对方减少速度 | H12: 帝威驭驰 | L12: 28
A13: 10 | B13: 阎王 | C13: 刀 | D13: 莫邪 | E13: 紫 | F13: 刀剑类（单体） | G13: 生死簿，友军少量恢复，敌军造成伤害 | H13: 生死簿 | I13: 1 | L13: 30
A14: 11 | B14: 嫦娥 | C14: 弓 | D14: 射日弓 | E14: 紫 | F14: 弓类（单体） | G14: 小万箭齐发，群伤+击退 | L14: 32
A15: 12 | B15: 李靖 | C15: 刀 | D15: 玲珑宝塔 | E15: 橙 | F15: 刀剑类（单体） | G15: 宝塔镇河妖，群体伤害 | H15: 宝塔阵邪 | L15: 34
A16: 13 | B16: 刀 | C16: 1格 | F16: 单体攻击 | G16: 需要出一个损毁状态 | L16: 36
A17: 14 | B17: 枪 | C17: 2格 | F17: 直线范围 | G17: 需要出一个损毁状态 | L17: 38
A18: 15 | B18: 棍 | C18: 1.5格 | F18: 圆形范围 | G18: 需要出一个损毁状态 | L18: 40
A19: 16 | B19: 弓 | C19: 3格 | F19: 单体攻击 | G19: 需要出一个损毁状态 | L19: 42
B22: 武器资源：需要出图标，200*200
A23: 1 | B23: 木棍 | C23: 1
A24: 2 | B24: 铜棍 | C24: 2
A25: 3 | B25: 盘龙棍 | C25: 2
A26: 4 | B26: 混铁棍 | C26: 3 | G26: 概率击退
A27: 5 | B27: 黄金棍 | C27: 3 | G27: 攻击增加资源
A28: 6 | B28: 菩提灵棍 | C28: 5 | G28: 攻击距离+1，击杀飞出4方向龙影造成伤害
A29: 7 | B29: 镔铁棍 | C29: 4 | G29: 概率眩晕
A30: 8 | B30: 如意金箍棒 | C30: 5 | G30: 惊天一棍，短暂蓄力后，朝目标砸下，连续砸最大8个单位，造成伤害并眩晕
A31: 9 | B31: 九齿钉耙 | C31: 4 | G31: 概率击退
A32: 10 | B32: 降妖宝杖 | C32: 4 | G32: 概率眩晕
A34: 11 | B34: 木枪 | C34: 1
A35: 12 | B35: 铁枪 | C35: 2
A36: 13 | B36: 银枪 | C36: 2 | G36: 概率提升攻速
A37: 14 | B37: 大戟 | C37: 3 | G37: 攻击距离+1
A38: 15 | B38: 红缨枪 | C38: 3 | G38: 挑起兵击飞后落地眩晕周围一圈并造成伤害
A39: 16 | B39: 点钢枪 | C39: 4 | G39: 攻击同一单位提升攻速
A40: 17 | B40: 奔雷神枪 | C40: 4 | G40: 攻击同一单位提升攻速
A41: 18 | B41: 火尖枪 | C41: 4 | G41: 击杀后飞出8道火球，攻击随机8个单位
A42: 19 | B42: 乾坤枪 | C42: 5 | G42: 攻击同一单位提升攻速
A43: 20 | B43: 三尖两面刀 | C43: 5 | G43: 挑起兵击飞后落地眩晕周围一圈并造成伤害
A45: 21 | B45: 木剑 | C45: 1
A46: 22 | B46: 铁剑 | C46: 2
A47: 23 | B47: 铁刀 | C47: 2
A48: 24 | B48: 青锋宝剑 | C48: 3 | G48: 法相天地或者逆生长之术
A49: 25 | B49: 七星宝剑 | C49: 3 | G49: 概率触发流星雨
A50: 26 | B50: 吴钩双剑 | C50: 4 | G50: 攻击n次释放剑气
A51: 27 | B51: 斩妖剑 | C51: 4 | G51: 法相天地或者逆生长之术
A52: 28 | B52: 诛仙剑 | C52: 5 | G52: 概率触发流星雨剑
A53: 29 | B53: 轩辕剑 | C53: 5 | G53: 攻击n次释放剑气
A54: 30 | B54: 莫邪 | C54: 4 | G54: 法相天地或者逆生长之术
A55: 31 | B55: 玲珑宝塔 | C55: 5 | G55: 对目标及周围敌人造成伤害，群体，圆形范围
D56: 弹道
A57: 41 | B57: 木弓 | C57: 1 | D57: 基础黑箭
A58: 42 | B58: 弯弓 | C58: 2 | D58: 基础黑箭
A59: 43 | B59: 毒弓 | C59: 2 | D59: 基础绿箭 | G59: 攻击目标附加中毒效果
A60: 44 | B60: 穿云弓 | C60: 3 | D60: 金色箭矢，无外边框 | G60: 攻击距离+1
A61: 45 | B61: 龙舌弓 | C61: 3 | D61: 带外边框的弹道，箭矢实体虚化 | E61: 火龙弹道 | G61: 打出一道火龙
A62: 46 | B62: 乾坤弓 | C62: 4 | D62: 带外边框的弹道，箭矢实体虚化，颜色区分 | G62: 连续发射多枚箭矢
A63: 47 | B63: 灵宝弓 | C63: 4 | D63: 金色箭矢，长拖尾，高速 | G63: 散射并穿透攻击
A64: 48 | B64: 震天弓 | C64: 5 | D64: 七彩箭矢 | G64: 攻击距离翻倍，距离越远，伤害越高
A65: 49 | B65: 射日弓 | C65: 4 | D65: 小型火鸟（火鸦），三个连飞 | G65: 连续发射多枚箭矢
H66: 2级 | I66: 基地
G67: 数量+1，刷怪 | H67: 3级 | I67: 怪物+移动速度
G68: 血+1，血量+1 | H68: 4级 | I68: 基地+
A69: 背景图 | B69: 小怪资源：需要出两套，仙和魔 | G69: 速度，血量， | H69: 5级 | I69: 怪物+血量
A70: 花果山 | B70: 猴 | C70: 周1 | D70: 奔波儿灞 | E70: 牛魔王 | F70: 六耳 | G70: 猩、猿
A71: 龙宫 | B71: 虾 | C71: 周2 | D71: 蟹将 | E71: 龟丞相 | F71: 敖广 | G71: 蟹，龟
A72: 幽冥地府 | B72: 魂 | C72: 周3 | D72: 黑无常 | E72: 白无常 | F72: 谛听 | G72: 魅，魈
A73: 天庭 | B73: 兵 | C73: 周4 | D73: 千里眼 | E73: 顺风耳 | F73: 太白 | G73: 将、帅
A74: 高老庄 | B74: 猪 | C74: 周5 | D74: 蟹将 | E74: 小龙女 | F74: 太白 | G74: 猪，狼，豹
A75: 盘丝洞 | B75: 蛛 | C75: 周6 | D75: 银角 | E75: 金角 | F75: 白骨精 | G75: 蛛，蛇，蝎
A76: 火焰山 | B76: 妖 | C76: 周7 | D76: 小钻风 | E76: 红孩儿 | F76: 牛魔王 | G76: 妖，邪，魇
B77: 亡 | E77: 哮天犬
A79: BOSS资源:先出现有的 | H79: 5
B80: 名称 | C80: 品质 | D80: 技能 | H80: huang | I80: jian
A81: 1 | B81: 奔波儿灞 | C81: 紫 | D81: 丢出粘液，影响视野 | H81: 11 | I81: 13 | J81: 6
A82: 2 | B82: 千里眼 | C82: 紫 | D82: 随机使一个地块变成无法使用，并吞掉上面的字，对组合武将无效
A83: 3 | B83: 蟹将 | C83: 紫 | D83: 横冲直撞，往前快速冲锋一段距离
A84: 4 | B84: 黑无常 | C84: 紫 | D84: 招魂术，召唤亡魂
A85: 5 | B85: 顺风耳 | C85: 紫 | D85: 精准锁定弓手，令所有弓字混乱，无法攻击 | G85: yun | H85: guan
A86: 6 | B86: 龟丞相 | C86: 紫 | D86: 大幅降低附近小兵等级，并无法合成升级 | G86: 8 | H86: 27 | I86: 1 | J86: 12 | K86: 10 | M86: 1 | N86: 401 | O86: 10 | P86: 1.5 | Q86: =_xlfn.TEXTJOIN(",",TRUE,M86:P86) -> 1,401,10,1.5
A87: 7 | B87: 白无常 | C87: 紫 | D87: 使周围小兵陷入混乱，无法攻击 | G87: 6 | I87: 2 | J87: 18 | K87: 20 | M87: 2 | N87: =N86 -> 401 | O87: 11 | P87: 1.5 | Q87: =_xlfn.TEXTJOIN(",",TRUE,M87:P87) -> 2,401,11,1.5
A88: 8 | B88: 六耳 | C88: 橙 | D88: 召唤猴群，召唤4只猴子 | I88: 3 | J88: 27 | K88: 25 | M88: 3 | N88: =N87 -> 401 | O88: 12 | P88: 1.5 | Q88: =_xlfn.TEXTJOIN(",",TRUE,M88:P88) -> 3,401,12,1.5
A89: 9 | B89: 太白 | C89: 橙 | D89: 大幅提升周围友军血量和移动速度 | I89: 4 | J89: 40 | K89: 40 | M89: 4 | N89: =N88 -> 401 | O89: 13 | P89: 1.5 | Q89: =_xlfn.TEXTJOIN(",",TRUE,M89:P89) -> 4,401,13,1.5
A90: 10 | B90: 牛魔王 | C90: 橙 | D90: 践踏，随机损毁一个普通字 | I90: 5 | J90: 60 | M90: 5 | N90: =N89 -> 401 | O90: 15 | P90: 1.5 | Q90: =_xlfn.TEXTJOIN(",",TRUE,M90:P90) -> 5,401,15,1.5
A91: 11 | B91: 谛听 | C91: 橙 | D91: 吞噬周围小兵，获得血量提升 | H91: ziqiang | I91: 6 | J91: 90 | M91: 6 | N91: =N90 -> 401 | O91: 16 | P91: 1.5 | Q91: =_xlfn.TEXTJOIN(",",TRUE,M91:P91) -> 6,401,16,1.5
A92: 12 | B92: 哮天犬 | D92: 战吼，提升周围友军移动速度 | H92: 11 | I92: 7 | J92: 120 | M92: 7 | N92: =N91 -> 401 | O92: 18 | P92: 1.5 | Q92: =_xlfn.TEXTJOIN(",",TRUE,M92:P92) -> 7,401,18,1.5
A93: 13 | B93: 敖广 | C93: 橙 | D93: 施云布雨，在随机文字上方降雨，降低该字攻速 | I93: 8 | J93: 180 | M93: 8 | N93: =N92 -> 401 | O93: 19 | P93: 1.5 | Q93: =_xlfn.TEXTJOIN(",",TRUE,M93:P93) -> 8,401,19,1.5
A94: 14 | B94: 小钻风 | C94: 紫 | D94: 巡山，大声歌唱，提升周围小兵移动速度 | I94: 9 | J94: 270 | M94: 9 | N94: =N93 -> 401 | O94: 21 | P94: 1.5 | Q94: =_xlfn.TEXTJOIN(",",TRUE,M94:P94) -> 9,401,21,1.5
A95: 15 | B95: 银角 | C95: 紫 | D95: 叫你一声你敢答应吗，随机选选定一种字，眩晕一段时间，从基础字中随机 | H95: gong | I95: 10 | J95: 405 | M95: 10 | N95: =N94 -> 401 | O95: 24 | P95: 1.5 | Q95: =_xlfn.TEXTJOIN(",",TRUE,M95:P95) -> 10,401,24,1.5
A96: 16 | B96: 红孩儿 | C96: 橙 | D96: 喷火，直接烧掉一个普通文字 | H96: 11 | I96: 11 | J96: 603 | M96: 11 | N96: =N95 -> 401 | O96: 26 | P96: 1.5 | Q96: =_xlfn.TEXTJOIN(",",TRUE,M96:P96) -> 11,401,26,1.5
A97: 17 | B97: 小龙女 | C97: 橙 | D97: 疗愈，释放水疗术，治疗所有友军 | I97: 12 | J97: 902 | M97: 12 | N97: =N96 -> 401 | O97: 29 | P97: 1.5 | Q97: =_xlfn.TEXTJOIN(",",TRUE,M97:P97) -> 12,401,29,1.5
A98: 18 | B98: 金角 | C98: 橙 | D98: 丢出绳子，捆住目标，使目标停止攻击一段时间 | I98: 13 | J98: 1201 | M98: 13 | N98: =N97 -> 401 | O98: 30 | P98: 1.5 | Q98: =_xlfn.TEXTJOIN(",",TRUE,M98:P98) -> 13,401,30,1.5
A99: 19 | B99: 白骨精 | C99: 橙 | D99: 魅惑，随机魅惑一个字，攻击己方单位 | I99: 14 | J99: 1800 | M99: 14 | N99: =N98 -> 401 | O99: 35 | P99: 1.5 | Q99: =_xlfn.TEXTJOIN(",",TRUE,M99:P99) -> 14,401,35,1.5
H100: feicheng | I100: 15 | J100: 2700 | M100: 15 | N100: =N99 -> 401 | O100: 38 | P100: 1.5 | Q100: =_xlfn.TEXTJOIN(",",TRUE,M100:P100) -> 15,401,38,1.5
B101: 武器系统 | H101: 29.4 | I101: 16 | J101: 4050 | M101: 16 | N101: =N100 -> 401 | O101: 42 | P101: 1.5 | Q101: =_xlfn.TEXTJOIN(",",TRUE,M101:P101) -> 16,401,42,1.5
B102: 角色系统 | I102: 17 | M102: 17 | N102: =N101 -> 401 | O102: 45 | P102: 1.5 | Q102: =_xlfn.TEXTJOIN(",",TRUE,M102:P102) -> 17,401,45,1.5
B103: buff功能 | H103: liu | I103: 18 | M103: 18 | N103: =N102 -> 401 | O103: 50 | P103: 1.5 | Q103: =_xlfn.TEXTJOIN(",",TRUE,M103:P103) -> 18,401,50,1.5
B104: 怪物系统 | H104: 17 | I104: 19 | M104: 19 | N104: =N103 -> 401 | O104: 50 | P104: 1.5 | Q104: =_xlfn.TEXTJOIN(",",TRUE,M104:P104) -> 19,401,50,1.5
I105: 20 | M105: 20 | N105: =N104 -> 401 | O105: 50 | P105: 1.5 | Q105: =_xlfn.TEXTJOIN(",",TRUE,M105:P105) -> 20,401,50,1.5
...

Sheet 角色数值
A1: 类型 | B1: 类型名称 | C1: 攻击距离 | D1: 系数 | E1: 品质 | F1: 系数 | G1: 类型 | H1: 系数 | I1: 10秒伤害基础值 | J1: 等级 | K1: 普通 | O1: 冷却 | P1: 角色
A2: 1 | B2: 刀 | C2: 1 | D2: 1 | E2: 白 | F2: 1 | G2: 基础伤害 | H2: 1 | I2: 30 | J2: 1 | K2: 1 | N2: 1 | O2: 1 | P2: 1 | R2: =1/E16 -> 1.25 | S2: =1/R2 -> 0.8 | T2: 0.8
A3: 2 | B3: 枪 | C3: 2 | D3: 1.5 | E3: 紫 | F3: 5 | G3: 召唤 | H3: 3 | J3: 2 | K3: 1.5 | N3: 2 | O3: 1.5 | P3: =P2*1.3 -> 1.3 | R3: =R2*1.3 -> 1.625 | S3: =1/R3 -> 0.61538462 | T3: 0.62
A4: 3 | B4: 棍 | C4: 1.5 | D4: 2.25 | E4: 橙 | F4: 10 | G4: buff | H4: 3 | J4: 3 | K4: =K3*1.4 -> 2.1 | N4: 3 | O4: =O3*1.4 -> 2.1 | P4: =P3*1.2 -> 1.56 | R4: =R3*1.2 -> 1.95 | S4: =1/R4 -> 0.51282051 | T4: 0.51
A5: 4 | B5: 弓 | C5: 1 | D5: 0.7 | J5: 4 | K5: =K4*1.3 -> 2.73 | N5: 4 | O5: =O4*1.3 -> 2.73 | P5: =P4*1.15 -> 1.794 | R5: =R4*1.15 -> 2.2425 | S5: =1/R5 -> 0.44593088 | T5: 0.45
J6: 5 | K6: =K5*1.2 -> 3.276 | N6: 5 | O6: =O5*1.2 -> 3.276 | P6: =P5*1.1 -> 1.9734 | R6: =R5*1.1 -> 2.46675 | S6: =1/R6 -> 0.40539171 | T6: 0.41
A9: id | B9: 名称 | C9: 品质 | D9: 类型 | E9: cd | F9: 预计攻击数量 | G9: 伤害段数 | H9: 攻击力 | I9: 手调 | J9: 1级秒伤 | K9: 2级秒伤 | L9: 3级秒伤 | M9: 4级秒伤 | N9: 5级秒伤 | P9: 单体秒伤1 | Q9: 单体秒伤2 | R9: 单体秒伤3 | S9: 单体秒伤4 | T9: 单体秒伤5
A10: 1 | B10: 刀 | C10: 白 | D10: 刀 | E10: 0.8 | F10: 1 | G10: 1 | H10: 3 | I10: =ROUND((INDEX($F$2:$F$4,MATCH(C10,$E$2:$E$4,0)))*(INDEX($D$2:$D$5,MATCH(D10,$B$2:$B$5,0)))*$I$2/(E10*F10*G10*10),1) -> 3.8 | J10: =H10*$K$2*(1/E10*$O$2)*F10*G10 -> 3.75 | K10: =H10*$K$3*(1/E10*$O$3)*F10*G10 -> 8.4375 | L10: =H10*$K$4*(1/E10*$O$4)*F10*G10 -> 16.5375 | M10: =H10*$K$5*(1/E10*$O$5)*F10*G10 -> 27.948375 | N10: =H10*$K$6*(1/E10*$O$6)*F10*G10 -> 40.24566 | P10: =J10/$F$10 -> 3.75 | Q10: =K10/F10 -> 8.4375 | R10: =L10/F10 -> 16.5375 | S10: =M10/F10 -> 27.948375 | T10: =N10/F10 -> 40.24566
A11: 2 | B11: 枪 | C11: 白 | D11: 枪 | E11: 0.8 | F11: 2 | G11: 1 | H11: 2 | I11: =ROUND((INDEX($F$2:$F$4,MATCH(C11,$E$2:$E$4,0)))*(INDEX($D$2:$D$5,MATCH(D11,$B$2:$B$5,0)))*$I$2/(E11*F11*G11*10),1) -> 2.8 | J11: =H11*$K$2*(1/E11*$O$2)*F11*G11 -> 5 | K11: =H11*$K$3*(1/E11*$O$3)*F11*G11 -> 11.25 | L11: =H11*$K$4*(1/E11*$O$4)*F11*G11 -> 22.05 | M11: =H11*$K$5*(1/E11*$O$5)*F11*G11 -> 37.2645 | N11: =H11*$K$6*(1/E11*$O$6)*F11*G11 -> 53.66088 | P11: =J11/F11 -> 2.5 | Q11: =K11/F11 -> 5.625 | R11: =L11/F11 -> 11.025 | S11: =M11/F11 -> 18.63225 | T11: =N11/F11 -> 26.83044
A12: 3 | B12: 棍 | C12: 白 | D12: 棍 | E12: 0.8 | F12: 3 | G12: 1 | H12: 2 | I12: =ROUND((INDEX($F$2:$F$4,MATCH(C12,$E$2:$E$4,0)))*(INDEX($D$2:$D$5,MATCH(D12,$B$2:$B$5,0)))*$I$2/(E12*F12*G12*10),1) -> 2.8 | J12: =H12*$K$2*(1/E12*$O$2)*F12*G12 -> 7.5 | K12: =H12*$K$3*(1/E12*$O$3)*F12*G12 -> 16.875 | L12: =H12*$K$4*(1/E12*$O$4)*F12*G12 -> 33.075 | M12: =H12*$K$5*(1/E12*$O$5)*F12*G12 -> 55.89675 | N12: =H12*$K$6*(1/E12*$O$6)*F12*G12 -> 80.49132 | P12: =J12/F12 -> 2.5 | Q12: =K12/F12 -> 5.625 | R12: =L12/F12 -> 11.025 | S12: =M12/F12 -> 18.63225 | T12: =N12/F12 -> 26.83044
A13: 4 | B13: 弓 | C13: 白 | D13: 弓 | E13: 0.8 | F13: 1 | G13: 1 | H13: 2 | I13: =ROUND((INDEX($F$2:$F$4,MATCH(C13,$E$2:$E$4,0)))*(INDEX($D$2:$D$5,MATCH(D13,$B$2:$B$5,0)))*$I$2/(E13*F13*G13*10),1) -> 2.6 | J13: =H13*$K$2*(1/E13*$O$2)*F13*G13 -> 2.5 | K13: =H13*$K$3*(1/E13*$O$3)*F13*G13 -> 5.625 | L13: =H13*$K$4*(1/E13*$O$4)*F13*G13 -> 11.025 | M13: =H13*$K$5*(1/E13*$O$5)*F13*G13 -> 18.63225 | N13: =H13*$K$6*(1/E13*$O$6)*F13*G13 -> 26.83044 | P13: =J13/F13 -> 2.5 | Q13: =K13/F13 -> 5.625 | R13: =L13/F13 -> 11.025 | S13: =M13/F13 -> 18.63225 | T13: =N13/F13 -> 26.83044
A14: 营
A15: 101 | B15: 悟空 | C15: 橙 | D15: 棍 | E15: 1 | F15: 3 | G15: 1 | H15: 17 | I15: =ROUND((INDEX($F$2:$F$4,MATCH(C15,$E$2:$E$4,0)))*(INDEX($D$2:$D$5,MATCH(D15,$B$2:$B$5,0)))*$I$2/(E15*F15*G15*10),1) -> 22.5 | J15: =H15*$K$2*(1/E15*$O$2)*F15*G15 -> 51 | K15: =H15*$K$3*(1/E15*$O$3)*F15*G15 -> 114.75 | L15: =H15*$K$4*(1/E15*$O$4)*F15*G15 -> 224.91 | M15: =H15*$K$5*(1/E15*$O$5)*F15*G15 -> 380.0979 | N15: =H15*$K$6*(1/E15*$O$6)*F15*G15 -> 547.34098 | P15: =J15/F15 -> 17 | Q15: =K15/F15 -> 38.25 | R15: =L15/F15 -> 74.97 | S15: =M15/F15 -> 126.6993 | T15: =N15/F15 -> 182.44699
A16: 102 | B16: 悟能 | C16: 紫 | D16: 刀 | E16: 0.8 | F16: 2 | G16: 1 | H16: 7 | I16: =ROUND((INDEX($F$2:$F$4,MATCH(C16,$E$2:$E$4,0)))*(INDEX($D$2:$D$5,MATCH(D16,$B$2:$B$5,0)))*$I$2/(E16*F16*G16*10),1) -> 9.4 | J16: =H16*$K$2*(1/E16*$O$2)*F16*G16 -> 17.5 | K16: =H16*$K$3*(1/E16*$O$3)*F16*G16 -> 39.375 | L16: =H16*$K$4*(1/E16*$O$4)*F16*G16 -> 77.175 | M16: =H16*$K$5*(1/E16*$O$5)*F16*G16 -> 130.42575 | N16: =H16*$K$6*(1/E16*$O$6)*F16*G16 -> 187.81308 | P16: =J16/F16 -> 8.75 | Q16: =K16/F16 -> 19.6875 | R16: =L16/F16 -> 38.5875 | S16: =M16/F16 -> 65.212875 | T16: =N16/F16 -> 93.90654
A17: 103 | B17: 悟净 | C17: 紫 | D17: 棍 | E17: 1 | F17: 3 | G17: 1 | H17: 11 | I17: =ROUND((INDEX($F$2:$F$4,MATCH(C17,$E$2:$E$4,0)))*(INDEX($D$2:$D$5,MATCH(D17,$B$2:$B$5,0)))*$I$2/(E17*F17*G17*10),1) -> 11.3 | J17: =H17*$K$2*(1/E17*$O$2)*F17*G17 -> 33 | K17: =H17*$K$3*(1/E17*$O$3)*F17*G17 -> 74.25 | L17: =H17*$K$4*(1/E17*$O$4)*F17*G17 -> 145.53 | M17: =H17*$K$5*(1/E17*$O$5)*F17*G17 -> 245.9457 | N17: =H17*$K$6*(1/E17*$O$6)*F17*G17 -> 354.16181 | P17: =J17/F17 -> 11 | Q17: =K17/F17 -> 24.75 | R17: =L17/F17 -> 48.51 | S17: =M17/F17 -> 81.9819 | T17: =N17/F17 -> 118.05394
A18: 104 | B18: 哪吒 | C18: 橙 | D18: 枪 | E18: 1 | F18: 2 | G18: 1 | H18: 8 | I18: =ROUND((INDEX($F$2:$F$4,MATCH(C18,$E$2:$E$4,0)))*(INDEX($D$2:$D$5,MATCH(D18,$B$2:$B$5,0)))*$I$2/(E18*F18*G18*10),1) -> 22.5 | J18: =H18*$K$2*(1/E18*$O$2)*F18*G18 -> 16 | K18: =H18*$K$3*(1/E18*$O$3)*F18*G18 -> 36 | L18: =H18*$K$4*(1/E18*$O$4)*F18*G18 -> 70.56 | M18: =H18*$K$5*(1/E18*$O$5)*F18*G18 -> 119.2464 | N18: =H18*$K$6*(1/E18*$O$6)*F18*G18 -> 171.71482 | P18: =J18/F18 -> 8 | Q18: =K18/F18 -> 18 | R18: =L18/F18 -> 35.28 | S18: =M18/F18 -> 59.6232 | T18: =N18/F18 -> 85.857408
A19: 105 | B19: 金吒 | C19: 紫 | D19: 刀 | E19: 0.8 | F19: 1 | G19: 1 | H19: 7 | I19: =ROUND((INDEX($F$2:$F$4,MATCH(C19,$E$2:$E$4,0)))*(INDEX($D$2:$D$5,MATCH(D19,$B$2:$B$5,0)))*$I$2/(E19*F19*G19*10),1) -> 18.8 | J19: =H19*$K$2*(1/E19*$O$2)*F19*G19 -> 8.75 | K19: =H19*$K$3*(1/E19*$O$3)*F19*G19 -> 19.6875 | L19: =H19*$K$4*(1/E19*$O$4)*F19*G19 -> 38.5875 | M19: =H19*$K$5*(1/E19*$O$5)*F19*G19 -> 65.212875 | N19: =H19*$K$6*(1/E19*$O$6)*F19*G19 -> 93.90654 | P19: =J19/F19 -> 8.75 | Q19: =K19/F19 -> 19.6875 | R19: =L19/F19 -> 38.5875 | S19: =M19/F19 -> 65.212875 | T19: =N19/F19 -> 93.90654
A20: 106 | B20: 木吒 | C20: 紫 | D20: 枪 | E20: 1 | F20: 2 | G20: 1 | H20: 11 | I20: =ROUND((INDEX($F$2:$F$4,MATCH(C20,$E$2:$E$4,0)))*(INDEX($D$2:$D$5,MATCH(D20,$B$2:$B$5,0)))*$I$2/(E20*F20*G20*10),1) -> 11.3 | J20: =H20*$K$2*(1/E20*$O$2)*F20*G20 -> 22 | K20: =H20*$K$3*(1/E20*$O$3)*F20*G20 -> 49.5 | L20: =H20*$K$4*(1/E20*$O$4)*F20*G20 -> 97.02 | M20: =H20*$K$5*(1/E20*$O$5)*F20*G20 -> 163.9638 | N20: =H20*$K$6*(1/E20*$O$6)*F20*G20 -> 236.10787 | P20: =J20/F20 -> 11 | Q20: =K20/F20 -> 24.75 | R20: =L20/F20 -> 48.51 | S20: =M20/F20 -> 81.9819 | T20: =N20/F20 -> 118.05394
A21: 107 | B21: 杨戬 | C21: 橙 | D21: 枪 | E21: 1 | F21: 2 | G21: 1 | H21: 10 | I21: =ROUND((INDEX($F$2:$F$4,MATCH(C21,$E$2:$E$4,0)))*(INDEX($D$2:$D$5,MATCH(D21,$B$2:$B$5,0)))*$I$2/(E21*F21*G21*10),1) -> 22.5 | J21: =H21*$K$2*(1/E21*$O$2)*F21*G21 -> 20 | K21: =H21*$K$3*(1/E21*$O$3)*F21*G21 -> 45 | L21: =H21*$K$4*(1/E21*$O$4)*F21*G21 -> 88.2 | M21: =H21*$K$5*(1/E21*$O$5)*F21*G21 -> 149.058 | N21: =H21*$K$6*(1/E21*$O$6)*F21*G21 -> 214.64352 | P21: =J21/F21 -> 10 | Q21: =K21/F21 -> 22.5 | R21: =L21/F21 -> 44.1 | S21: =M21/F21 -> 74.529 | T21: =N21/F21 -> 107.32176
A22: 108 | B22: 王母 | C22: 橙 | D22: 弓 | E22: 0.8 | F22: 1 | G22: 1 | H22: 11 | I22: =ROUND((INDEX($F$2:$F$4,MATCH(C22,$E$2:$E$4,0)))*(INDEX($D$2:$D$5,MATCH(D22,$B$2:$B$5,0)))*$I$2/(E22*F22*G22*10),1) -> 26.3 | J22: =H22*$K$2*(1/E22*$O$2)*F22*G22 -> 13.75 | K22: =H22*$K$3*(1/E22*$O$3)*F22*G22 -> 30.9375 | L22: =H22*$K$4*(1/E22*$O$4)*F22*G22 -> 60.6375 | M22: =H22*$K$5*(1/E22*$O$5)*F22*G22 -> 102.47737 | N22: =H22*$K$6*(1/E22*$O$6)*F22*G22 -> 147.56742 | P22: =J22/F22 -> 13.75 | Q22: =K22/F22 -> 30.9375 | R22: =L22/F22 -> 60.6375 | S22: =M22/F22 -> 102.47737 | T22: =N22/F22 -> 147.56742
A23: 109 | B23: 玉帝 | C23: 橙 | D23: 刀 | E23: 0.8 | F23: 2 | G23: 1 | H23: 16 | I23: =ROUND((INDEX($F$2:$F$4,MATCH(C23,$E$2:$E$4,0)))*(INDEX($D$2:$D$5,MATCH(D23,$B$2:$B$5,0)))*$I$2/(E23*F23*G23*10),1) -> 18.8 | J23: =H23*$K$2*(1/E23*$O$2)*F23*G23 -> 40 | K23: =H23*$K$3*(1/E23*$O$3)*F23*G23 -> 90 | L23: =H23*$K$4*(1/E23*$O$4)*F23*G23 -> 176.4 | M23: =H23*$K$5*(1/E23*$O$5)*F23*G23 -> 298.116 | N23: =H23*$K$6*(1/E23*$O$6)*F23*G23 -> 429.28704 | P23: =J23/F23 -> 20 | Q23: =K23/F23 -> 45 | R23: =L23/F23 -> 88.2 | S23: =M23/F23 -> 149.058 | T23: =N23/F23 -> 214.64352
A24: 110 | B24: 阎王 | C24: 紫 | D24: 刀 | E24: 0.8 | F24: 1 | G24: 1 | H24: 11 | I24: =ROUND((INDEX($F$2:$F$4,MATCH(C24,$E$2:$E$4,0)))*(INDEX($D$2:$D$5,MATCH(D24,$B$2:$B$5,0)))*$I$2/(E24*F24*G24*10),1) -> 18.8 | J24: =H24*$K$2*(1/E24*$O$2)*F24*G24 -> 13.75 | K24: =H24*$K$3*(1/E24*$O$3)*F24*G24 -> 30.9375 | L24: =H24*$K$4*(1/E24*$O$4)*F24*G24 -> 60.6375 | M24: =H24*$K$5*(1/E24*$O$5)*F24*G24 -> 102.47737 | N24: =H24*$K$6*(1/E24*$O$6)*F24*G24 -> 147.56742 | P24: =J24/F24 -> 13.75 | Q24: =K24/F24 -> 30.9375 | R24: =L24/F24 -> 60.6375 | S24: =M24/F24 -> 102.47737 | T24: =N24/F24 -> 147.56742
A25: 111 | B25: 嫦娥 | C25: 紫 | D25: 弓 | E25: 0.8 | F25: 1 | G25: 1 | H25: 11 | I25: =ROUND((INDEX($F$2:$F$4,MATCH(C25,$E$2:$E$4,0)))*(INDEX($D$2:$D$5,MATCH(D25,$B$2:$B$5,0)))*$I$2/(E25*F25*G25*10),1) -> 13.1 | J25: =H25*$K$2*(1/E25*$O$2)*F25*G25 -> 13.75 | K25: =H25*$K$3*(1/E25*$O$3)*F25*G25 -> 30.9375 | L25: =H25*$K$4*(1/E25*$O$4)*F25*G25 -> 60.6375 | M25: =H25*$K$5*(1/E25*$O$5)*F25*G25 -> 102.47737 | N25: =H25*$K$6*(1/E25*$O$6)*F25*G25 -> 147.56742 | P25: =J25/F25 -> 13.75 | Q25: =K25/F25 -> 30.9375 | R25: =L25/F25 -> 60.6375 | S25: =M25/F25 -> 102.47737 | T25: =N25/F25 -> 147.56742
A26: 112 | B26: 李靖 | C26: 橙 | D26: 刀 | E26: 0.8 | F26: 1 | G26: 1 | H26: 27 | I26: =ROUND((INDEX($F$2:$F$4,MATCH(C26,$E$2:$E$4,0)))*(INDEX($D$2:$D$5,MATCH(D26,$B$2:$B$5,0)))*$I$2/(E26*F26*G26*10),1) -> 37.5 | J26: =H26*$K$2*(1/E26*$O$2)*F26*G26 -> 33.75 | K26: =H26*$K$3*(1/E26*$O$3)*F26*G26 -> 75.9375 | L26: =H26*$K$4*(1/E26*$O$4)*F26*G26 -> 148.8375 | M26: =H26*$K$5*(1/E26*$O$5)*F26*G26 -> 251.53537 | N26: =H26*$K$6*(1/E26*$O$6)*F26*G26 -> 362.21094 | P26: =J26/F26 -> 33.75 | Q26: =K26/F26 -> 75.9375 | R26: =L26/F26 -> 148.8375 | S26: =M26/F26 -> 251.53537 | T26: =N26/F26 -> 362.21094
A29: 技能 | G29: 间隔次数 | H29: 基础值
A30: 品质 | B30: 系数 | D30: 技能类型 | G30: 15 | H30: 4
A31: 白 | B31: 1 | D31: 单体伤害 | E31: 1
A32: 紫 | B32: 1.5 | D32: 范围伤害 | E32: 1.5
A33: 橙 | B33: 3 | D33: 控制 | E33: 0.8
D34: 加成 | E34: 0.5
A37: id | B37: 名称 | C37: 品质 | D37: 类型 | E37: cd | F37: 预计攻击数量 | G37: 伤害段数 | H37: 伤害系数 | I37: 单将强度 | J37: 专属强度
A38: 1 | B38: 刀 | C38: 白 | D38: 单体伤害 | E38: =E10*$G$30 -> 12 | F38: 1 | G38: 1 | H38: =$H$30*INDEX($E$31:$E$34,MATCH(D38,$D$31:$D$34,0))*(INDEX($B$31:$B$33,MATCH(C38,$A$31:$A$33,0))/G38/F38) -> 4
A39: 2 | B39: 枪 | C39: 白 | D39: 范围伤害 | E39: =E11*$G$30 -> 12 | F39: 2 | G39: 1 | H39: =$H$30*INDEX($E$31:$E$34,MATCH(D39,$D$31:$D$34,0))*(INDEX($B$31:$B$33,MATCH(C39,$A$31:$A$33,0))/G39/F39) -> 3
A40: 3 | B40: 棍 | C40: 白 | D40: 范围伤害 | E40: =E12*$G$30 -> 12 | F40: 3 | G40: 1 | H40: =$H$30*INDEX($E$31:$E$34,MATCH(D40,$D$31:$D$34,0))*(INDEX($B$31:$B$33,MATCH(C40,$A$31:$A$33,0))/G40/F40) -> 2
A41: 4 | B41: 弓 | C41: 白 | D41: 单体伤害 | E41: =E13*$G$30 -> 12 | F41: 1 | G41: 1 | H41: =$H$30*INDEX($E$31:$E$34,MATCH(D41,$D$31:$D$34,0))*(INDEX($B$31:$B$33,MATCH(C41,$A$31:$A$33,0))/G41/F41) -> 4
A42: 101 | B42: 悟空 | C42: 橙 | D42: 控制 | E42: =E15*$G$30 -> 15 | F42: 3 | G42: 5 | H42: =$H$30*INDEX($E$31:$E$34,MATCH(D42,$D$31:$D$34,0))*(INDEX($B$31:$B$33,MATCH(C42,$A$31:$A$33,0))/G42/F42) -> 0.64 | I42: 15 | J42: 15
A43: 102 | B43: 悟能 | C43: 紫 | D43: 加成 | E43: =E16*$G$30 -> 12 | F43: 2 | G43: 1 | H43: =$H$30*INDEX($E$31:$E$34,MATCH(D43,$D$31:$D$34,0))*(INDEX($B$31:$B$33,MATCH(C43,$A$31:$A$33,0))/G43/F43) -> 1.5 | I43: 8
A44: 103 | B44: 悟净 | C44: 紫 | D44: 加成 | E44: =E17*$G$30 -> 15 | F44: 3 | G44: 1 | H44: =$H$30*INDEX($E$31:$E$34,MATCH(D44,$D$31:$D$34,0))*(INDEX($B$31:$B$33,MATCH(C44,$A$31:$A$33,0))/G44/F44) -> 1 | I44: 9 | J44: 11
A45: 104 | B45: 哪吒 | C45: 橙 | D45: 控制 | E45: =E18*$G$30 -> 15 | F45: 5 | G45: 1 | H45: =$H$30*INDEX($E$31:$E$34,MATCH(D45,$D$31:$D$34,0))*(INDEX($B$31:$B$33,MATCH(C45,$A$31:$A$33,0))/G45/F45) -> 1.92 | I45: 11 | J45: 13
A46: 105 | B46: 金吒 | C46: 紫 | D46: 范围伤害 | E46: =E19*$G$30 -> 12 | F46: 2 | G46: 3 | H46: =$H$30*INDEX($E$31:$E$34,MATCH(D46,$D$31:$D$34,0))*(INDEX($B$31:$B$33,MATCH(C46,$A$31:$A$33,0))/G46/F46) -> 1.5 | I46: 10 | J46: 10
A47: 106 | B47: 木吒 | C47: 紫 | D47: 控制 | E47: =E20*$G$30 -> 15 | F47: 2 | G47: 1 | H47: =$H$30*INDEX($E$31:$E$34,MATCH(D47,$D$31:$D$34,0))*(INDEX($B$31:$B$33,MATCH(C47,$A$31:$A$33,0))/G47/F47) -> 2.4 | I47: 7 | J47: 11
A48: 107 | B48: 杨戬 | C48: 橙 | D48: 加成 | E48: =E21*$G$30 -> 15 | F48: 2 | G48: 1 | H48: =$H$30*INDEX($E$31:$E$34,MATCH(D48,$D$31:$D$34,0))*(INDEX($B$31:$B$33,MATCH(C48,$A$31:$A$33,0))/G48/F48) -> 3 | I48: 9 | J48: >12
A49: 108 | B49: 王母 | C49: 橙 | D49: 范围伤害 | E49: =E22*$G$30 -> 12 | F49: 6 | G49: 2 | H49: =$H$30*INDEX($E$31:$E$34,MATCH(D49,$D$31:$D$34,0))*(INDEX($B$31:$B$33,MATCH(C49,$A$31:$A$33,0))/G49/F49) -> 1.5 | I49: 15
A50: 109 | B50: 玉帝 | C50: 橙 | D50: 加成 | E50: =E23*$G$30 -> 12 | F50: 3 | G50: 1 | H50: =$H$30*INDEX($E$31:$E$34,MATCH(D50,$D$31:$D$34,0))*(INDEX($B$31:$B$33,MATCH(C50,$A$31:$A$33,0))/G50/F50) -> 2 | I50: 9 | J50: 12
A51: 110 | B51: 阎王 | C51: 紫 | D51: 范围伤害 | E51: =E24*$G$30 -> 12 | F51: 6 | G51: 1 | H51: =$H$30*INDEX($E$31:$E$34,MATCH(D51,$D$31:$D$34,0))*(INDEX($B$31:$B$33,MATCH(C51,$A$31:$A$33,0))/G51/F51) -> 1.5
A52: 111 | B52: 嫦娥 | C52: 紫 | D52: 范围伤害 | E52: =E25*$G$30 -> 12 | F52: 6 | G52: 1 | H52: =$H$30*INDEX($E$31:$E$34,MATCH(D52,$D$31:$D$34,0))*(INDEX($B$31:$B$33,MATCH(C52,$A$31:$A$33,0))/G52/F52) -> 1.5
A53: 112 | B53: 李靖 | C53: 橙 | D53: 控制 | E53: =E26*$G$30 -> 12 | F53: 3 | G53: 1 | H53: =$H$30*INDEX($E$31:$E$34,MATCH(D53,$D$31:$D$34,0))*(INDEX($B$31:$B$33,MATCH(C53,$A$31:$A$33,0))/G53/F53) -> 3.2
A55: 装备 | G55: 间隔次数 | H55: 基础值
A56: 品质 | B56: 系数 | D56: 类型 | E56: 系数 | G56: 14 | H56: 3
A57: 绿 | B57: 1 | C57: 2 | D57: 单体伤害 | E57: 1 | I57: =H56*B60 -> 8.19
A58: 蓝 | B58: 1.5 | C58: 3 | D58: 范围伤害 | E58: 1.5
A59: 紫 | B59: =B58*1.4 -> 2.1 | C59: 4 | D59: 控制 | E59: 0.8
A60: 橙 | B60: =B59*1.3 -> 2.73 | C60: 5 | D60: 加成 | E60: 0.5
A64: 装备 | B64: 描述 | C64: 类型 | D64: 伤害类型 | E64: cd | F64: 预计攻击数量 | G64: 概率 | H64: 伤害段数 | I64: 伤害系数 | J64: 品质
A65: 青锋宝剑 | B65: 施展法相天地后虚弱一段时间 | C65: 刀 | D65: 加成 | E65: =$G$56*0.8 -> 11.2 | I65: =IF(F65="","",(INDEX($E$57:$E$60,MATCH(D65,$D$57:$D$60,0)))*(INDEX($B$57:$B$60,MATCH(J65,$A$57:$A$60,0)))*$H$56/G65/H65/F65) | J65: 蓝
A66: 七星宝剑 | B66: 造成伤害概率触发诛仙剑阵 | C66: 刀 | D66: 范围伤害 | E66: =$G$56*0.8 -> 11.2 | F66: 2 | G66: 0.15 | H66: 15 | I66: =IF(F66="","",(INDEX($E$57:$E$60,MATCH(D66,$D$57:$D$60,0)))*(INDEX($B$57:$B$60,MATCH(J66,$A$57:$A$60,0)))*$H$56/G66/H66/F66/10) -> 0.15 | J66: 蓝
A67: 斩妖剑 | B67: 释放法相天地，结束后虚弱一段时间 | C67: 刀 | D67: 加成 | E67: =$G$56*0.8 -> 11.2 | I67: =IF(F67="","",(INDEX($E$57:$E$60,MATCH(D67,$D$57:$D$60,0)))*(INDEX($B$57:$B$60,MATCH(J67,$A$57:$A$60,0)))*$H$56/G67/H67/F67) | J67: 蓝
A68: 诛仙剑 | B68: 造成伤害概率触发诛仙剑阵 | C68: 刀 | D68: 范围伤害 | E68: =$G$56*0.8 -> 11.2 | F68: 2 | G68: 0.2 | H68: 15 | I68: =IF(F68="","",(INDEX($E$57:$E$60,MATCH(D68,$D$57:$D$60,0)))*(INDEX($B$57:$B$60,MATCH(J68,$A$57:$A$60,0)))*$H$56/G68/H68/F68/10) -> 0.1575 | J68: 紫
A69: 银枪 | B69: 造成伤害一定几率提升20%攻速 | C69: 枪 | D69: 加成 | E69: =$G$56*0.8 -> 11.2 | I69: =IF(F69="","",(INDEX($E$57:$E$60,MATCH(D69,$D$57:$D$60,0)))*(INDEX($B$57:$B$60,MATCH(J69,$A$57:$A$60,0)))*$H$56/G69/H69/F69) | J69: 橙
A70: 大戟 | B70: 攻击距离+1 | C70: 枪 | D70: 加成 | E70: =$G$56*0.8 -> 11.2 | I70: =IF(F70="","",(INDEX($E$57:$E$60,MATCH(D70,$D$57:$D$60,0)))*(INDEX($B$57:$B$60,MATCH(J70,$A$57:$A$60,0)))*$H$56/G70/H70/F70) | J70: 蓝
A71: 红缨枪 | B71: 一定几率挑飞敌人，砸下后对周围造成伤害并眩晕 | C71: 枪 | D71: 控制 | E71: =$G$56*0.8 -> 11.2 | F71: 2 | G71: 0.25 | H71: 1 | I71: =IF(F71="","",(INDEX($E$57:$E$60,MATCH(D71,$D$57:$D$60,0)))*(INDEX($B$57:$B$60,MATCH(J71,$A$57:$A$60,0)))*$H$56/G71/H71/F71/10) -> 0.72 | J71: 蓝
A72: 点钢枪 | B72: 攻击同一单位提升20%攻速 | C72: 枪 | D72: 加成 | E72: =$G$56*0.8 -> 11.2 | I72: =IF(F72="","",(INDEX($E$57:$E$60,MATCH(D72,$D$57:$D$60,0)))*(INDEX($B$57:$B$60,MATCH(J72,$A$57:$A$60,0)))*$H$56/G72/H72/F72) | J72: 紫
A73: 乾坤枪 | B73: 攻击同一单位提升20%攻速 | C73: 枪 | D73: 加成 | E73: =$G$56*0.8 -> 11.2 | I73: =IF(F73="","",(INDEX($E$57:$E$60,MATCH(D73,$D$57:$D$60,0)))*(INDEX($B$57:$B$60,MATCH(J73,$A$57:$A$60,0)))*$H$56/G73/H73/F73) | J73: 橙
A74: 混铁棍 | B74: 攻击一定几率击退敌人 | C74: 棍 | D74: 加成 | E74: =$G$56*0.8 -> 11.2 | I74: =IF(F74="","",(INDEX($E$57:$E$60,MATCH(D74,$D$57:$D$60,0)))*(INDEX($B$57:$B$60,MATCH(J74,$A$57:$A$60,0)))*$H$56/G74/H74/F74) | J74: 蓝
A75: 黄金棍 | B75: 首次攻击的敌人，获得桃子 | C75: 棍 | D75: 加成 | E75: =$G$56*0.8 -> 11.2 | I75: =IF(F75="","",(INDEX($E$57:$E$60,MATCH(D75,$D$57:$D$60,0)))*(INDEX($B$57:$B$60,MATCH(J75,$A$57:$A$60,0)))*$H$56/G75/H75/F75) | J75: 蓝
A76: 镔铁棍 | B76: 攻击概率眩晕敌人 | C76: 棍 | D76: 加成 | E76: =$G$56*0.8 -> 11.2 | I76: =IF(F76="","",(INDEX($E$57:$E$60,MATCH(D76,$D$57:$D$60,0)))*(INDEX($B$57:$B$60,MATCH(J76,$A$57:$A$60,0)))*$H$56/G76/H76/F76) | J76: 紫
A77: 菩提灵棍 | B77: 攻击距离+1，击杀概率发出4道火球追踪敌人攻击 | C77: 棍 | D77: 范围伤害 | E77: =$G$56*0.8 -> 11.2 | F77: 3 | G77: 0.3 | H77: 1 | I77: =IF(F77="","",(INDEX($E$57:$E$60,MATCH(D77,$D$57:$D$60,0)))*(INDEX($B$57:$B$60,MATCH(J77,$A$57:$A$60,0)))*$H$56/G77/H77/F77/5) -> 2.73 | J77: 橙
A78: 毒弓 | B78: 给目标造成中毒效果 | C78: 弓 | D78: 单体伤害 | E78: =$G$56*0.8 -> 11.2 | F78: 1 | G78: 1 | H78: 1 | I78: =IF(F78="","",(INDEX($E$57:$E$60,MATCH(D78,$D$57:$D$60,0)))*(INDEX($B$57:$B$60,MATCH(J78,$A$57:$A$60,0)))*$H$56/G78/H78/F78) -> 3 | J78: 绿
A79: 穿云弓 | B79: 攻击距离+1 | C79: 弓 | D79: 加成 | E79: =$G$56*0.8 -> 11.2 | I79: =IF(F79="","",(INDEX($E$57:$E$60,MATCH(D79,$D$57:$D$60,0)))*(INDEX($B$57:$B$60,MATCH(J79,$A$57:$A$60,0)))*$H$56/G79/H79/F79) | J79: 蓝
A80: 龙舌弓 | B80: 造成伤害概率召唤火龙攻击 | C80: 弓 | D80: 范围伤害 | E80: =$G$56*0.8 -> 11.2 | F80: 3 | G80: 0.2 | H80: 1 | I80: =IF(F80="","",(INDEX($E$57:$E$60,MATCH(D80,$D$57:$D$60,0)))*(INDEX($B$57:$B$60,MATCH(J80,$A$57:$A$60,0)))*$H$56/G80/H80/F80/10) -> 1.125 | J80: 蓝
A81: 灵宝弓 | B81: 普通攻击改为散射，并穿透攻击 | C81: 弓 | D81: 范围伤害 | E81: =$G$56*0.8 -> 11.2 | F81: 3 | G81: 1 | H81: 1 | I81: =IF(F81="","",(INDEX($E$57:$E$60,MATCH(D81,$D$57:$D$60,0)))*(INDEX($B$57:$B$60,MATCH(J81,$A$57:$A$60,0)))*$H$56/G81/H81/F81) -> 3.15 | J81: 紫
A82: 乾坤弓 | B82: 普通攻击改为三连射，攻击敌人 | C82: 弓 | D82: 单体伤害 | E82: =$G$56*0.8 -> 11.2 | F82: 1 | G82: 1 | H82: 3 | I82: =IF(F82="","",(INDEX($E$57:$E$60,MATCH(D82,$D$57:$D$60,0)))*(INDEX($B$57:$B$60,MATCH(J82,$A$57:$A$60,0)))*$H$56/G82/H82/F82) -> 2.73 | J82: 橙
A83: 如意金箍棒 | B83: 大圣神兵，一棒砸八个 | C83: 棍 | D83: 范围伤害 | E83: =$G$56*0.8 -> 11.2 | F83: 5 | G83: 1 | H83: 1 | I83: =IF(F83="","",(INDEX($E$57:$E$60,MATCH(D83,$D$57:$D$60,0)))*(INDEX($B$57:$B$60,MATCH(J83,$A$57:$A$60,0)))*$H$56/G83/H83/F83) -> 2.457 | J83: 橙
A84: 九齿钉耙 | B84: 老猪的耙子，概率击退 | C84: 棍 | D84: 加成 | E84: =$G$56*0.8 -> 11.2 | I84: =IF(F84="","",(INDEX($E$57:$E$60,MATCH(D84,$D$57:$D$60,0)))*(INDEX($B$57:$B$60,MATCH(J84,$A$57:$A$60,0)))*$H$56/G84/H84/F84) | J84: 紫
A85: 降妖宝杖 | B85: 沙僧的家伙，概率眩晕 | C85: 给i吗 | D85: 加成 | E85: =$G$56*0.8 -> 11.2 | I85: =IF(F85="","",(INDEX($E$57:$E$60,MATCH(D85,$D$57:$D$60,0)))*(INDEX($B$57:$B$60,MATCH(J85,$A$57:$A$60,0)))*$H$56/G85/H85/F85) | J85: 紫
A86: 火尖枪 | B86: 攻击距离+1，击杀概率发出4道火球追踪敌人攻击 | C86: 枪 | D86: 范围伤害 | E86: =$G$56*0.8 -> 11.2 | F86: 3 | G86: 0.2 | H86: 1 | I86: =IF(F86="","",(INDEX($E$57:$E$60,MATCH(D86,$D$57:$D$60,0)))*(INDEX($B$57:$B$60,MATCH(J86,$A$57:$A$60,0)))*$H$56/G86/H86/F86/10) -> 1.575 | J86: 紫
A87: 奔雷神枪 | B87: 攻击同一单位提升攻速 | C87: 枪 | D87: 加成 | E87: =$G$56*0.8 -> 11.2 | I87: =IF(F87="","",(INDEX($E$57:$E$60,MATCH(D87,$D$57:$D$60,0)))*(INDEX($B$57:$B$60,MATCH(J87,$A$57:$A$60,0)))*$H$56/G87/H87/F87) | J87: 紫
A88: 三尖两面刀 | B88: 造成伤害，概率召唤雷电，蔓延攻击 | C88: 枪 | D88: 范围伤害 | E88: =$G$56*0.8 -> 11.2 | F88: 5 | G88: 0.2 | H88: 1 | I88: =IF(F88="","",(INDEX($E$57:$E$60,MATCH(D88,$D$57:$D$60,0)))*(INDEX($B$57:$B$60,MATCH(J88,$A$57:$A$60,0)))*$H$56/G88/H88/F88/10) -> 1.2285 | J88: 橙
A89: 轩辕剑 | B89: 每攻击10次，释放3道剑气攻击 | C89: 刀 | D89: 范围伤害 | E89: =$G$56*0.8 -> 11.2 | F89: 4 | G89: 1 | H89: 3 | I89: =IF(F89="","",(INDEX($E$57:$E$60,MATCH(D89,$D$57:$D$60,0)))*(INDEX($B$57:$B$60,MATCH(J89,$A$57:$A$60,0)))*$H$56/G89/H89/F89) -> 1.02375 | J89: 橙
A90: 莫邪 | B90: 释放法相天地，结束后虚弱一段时间 | C90: 刀 | D90: 加成 | E90: =$G$56*0.8 -> 11.2 | I90: =IF(F90="","",(INDEX($E$57:$E$60,MATCH(D90,$D$57:$D$60,0)))*(INDEX($B$57:$B$60,MATCH(J90,$A$57:$A$60,0)))*$H$56/G90/H90/F90) | J90: 紫
A91: 玲珑宝塔 | B91: 玲珑宝塔，镇压敌人 | C91: 刀 | D91: 范围伤害 | E91: =$G$56*0.8 -> 11.2 | F91: 3 | G91: 1 | H91: 1 | I91: =IF(F91="","",(INDEX($E$57:$E$60,MATCH(D91,$D$57:$D$60,0)))*(INDEX($B$57:$B$60,MATCH(J91,$A$57:$A$60,0)))*$H$56/G91/H91/F91) -> 4.095 | J91: 橙
A92: 吴钩双剑 | B92: 每攻击10次，释放3道剑气攻击 | C92: 刀 | D92: 范围伤害 | E92: =$G$56*0.8 -> 11.2 | F92: 4 | G92: 1 | H92: 3 | I92: =IF(F92="","",(INDEX($E$57:$E$60,MATCH(D92,$D$57:$D$60,0)))*(INDEX($B$57:$B$60,MATCH(J92,$A$57:$A$60,0)))*$H$56/G92/H92/F92) -> 0.7875 | J92: 紫
A93: 震天弓 | B93: 攻击距离翻倍，距离越远，伤害越高 | C93: 弓 | D93: 范围伤害 | E93: =$G$56*0.8 -> 11.2 | F93: 2 | G93: 1 | H93: 1 | I93: =IF(F93="","",(INDEX($E$57:$E$60,MATCH(D93,$D$57:$D$60,0)))*(INDEX($B$57:$B$60,MATCH(J93,$A$57:$A$60,0)))*$H$56/G93/H93/F93) -> 6.1425 | J93: 橙
A94: 射日弓 | B94: 普通攻击改为三连射，攻击敌人 | C94: 弓 | D94: 单体伤害 | E94: =$G$56*0.8 -> 11.2 | F94: 1 | G94: 1 | H94: 3 | I94: =IF(F94="","",(INDEX($E$57:$E$60,MATCH(D94,$D$57:$D$60,0)))*(INDEX($B$57:$B$60,MATCH(J94,$A$57:$A$60,0)))*$H$56/G94/H94/F94) -> 2.1 | J94: 紫

Sheet 文字概率
B1: 铲子 | C1: 刀 | D1: 枪 | E1: 棍 | F1: 弓 | G1: 悟 | H1: 空 | I1: 能 | J1: 净 | K1: 哪 | L1: 金 | M1: 木 | N1: 吒 | O1: 杨 | P1: 戬 | Q1: 王 | R1: 母 | S1: 阎 | T1: 玉 | U1: 帝 | V1: 嫦 | W1: 娥 | X1: 李 | Y1: 靖
A2: 1 | B2: =($F$49*$G$49)/SUMPRODUCT($F$26:$F$49,$G$26:$G$49) -> 0.086956522 | C2: =(F26*G26)/SUMPRODUCT($F$26:$F$49,$G$26:$G$49) -> 0.18306636 | D2: =(F27*G27)/SUMPRODUCT($F$26:$F$49,$G$26:$G$49) -> 0.16590389 | E2: =(F28*G28)/SUMPRODUCT($F$26:$F$49,$G$26:$G$49) -> 0.16018307 | F2: =(F29*G29)/SUMPRODUCT($F$26:$F$49,$G$26:$G$49) -> 0.17734554 | G2: =(F30*G30)/SUMPRODUCT($F$26:$F$49,$G$26:$G$49) -> 0.020594966 | H2: =(F31*G31)/SUMPRODUCT($F$26:$F$49,$G$26:$G$49) -> 0.0091533181 | I2: =(F32*G32)/SUMPRODUCT($F$26:$F$49,$G$26:$G$49) -> 0.0091533181 | J2: =(F33*G33)/SUMPRODUCT($F$26:$F$49,$G$26:$G$49) -> 0.0091533181 | K2: =(F34*G34)/SUMPRODUCT($F$26:$F$49,$G$26:$G$49) -> 0.018306636 | L2: =(F35*G35)/SUMPRODUCT($F$26:$F$49,$G$26:$G$49) -> 0.0091533181 | M2: =(F36*G36)/SUMPRODUCT($F$26:$F$49,$G$26:$G$49) -> 0.0091533181 | N2: =(F37*G37)/SUMPRODUCT($F$26:$F$49,$G$26:$G$49) -> 0.020594966 | O2: =(F38*G38)/SUMPRODUCT($F$26:$F$49,$G$26:$G$49) -> 0.018306636 | P2: =(F39*G39)/SUMPRODUCT($F$26:$F$49,$G$26:$G$49) -> 0.0091533181 | Q2: =(F40*G40)/SUMPRODUCT($F$26:$F$49,$G$26:$G$49) -> 0.020594966 | R2: =(F41*G41)/SUMPRODUCT($F$26:$F$49,$G$26:$G$49) -> 0.0091533181 | S2: =(F42*G42)/SUMPRODUCT($F$26:$F$49,$G$26:$G$49) -> 0.0091533181 | T2: =(F43*G43)/SUMPRODUCT($F$26:$F$49,$G$26:$G$49) -> 0.0091533181 | U2: =(F44*G44)/SUMPRODUCT($F$26:$F$49,$G$26:$G$49) -> 0.0091533181 | V2: =(F45*G45)/SUMPRODUCT($F$26:$F$49,$G$26:$G$49) -> 0.0091533181 | W2: =(F46*G46)/SUMPRODUCT($F$26:$F$49,$G$26:$G$49) -> 0.0091533181 | X2: =(F47*G47)/SUMPRODUCT($F$26:$F$49,$G$26:$G$49) -> 0.0091533181 | Y2: =(F48*G48)/SUMPRODUCT($F$26:$F$49,$G$26:$G$49) -> 0.0091533181
A3: 2 | B3: =($F$49*$H$49)/SUMPRODUCT($F$26:$F$49,$H$26:$H$49) -> 0.063985375 | C3: =($F$26*$H$26)/SUMPRODUCT($F$26:$F$49,$H$26:$H$49) -> 0.20109689 | D3: =($F$27*$H$27)/SUMPRODUCT($F$26:$F$49,$H$26:$H$49) -> 0.19195612 | E3: =($F$28*$H$28)/SUMPRODUCT($F$26:$F$49,$H$26:$H$49) -> 0.17367459 | F3: =($F$29*$H$29)/SUMPRODUCT($F$26:$F$49,$H$26:$H$49) -> 0.18281536 | G3: =($F$30*$H$30)/SUMPRODUCT($F$26:$F$49,$H$26:$H$49) -> 0.008226691 | H3: =($F$31*$H$31)/SUMPRODUCT($F$26:$F$49,$H$26:$H$49) -> 0.014625229 | I3: =($F$49*$H$49)/SUMPRODUCT($F$26:$F$49,$H$26:$H$49) -> 0.063985375 | J3: =($F$49*$H$49)/SUMPRODUCT($F$26:$F$49,$H$26:$H$49) -> 0.063985375 | K3: =($F$49*$H$49)/SUMPRODUCT($F$26:$F$49,$H$26:$H$49) -> 0.063985375 | L3: =($F$49*$H$49)/SUMPRODUCT($F$26:$F$49,$H$26:$H$49) -> 0.063985375 | M3: =($F$49*$H$49)/SUMPRODUCT($F$26:$F$49,$H$26:$H$49) -> 0.063985375 | N3: =($F$49*$H$49)/SUMPRODUCT($F$26:$F$49,$H$26:$H$49) -> 0.063985375 | O3: =($F$49*$H$49)/SUMPRODUCT($F$26:$F$49,$H$26:$H$49) -> 0.063985375 | P3: =($F$49*$H$49)/SUMPRODUCT($F$26:$F$49,$H$26:$H$49) -> 0.063985375 | ... Y3: =($F$49*$H$49)/SUMPRODUCT($F$26:$F$49,$H$26:$H$49) -> 0.063985375
A4: 3 | B4: =($F$49*$I$49)/SUMPRODUCT($F$26:$F$49,$I$26:$I$49) -> 0.064575646 | C4: =($F$26*$I$26)/SUMPRODUCT($F$26:$F$49,$I$26:$I$49) -> 0.20295203 | D4: =($F$27*$I$27)/SUMPRODUCT($F$26:$F$49,$I$26:$I$49) -> 0.19188192 | E4: =($F$28*$I$28)/SUMPRODUCT($F$26:$F$49,$I$26:$I$49) -> 0.1697417 | F4: =($F$29*$I$29)/SUMPRODUCT($F$26:$F$49,$I$26:$I$49) -> 0.18081181 | G4: =($F$30*$I$30)/SUMPRODUCT($F$26:$F$49,$I$26:$I$49) -> 0.016605166 | H4: =($F$49*$I$49)/SUMPRODUCT($F$26:$F$49,$I$26:$I$49) -> 0.064575646 | I4: =($F$49*$I$49)/SUMPRODUCT($F$26:$F$49,$I$26:$I$49) -> 0.064575646 | J4: =($F$49*$I$49)/SUMPRODUCT($F$26:$F$49,$I$26:$I$49) -> 0.064575646 | K4: =($F$49*$I$49)/SUMPRODUCT($F$26:$F$49,$I$26:$I$49) -> 0.064575646 | L4: =($F$49*$I$49)/SUMPRODUCT($F$26:$F$49,$I$26:$I$49) -> 0.064575646 | M4: =($F$49*$I$49)/SUMPRODUCT($F$26:$F$49,$I$26:$I$49) -> 0.064575646 | N4: =($F$49*$I$49)/SUMPRODUCT($F$26:$F$49,$I$26:$I$49) -> 0.064575646 | O4: =($F$49*$I$49)/SUMPRODUCT($F$26:$F$49,$I$26:$I$49) -> 0.064575646 | ... Y4: =($F$49*$I$49)/SUMPRODUCT($F$26:$F$49,$I$26:$I$49) -> 0.064575646
A5: 4 | B5: =($F$49*$J$49)/SUMPRODUCT($F$26:$F$49,$J$26:$J$49) -> 0.064695009 | C5: =($F$26*$J$26)/SUMPRODUCT($F$26:$F$49,$J$26:$J$49) -> 0.20332717 | D5: =($F$27*$J$27)/SUMPRODUCT($F$26:$F$49,$J$26:$J$49) -> 0.1922366 | E5: =($F$28*$J$28)/SUMPRODUCT($F$26:$F$49,$J$26:$J$49) -> 0.17005545 | F5: =($F$29*$J$29)/SUMPRODUCT($F$26:$F$49,$J$26:$J$49) -> 0.18114603 | G5: =($F$30*$J$30)/SUMPRODUCT($F$26:$F$49,$J$26:$J$49) -> 0.01663586 | H5: =($F$49*$J$49)/SUMPRODUCT($F$26:$F$49,$J$26:$J$49) -> 0.064695009 | I5: =($F$49*$J$49)/SUMPRODUCT($F$26:$F$49,$J$26:$J$49) -> 0.064695009 | J5: =($F$49*$J$49)/SUMPRODUCT($F$26:$F$49,$J$26:$J$49) -> 0.064695009 | K5: =($F$49*$J$49)/SUMPRODUCT($F$26:$F$49,$J$26:$J$49) -> 0.064695009 | L5: =($F$49*$J$49)/SUMPRODUCT($F$26:$F$49,$J$26:$J$49) -> 0.064695009 | M5: =($F$49*$J$49)/SUMPRODUCT($F$26:$F$49,$J$26:$J$49) -> 0.064695009 | N5: =($F$49*$J$49)/SUMPRODUCT($F$26:$F$49,$J$26:$J$49) -> 0.064695009 | O5: =($F$49*$J$49)/SUMPRODUCT($F$26:$F$49,$J$26:$J$49) -> 0.064695009 | ... Y5: =($F$49*$J$49)/SUMPRODUCT($F$26:$F$49,$J$26:$J$49) -> 0.064695009
A6: 5 | B6: =($F$49*$K$49)/SUMPRODUCT($F$26:$F$49,$K$26:$K$49) -> 0.064695009 | C6: =($F$26*$K$26)/SUMPRODUCT($F$26:$F$49,$K$26:$K$49) -> 0.20332717 | D6: =($F$27*$K$27)/SUMPRODUCT($F$26:$F$49,$K$26:$K$49) -> 0.1922366 | E6: =($F$28*$K$28)/SUMPRODUCT($F$26:$F$49,$K$26:$K$49) -> 0.17005545 | F6: =($F$29*$K$29)/SUMPRODUCT($F$26:$F$49,$K$26:$K$49) -> 0.18114603 | G6: =($F$30*$K$30)/SUMPRODUCT($F$26:$F$49,$K$26:$K$49) -> 0.0083179298 | H6: =($F$49*$K$49)/SUMPRODUCT($F$26:$F$49,$K$26:$K$49) -> 0.064695009 | I6: =($F$49*$K$49)/SUMPRODUCT($F$26:$F$49,$K$26:$K$49) -> 0.064695009 | J6: =($F$49*$K$49)/SUMPRODUCT($F$26:$F$49,$K$26:$K$49) -> 0.064695009 | K6: =($F$49*$K$49)/SUMPRODUCT($F$26:$F$49,$K$26:$K$49) -> 0.064695009 | L6: =($F$49*$K$49)/SUMPRODUCT($F$26:$F$49,$K$26:$K$49) -> 0.064695009 | M6: =($F$49*$K$49)/SUMPRODUCT($F$26:$F$49,$K$26:$K$49) -> 0.064695009 | N6: =($F$49*$K$49)/SUMPRODUCT($F$26:$F$49,$K$26:$K$49) -> 0.064695009 | O6: =($F$49*$K$49)/SUMPRODUCT($F$26:$F$49,$K$26:$K$49) -> 0.064695009 | ... Y6: =($F$49*$K$49)/SUMPRODUCT($F$26:$F$49,$K$26:$K$49) -> 0.064695009
A7: 6 | B7: =($F$49*$L$49)/SUMPRODUCT($F$26:$F$49,$L$26:$L$49) -> 0.064635272 | C7: =($F$26*$L$26)/SUMPRODUCT($F$26:$F$49,$L$26:$L$49) -> 0.20313943 | D7: =($F$27*$L$27)/SUMPRODUCT($F$26:$F$49,$L$26:$L$49) -> 0.1920591 | E7: =($F$28*$L$28)/SUMPRODUCT($F$26:$F$49,$L$26:$L$49) -> 0.16989843 | F7: =($F$29*$L$29)/SUMPRODUCT($F$26:$F$49,$L$26:$L$49) -> 0.18097876 | G7: =($F$30*$L$30)/SUMPRODUCT($F$26:$F$49,$L$26:$L$49) -> 0.016620499 | H7: =($F$49*$L$49)/SUMPRODUCT($F$26:$F$49,$L$26:$L$49) -> 0.064635272 | I7: =($F$49*$L$49)/SUMPRODUCT($F$26:$F$49,$L$26:$L$49) -> 0.064635272 | J7: =($F$49*$L$49)/SUMPRODUCT($F$26:$F$49,$L$26:$L$49) -> 0.064635272 | K7: =($F$49*$L$49)/SUMPRODUCT($F$26:$F$49,$L$26:$L$49) -> 0.064635272 | L7: =($F$49*$L$49)/SUMPRODUCT($F$26:$F$49,$L$26:$L$49) -> 0.064635272 | M7: =($F$49*$L$49)/SUMPRODUCT($F$26:$F$49,$L$26:$L$49) -> 0.064635272 | N7: =($F$49*$L$49)/SUMPRODUCT($F$26:$F$49,$L$26:$L$49) -> 0.064635272 | O7: =($F$49*$L$49)/SUMPRODUCT($F$26:$F$49,$L$26:$L$49) -> 0.064635272 | ... Y7: =($F$49*$L$49)/SUMPRODUCT($F$26:$F$49,$L$26:$L$49) -> 0.064635272
A8: 7 | B8: =($F$49*$M$49)/SUMPRODUCT($F$26:$F$49,$M$26:$M$49) -> 0.064695009 | C8: =($F$26*$M$26)/SUMPRODUCT($F$26:$F$49,$M$26:$M$49) -> 0.20332717 | D8: =($F$27*$M$27)/SUMPRODUCT($F$26:$F$49,$M$26:$M$49) -> 0.1922366 | E8: =($F$28*$M$28)/SUMPRODUCT($F$26:$F$49,$M$26:$M$49) -> 0.17005545 | F8: =($F$29*$M$29)/SUMPRODUCT($F$26:$F$49,$M$26:$M$49) -> 0.18114603 | G8: =($F$30*$M$30)/SUMPRODUCT($F$26:$F$49,$M$26:$M$49) -> 0.0083179298 | H8: =($F$49*$M$49)/SUMPRODUCT($F$26:$F$49,$M$26:$M$49) -> 0.064695009 | I8: =($F$49*$M$49)/SUMPRODUCT($F$26:$F$49,$M$26:$M$49) -> 0.064695009 | J8: =($F$49*$M$49)/SUMPRODUCT($F$26:$F$49,$M$26:$M$49) -> 0.064695009 | K8: =($F$49*$M$49)/SUMPRODUCT($F$26:$F$49,$M$26:$M$49) -> 0.064695009 | L8: =($F$49*$M$49)/SUMPRODUCT($F$26:$F$49,$M$26:$M$49) -> 0.064695009 | M8: =($F$49*$M$49)/SUMPRODUCT($F$26:$F$49,$M$26:$M$49) -> 0.064695009 | N8: =($F$49*$M$49)/SUMPRODUCT($F$26:$F$49,$M$26:$M$49) -> 0.064695009 | O8: =($F$49*$M$49)/SUMPRODUCT($F$26:$F$49,$M$26:$M$49) -> 0.064695009 | ... Y8: =($F$49*$M$49)/SUMPRODUCT($F$26:$F$49,$M$26:$M$49) -> 0.064695009
A9: 8 | B9: =($F$49*$N$49)/SUMPRODUCT($F$26:$F$49,$N$26:$N$49) -> 0.064575646 | C9: =($F$26*$N$26)/SUMPRODUCT($F$26:$F$49,$N$26:$N$49) -> 0.20295203 | D9: =($F$27*$N$27)/SUMPRODUCT($F$26:$F$49,$N$26:$N$49) -> 0.19188192 | E9: =($F$28*$N$28)/SUMPRODUCT($F$26:$F$49,$N$26:$N$49) -> 0.1697417 | F9: =($F$29*$N$29)/SUMPRODUCT($F$26:$F$49,$N$26:$N$49) -> 0.18081181 | G9: =($F$30*$N$30)/SUMPRODUCT($F$26:$F$49,$N$26:$N$49) -> 0.016605166 | H9: =($F$49*$N$49)/SUMPRODUCT($F$26:$F$49,$N$26:$N$49) -> 0.064575646 | I9: =($F$49*$N$49)/SUMPRODUCT($F$26:$F$49,$N$26:$N$49) -> 0.064575646 | J9: =($F$49*$N$49)/SUMPRODUCT($F$26:$F$49,$N$26:$N$49) -> 0.064575646 | K9: =($F$49*$N$49)/SUMPRODUCT($F$26:$F$49,$N$26:$N$49) -> 0.064575646 | L9: =($F$49*$N$49)/SUMPRODUCT($F$26:$F$49,$N$26:$N$49) -> 0.064575646 | M9: =($F$49*$N$49)/SUMPRODUCT($F$26:$F$49,$N$26:$N$49) -> 0.064575646 | N9: =($F$49*$N$49)/SUMPRODUCT($F$26:$F$49,$N$26:$N$49) -> 0.064575646 | O9: =($F$49*$N$49)/SUMPRODUCT($F$26:$F$49,$N$26:$N$49) -> 0.064575646 | ... Y9: =($F$49*$N$49)/SUMPRODUCT($F$26:$F$49,$N$26:$N$49) -> 0.064575646
A10: 9 | B10: =($F$49*$O$49)/SUMPRODUCT($F$26:$F$49,$O$26:$O$49) -> 0.064695009 | C10: =($F$26*$O$26)/SUMPRODUCT($F$26:$F$49,$O$26:$O$49) -> 0.20332717 | D10: =($F$27*$O$27)/SUMPRODUCT($F$26:$F$49,$O$26:$O$49) -> 0.1922366 | E10: =($F$28*$O$28)/SUMPRODUCT($F$26:$F$49,$O$26:$O$49) -> 0.17005545 | F10: =($F$29*$O$29)/SUMPRODUCT($F$26:$F$49,$O$26:$O$49) -> 0.18114603 | G10: =($F$30*$O$30)/SUMPRODUCT($F$26:$F$49,$O$26:$O$49) -> 0.01663586 | H10: =($F$49*$O$49)/SUMPRODUCT($F$26:$F$49,$O$26:$O$49) -> 0.064695009 | I10: =($F$49*$O$49)/SUMPRODUCT($F$26:$F$49,$O$26:$O$49) -> 0.064695009 | J10: =($F$49*$O$49)/SUMPRODUCT($F$26:$F$49,$O$26:$O$49) -> 0.064695009 | K10: =($F$49*$O$49)/SUMPRODUCT($F$26:$F$49,$O$26:$O$49) -> 0.064695009 | L10: =($F$49*$O$49)/SUMPRODUCT($F$26:$F$49,$O$26:$O$49) -> 0.064695009 | M10: =($F$49*$O$49)/SUMPRODUCT($F$26:$F$49,$O$26:$O$49) -> 0.064695009 | N10: =($F$49*$O$49)/SUMPRODUCT($F$26:$F$49,$O$26:$O$49) -> 0.064695009 | O10: =($F$49*$O$49)/SUMPRODUCT($F$26:$F$49,$O$26:$O$49) -> 0.064695009 | ... Y10: =($F$49*$O$49)/SUMPRODUCT($F$26:$F$49,$O$26:$O$49) -> 0.064695009
A11: 10 | B11: =($F$49*$P$49)/SUMPRODUCT($F$26:$F$49,$P$26:$P$49) -> 0.064695009 | C11: =($F$26*$P$26)/SUMPRODUCT($F$26:$F$49,$P$26:$P$49) -> 0.20332717 | D11: =($F$27*$P$27)/SUMPRODUCT($F$26:$F$49,$P$26:$P$49) -> 0.1922366 | E11: =($F$28*$P$28)/SUMPRODUCT($F$26:$F$49,$P$26:$P$49) -> 0.17005545 | F11: =($F$29*$P$29)/SUMPRODUCT($F$26:$F$49,$P$26:$P$49) -> 0.18114603 | G11: =($F$30*$P$30)/SUMPRODUCT($F$26:$F$49,$P$26:$P$49) -> 0.0083179298 | H11: =($F$49*$P$49)/SUMPRODUCT($F$26:$F$49,$P$26:$P$49) -> 0.064695009 | I11: =($F$49*$P$49)/SUMPRODUCT($F$26:$F$49,$P$26:$P$49) -> 0.064695009 | J11: =($F$49*$P$49)/SUMPRODUCT($F$26:$F$49,$P$26:$P$49) -> 0.064695009 | K11: =($F$49*$P$49)/SUMPRODUCT($F$26:$F$49,$P$26:$P$49) -> 0.064695009 | L11: =($F$49*$P$49)/SUMPRODUCT($F$26:$F$49,$P$26:$P$49) -> 0.064695009 | M11: =($F$49*$P$49)/SUMPRODUCT($F$26:$F$49,$P$26:$P$49) -> 0.064695009 | N11: =($F$49*$P$49)/SUMPRODUCT($F$26:$F$49,$P$26:$P$49) -> 0.064695009 | O11: =($F$49*$P$49)/SUMPRODUCT($F$26:$F$49,$P$26:$P$49) -> 0.064695009 | ... Y11: =($F$49*$P$49)/SUMPRODUCT($F$26:$F$49,$P$26:$P$49) -> 0.064695009
A12: 11 | B12: =($F$49*$Q$49)/SUMPRODUCT($F$26:$F$49,$Q$26:$Q$49) -> 0.068906115 | C12: =($F$26*$Q$26)/SUMPRODUCT($F$26:$F$49,$Q$26:$Q$49) -> 0.18949182 | D12: =($F$27*$Q$27)/SUMPRODUCT($F$26:$F$49,$Q$26:$Q$49) -> 0.1791559 | E12: =($F$28*$Q$28)/SUMPRODUCT($F$26:$F$49,$Q$26:$Q$49) -> 0.15848407 | F12: =($F$29*$Q$29)/SUMPRODUCT($F$26:$F$49,$Q$26:$Q$49) -> 0.16881998 | G12: =($F$30*$Q$30)/SUMPRODUCT($F$26:$F$49,$Q$26:$Q$49) -> 0.023255814 | H12: =($F$49*$Q$49)/SUMPRODUCT($F$26:$F$49,$Q$26:$Q$49) -> 0.068906115 | I12: =($F$49*$Q$49)/SUMPRODUCT($F$26:$F$49,$Q$26:$Q$49) -> 0.068906115 | J12: =($F$49*$Q$49)/SUMPRODUCT($F$26:$F$49,$Q$26:$Q$49) -> 0.068906115 | K12: =($F$49*$Q$49)/SUMPRODUCT($F$26:$F$49,$Q$26:$Q$49) -> 0.068906115 | L12: =($F$49*$Q$49)/SUMPRODUCT($F$26:$F$49,$Q$26:$Q$49) -> 0.068906115 | M12: =($F$49*$Q$49)/SUMPRODUCT($F$26:$F$49,$Q$26:$Q$49) -> 0.068906115 | N12: =($F$49*$Q$49)/SUMPRODUCT($F$26:$F$49,$Q$26:$Q$49) -> 0.068906115 | O12: =($F$49*$Q$49)/SUMPRODUCT($F$26:$F$49,$Q$26:$Q$49) -> 0.068906115 | ... Y12: =($F$49*$Q$49)/SUMPRODUCT($F$26:$F$49,$Q$26:$Q$49) -> 0.068906115
A13: 12 | B13: =($F$49*$R$49)/SUMPRODUCT($F$26:$F$49,$R$26:$R$49) -> 0.068551842 | C13: =($F$26*$R$26)/SUMPRODUCT($F$26:$F$49,$R$26:$R$49) -> 0.18851757 | D13: =($F$27*$R$27)/SUMPRODUCT($F$26:$F$49,$R$26:$R$49) -> 0.17823479 | E13: =($F$28*$R$28)/SUMPRODUCT($F$26:$F$49,$R$26:$R$49) -> 0.15766924 | F13: =($F$29*$R$29)/SUMPRODUCT($F$26:$F$49,$R$26:$R$49) -> 0.16795201 | G13: =($F$30*$R$30)/SUMPRODUCT($F$26:$F$49,$R$26:$R$49) -> 0.015424165 | H13: =($F$49*$R$49)/SUMPRODUCT($F$26:$F$49,$R$26:$R$49) -> 0.068551842 | I13: =($F$49*$R$49)/SUMPRODUCT($F$26:$F$49,$R$26:$R$49) -> 0.068551842 | J13: =($F$49*$R$49)/SUMPRODUCT($F$26:$F$49,$R$26:$R$49) -> 0.068551842 | K13: =($F$49*$R$49)/SUMPRODUCT($F$26:$F$49,$R$26:$R$49) -> 0.068551842 | L13: =($F$49*$R$49)/SUMPRODUCT($F$26:$F$49,$R$26:$R$49) -> 0.068551842 | M13: =($F$49*$R$49)/SUMPRODUCT($F$26:$F$49,$R$26:$R$49) -> 0.068551842 | N13: =($F$49*$R$49)/SUMPRODUCT($F$26:$F$49,$R$26:$R$49) -> 0.068551842 | O13: =($F$49*$R$49)/SUMPRODUCT($F$26:$F$49,$R$26:$R$49) -> 0.068551842 | ... Y13: =($F$49*$R$49)/SUMPRODUCT($F$26:$F$49,$R$26:$R$49) -> 0.068551842
A14: 13 | B14: =($F$49*$S$49)/SUMPRODUCT($F$26:$F$49,$S$26:$S$49) -> 0.068434559 | C14: =($F$26*$S$26)/SUMPRODUCT($F$26:$F$49,$S$26:$S$49) -> 0.18819504 | D14: =($F$27*$S$27)/SUMPRODUCT($F$26:$F$49,$S$26:$S$49) -> 0.17792985 | E14: =($F$28*$S$28)/SUMPRODUCT($F$26:$F$49,$S$26:$S$49) -> 0.15739949 | F14: =($F$29*$S$29)/SUMPRODUCT($F$26:$F$49,$S$26:$S$49) -> 0.16766467 | G14: =($F$30*$S$30)/SUMPRODUCT($F$26:$F$49,$S$26:$S$49) -> 0.023096664 | H14: =($F$49*$S$49)/SUMPRODUCT($F$26:$F$49,$S$26:$S$49) -> 0.068434559 | I14: =($F$49*$S$49)/SUMPRODUCT($F$26:$F$49,$S$26:$S$49) -> 0.068434559 | J14: =($F$49*$S$49)/SUMPRODUCT($F$26:$F$49,$S$26:$S$49) -> 0.068434559 | K14: =($F$49*$S$49)/SUMPRODUCT($F$26:$F$49,$S$26:$S$49) -> 0.068434559 | L14: =($F$49*$S$49)/SUMPRODUCT($F$26:$F$49,$S$26:$S$49) -> 0.068434559 | M14: =($F$49*$S$49)/SUMPRODUCT($F$26:$F$49,$S$26:$S$49) -> 0.068434559 | N14: =($F$49*$S$49)/SUMPRODUCT($F$26:$F$49,$S$26:$S$49) -> 0.068434559 | O14: =($F$49*$S$49)/SUMPRODUCT($F$26:$F$49,$S$26:$S$49) -> 0.068434559 | ... Y14: =($F$49*$S$49)/SUMPRODUCT($F$26:$F$49,$S$26:$S$49) -> 0.068434559
A15: 14 | B15: =($F$49*$T$49)/SUMPRODUCT($F$26:$F$49,$T$26:$T$49) -> 0.068551842 | C15: =($F$26*$T$26)/SUMPRODUCT($F$26:$F$49,$T$26:$T$49) -> 0.18851757 | D15: =($F$27*$T$27)/SUMPRODUCT($F$26:$F$49,$T$26:$T$49) -> 0.17823479 | E15: =($F$28*$T$28)/SUMPRODUCT($F$26:$F$49,$T$26:$T$49) -> 0.15766924 | F15: =($F$29*$T$29)/SUMPRODUCT($F$26:$F$49,$T$26:$T$49) -> 0.16795201 | G15: =($F$30*$T$30)/SUMPRODUCT($F$26:$F$49,$T$26:$T$49) -> 0.023136247 | H15: =($F$49*$T$49)/SUMPRODUCT($F$26:$F$49,$T$26:$T$49) -> 0.068551842 | I15: =($F$49*$T$49)/SUMPRODUCT($F$26:$F$49,$T$26:$T$49) -> 0.068551842 | J15: =($F$49*$T$49)/SUMPRODUCT($F$26:$F$49,$T$26:$T$49) -> 0.068551842 | K15: =($F$49*$T$49)/SUMPRODUCT($F$26:$F$49,$T$26:$T$49) -> 0.068551842 | L15: =($F$49*$T$49)/SUMPRODUCT($F$26:$F$49,$T$26:$T$49) -> 0.068551842 | M15: =($F$49*$T$49)/SUMPRODUCT($F$26:$F$49,$T$26:$T$49) -> 0.068551842 | N15: =($F$49*$T$49)/SUMPRODUCT($F$26:$F$49,$T$26:$T$49) -> 0.068551842 | O15: =($F$49*$T$49)/SUMPRODUCT($F$26:$F$49,$T$26:$T$49) -> 0.068551842 | ... Y15: =($F$49*$T$49)/SUMPRODUCT($F$26:$F$49,$T$26:$T$49) -> 0.068551842
A16: 15 | B16: =($F$49*$U$49)/SUMPRODUCT($F$26:$F$49,$U$26:$U$49) -> 0.068551842 | C16: =($F$26*$U$26)/SUMPRODUCT($F$26:$F$49,$U$26:$U$49) -> 0.18851757 | D16: =($F$27*$U$27)/SUMPRODUCT($F$26:$F$49,$U$26:$U$49) -> 0.17823479 | E16: =($F$28*$U$28)/SUMPRODUCT($F$26:$F$49,$U$26:$U$49) -> 0.15766924 | F16: =($F$29*$U$29)/SUMPRODUCT($F$26:$F$49,$U$26:$U$49) -> 0.16795201 | G16: =($F$30*$U$30)/SUMPRODUCT($F$26:$F$49,$U$26:$U$49) -> 0.015424165 | H16: =($F$49*$U$49)/SUMPRODUCT($F$26:$F$49,$U$26:$U$49) -> 0.068551842 | I16: =($F$49*$U$49)/SUMPRODUCT($F$26:$F$49,$U$26:$U$49) -> 0.068551842 | J16: =($F$49*$U$49)/SUMPRODUCT($F$26:$F$49,$U$26:$U$49) -> 0.068551842 | K16: =($F$49*$U$49)/SUMPRODUCT($F$26:$F$49,$U$26:$U$49) -> 0.068551842 | L16: =($F$49*$U$49)/SUMPRODUCT($F$26:$F$49,$U$26:$U$49) -> 0.068551842 | M16: =($F$49*$U$49)/SUMPRODUCT($F$26:$F$49,$U$26:$U$49) -> 0.068551842 | N16: =($F$49*$U$49)/SUMPRODUCT($F$26:$F$49,$U$26:$U$49) -> 0.068551842 | O16: =($F$49*$U$49)/SUMPRODUCT($F$26:$F$49,$U$26:$U$49) -> 0.068551842 | ... Y16: =($F$49*$U$49)/SUMPRODUCT($F$26:$F$49,$U$26:$U$49) -> 0.068551842
A17: 16 | B17: =($F$49*$V$49)/SUMPRODUCT($F$26:$F$49,$V$26:$V$49) -> 0.068493151 | C17: =($F$26*$V$26)/SUMPRODUCT($F$26:$F$49,$V$26:$V$49) -> 0.18835616 | D17: =($F$27*$V$27)/SUMPRODUCT($F$26:$F$49,$V$26:$V$49) -> 0.17808219 | E17: =($F$28*$V$28)/SUMPRODUCT($F$26:$F$49,$V$26:$V$49) -> 0.15753425 | F17: =($F$29*$V$29)/SUMPRODUCT($F$26:$F$49,$V$26:$V$49) -> 0.16780822 | G17: =($F$30*$V$30)/SUMPRODUCT($F$26:$F$49,$V$26:$V$49) -> 0.023116438 | H17: =($F$49*$V$49)/SUMPRODUCT($F$26:$F$49,$V$26:$V$49) -> 0.068493151 | I17: =($F$49*$V$49)/SUMPRODUCT($F$26:$F$49,$V$26:$V$49) -> 0.068493151 | J17: =($F$49*$V$49)/SUMPRODUCT($F$26:$F$49,$V$26:$V$49) -> 0.068493151 | K17: =($F$49*$V$49)/SUMPRODUCT($F$26:$F$49,$V$26:$V$49) -> 0.068493151 | L17: =($F$49*$V$49)/SUMPRODUCT($F$26:$F$49,$V$26:$V$49) -> 0.068493151 | M17: =($F$49*$V$49)/SUMPRODUCT($F$26:$F$49,$V$26:$V$49) -> 0.068493151 | N17: =($F$49*$V$49)/SUMPRODUCT($F$26:$F$49,$V$26:$V$49) -> 0.068493151 | O17: =($F$49*$V$49)/SUMPRODUCT($F$26:$F$49,$V$26:$V$49) -> 0.068493151 | ... Y17: =($F$49*$V$49)/SUMPRODUCT($F$26:$F$49,$V$26:$V$49) -> 0.068493151
A18: 17 | B18: =($F$49*$W$49)/SUMPRODUCT($F$26:$F$49,$W$26:$W$49) -> 0.068551842 | C18: =($F$26*$W$26)/SUMPRODUCT($F$26:$F$49,$W$26:$W$49) -> 0.18851757 | D18: =($F$27*$W$27)/SUMPRODUCT($F$26:$F$49,$W$26:$W$49) -> 0.17823479 | E18: =($F$28*$W$28)/SUMPRODUCT($F$26:$F$49,$W$26:$W$49) -> 0.15766924 | F18: =($F$29*$W$29)/SUMPRODUCT($F$26:$F$49,$W$26:$W$49) -> 0.16795201 | G18: =($F$30*$W$30)/SUMPRODUCT($F$26:$F$49,$W$26:$W$49) -> 0.015424165 | H18: =($F$49*$W$49)/SUMPRODUCT($F$26:$F$49,$W$26:$W$49) -> 0.068551842 | I18: =($F$49*$W$49)/SUMPRODUCT($F$26:$F$49,$W$26:$W$49) -> 0.068551842 | J18: =($F$49*$W$49)/SUMPRODUCT($F$26:$F$49,$W$26:$W$49) -> 0.068551842 | K18: =($F$49*$W$49)/SUMPRODUCT($F$26:$F$49,$W$26:$W$49) -> 0.068551842 | L18: =($F$49*$W$49)/SUMPRODUCT($F$26:$F$49,$W$26:$W$49) -> 0.068551842 | M18: =($F$49*$W$49)/SUMPRODUCT($F$26:$F$49,$W$26:$W$49) -> 0.068551842 | N18: =($F$49*$W$49)/SUMPRODUCT($F$26:$F$49,$W$26:$W$49) -> 0.068551842 | O18: =($F$49*$W$49)/SUMPRODUCT($F$26:$F$49,$W$26:$W$49) -> 0.068551842 | ... Y18: =($F$49*$W$49)/SUMPRODUCT($F$26:$F$49,$W$26:$W$49) -> 0.068551842
A19: 18 | B19: =($F$49*$X$49)/SUMPRODUCT($F$26:$F$49,$X$26:$X$49) -> 0.068434559 | C19: =($F$26*$X$26)/SUMPRODUCT($F$26:$F$49,$X$26:$X$49) -> 0.18819504 | D19: =($F$27*$X$27)/SUMPRODUCT($F$26:$F$49,$X$26:$X$49) -> 0.17792985 | E19: =($F$28*$X$28)/SUMPRODUCT($F$26:$F$49,$X$26:$X$49) -> 0.15739949 | F19: =($F$29*$X$29)/SUMPRODUCT($F$26:$F$49,$X$26:$X$49) -> 0.16766467 | G19: =($F$30*$X$30)/SUMPRODUCT($F$26:$F$49,$X$26:$X$49) -> 0.023096664 | H19: =($F$49*$X$49)/SUMPRODUCT($F$26:$F$49,$X$26:$X$49) -> 0.068434559 | I19: =($F$49*$X$49)/SUMPRODUCT($F$26:$F$49,$X$26:$X$49) -> 0.068434559 | J19: =($F$49*$X$49)/SUMPRODUCT($F$26:$F$49,$X$26:$X$49) -> 0.068434559 | K19: =($F$49*$X$49)/SUMPRODUCT($F$26:$F$49,$X$26:$X$49) -> 0.068434559 | L19: =($F$49*$X$49)/SUMPRODUCT($F$26:$F$49,$X$26:$X$49) -> 0.068434559 | M19: =($F$49*$X$49)/SUMPRODUCT($F$26:$F$49,$X$26:$X$49) -> 0.068434559 | N19: =($F$49*$X$49)/SUMPRODUCT($F$26:$F$49,$X$26:$X$49) -> 0.068434559 | O19: =($F$49*$X$49)/SUMPRODUCT($F$26:$F$49,$X$26:$X$49) -> 0.068434559 | ... Y19: =($F$49*$X$49)/SUMPRODUCT($F$26:$F$49,$X$26:$X$49) -> 0.068434559
A20: 19 | B20: =($F$49*$Y$49)/SUMPRODUCT($F$26:$F$49,$Y$26:$Y$49) -> 0.068551842 | C20: =($F$26*$Y$26)/SUMPRODUCT($F$26:$F$49,$Y$26:$Y$49) -> 0.18851757 | D20: =($F$27*$Y$27)/SUMPRODUCT($F$26:$F$49,$Y$26:$Y$49) -> 0.17823479 | E20: =($F$28*$Y$28)/SUMPRODUCT($F$26:$F$49,$Y$26:$Y$49) -> 0.15766924 | F20: =($F$29*$Y$29)/SUMPRODUCT($F$26:$F$49,$Y$26:$Y$49) -> 0.16795201 | G20: =($F$30*$Y$30)/SUMPRODUCT($F$26:$F$49,$Y$26:$Y$49) -> 0.023136247 | H20: =($F$49*$Y$49)/SUMPRODUCT($F$26:$F$49,$Y$26:$Y$49) -> 0.068551842 | I20: =($F$49*$Y$49)/SUMPRODUCT($F$26:$F$49,$Y$26:$Y$49) -> 0.068551842 | J20: =($F$49*$Y$49)/SUMPRODUCT($F$26:$F$49,$Y$26:$Y$49) -> 0.068551842 | K20: =($F$49*$Y$49)/SUMPRODUCT($F$26:$F$49,$Y$26:$Y$49) -> 0.068551842 | L20: =($F$49*$Y$49)/SUMPRODUCT($F$26:$F$49,$Y$26:$Y$49) -> 0.068551842 | M20: =($F$49*$Y$49)/SUMPRODUCT($F$26:$F$49,$Y$26:$Y$49) -> 0.068551842 | N20: =($F$49*$Y$49)/SUMPRODUCT($F$26:$F$49,$Y$26:$Y$49) -> 0.068551842 | O20: =($F$49*$Y$49)/SUMPRODUCT($F$26:$F$49,$Y$26:$Y$49) -> 0.068551842 | ... Y20: =($F$49*$Y$49)/SUMPRODUCT($F$26:$F$49,$Y$26:$Y$49) -> 0.068551842
A21: 20 | B21: =($F$49*$Z$49)/SUMPRODUCT($F$26:$F$49,$Z$26:$Z$49) -> 0.068551842 | C21: =($F$26*$Z$26)/SUMPRODUCT($F$26:$F$49,$Z$26:$Z$49) -> 0.18851757 | D21: =($F$27*$Z$27)/SUMPRODUCT($F$26:$F$49,$Z$26:$Z$49) -> 0.17823479 | E21: =($F$28*$Z$28)/SUMPRODUCT($F$26:$F$49,$Z$26:$Z$49) -> 0.15766924 | F21: =($F$29*$Z$29)/SUMPRODUCT($F$26:$F$49,$Z$26:$Z$49) -> 0.16795201 | G21: =($F$30*$Z$30)/SUMPRODUCT($F$26:$F$49,$Z$26:$Z$49) -> 0.015424165 | H21: =($F$49*$Z$49)/SUMPRODUCT($F$26:$F$49,$Z$26:$Z$49) -> 0.068551842 | I21: =($F$49*$Z$49)/SUMPRODUCT($F$26:$F$49,$Z$26:$Z$49) -> 0.068551842 | J21: =($F$49*$Z$49)/SUMPRODUCT($F$26:$F$49,$Z$26:$Z$49) -> 0.068551842 | K21: =($F$49*$Z$49)/SUMPRODUCT($F$26:$F$49,$Z$26:$Z$49) -> 0.068551842 | L21: =($F$49*$Z$49)/SUMPRODUCT($F$26:$F$49,$Z$26:$Z$49) -> 0.068551842 | M21: =($F$49*$Z$49)/SUMPRODUCT($F$26:$F$49,$Z$26:$Z$49) -> 0.068551842 | N21: =($F$49*$Z$49)/SUMPRODUCT($F$26:$F$49,$Z$26:$Z$49) -> 0.068551842 | O21: =($F$49*$Z$49)/SUMPRODUCT($F$26:$F$49,$Z$26:$Z$49) -> 0.068551842 | ... Y21: =($F$49*$Z$49)/SUMPRODUCT($F$26:$F$49,$Z$26:$Z$49) -> 0.068551842
B22: =SUM(B2:F2) -> 0.77345538 | C22: =SUM(C2:F2) -> 0.68649886
B23: =SUM(B12:F12) -> 0.76485788 | C23: =SUM(C12:F12) -> 0.69595177
B24: =SUM(B3:F3) -> 0.81352834 | C24: =SUM(C3:F3) -> 0.74954296
B25: =SUM(B13:F13) -> 0.76092545 | C25: =SUM(C13:F13) -> 0.69237361 | F25: 权重 | G25: 1 | H25: 2 | I25: 3 | J25: 4 | K25: 5 | L25: 6 | M25: 7 | N25: 8 | O25: 9 | P25: 10 | Q25: 11 | R25: 12 | S25: 13 | T25: 14 | U25: 15 | V25: 16 | W25: 17 | X25: 18 | Y25: 19 | Z25: 20
A26: 1 | B26: 枪 | C26: 1 | E26: 枪 | F26: 1 | G26: 160 | H26: 220 | I26: 220 | J26: 220 | K26: 220 | L26: 220 | M26: 220 | N26: 220 | O26: 220 | P26: 220 | Q26: 220 | R26: 220 | S26: 220 | T26: 220 | U26: 220 | V26: 220 | W26: 220 | X26: 220 | Y26: 220 | Z26: 220
A27: 2 | B27: 棍 | C27: 1 | E27: 棍 | F27: 1 | G27: 145 | H27: 210 | I27: 208 | J27: 208 | K27: 208 | L27: 208 | M27: 208 | N27: 208 | O27: 208 | P27: 208 | Q27: 208 | R27: 208 | S27: 208 | T27: 208 | U27: 208 | V27: 208 | W27: 208 | X27: 208 | Y27: 208 | Z27: 208
A28: 3 | B28: 弓 | C28: 1 | E28: 弓 | F28: 1 | G28: 140 | H28: 190 | I28: 184 | J28: 184 | K28: 184 | L28: 184 | M28: 184 | N28: 184 | O28: 184 | P28: 184 | Q28: 184 | R28: 184 | S28: 184 | T28: 184 | U28: 184 | V28: 184 | W28: 184 | X28: 184 | Y28: 184 | Z28: 184
A29: 4 | B29: 营 | C29: 1 | E29: 营 | F29: 1 | G29: 155 | H29: 200 | I29: 196 | J29: 196 | K29: 196 | L29: 196 | M29: 196 | N29: 196 | O29: 196 | P29: 196 | Q29: 196 | R29: 196 | S29: 196 | T29: 196 | U29: 196 | V29: 196 | W29: 196 | X29: 196 | Y29: 196 | Z29: 196
A30: 11 | B30: 悟 | C30: 2 | E30: 悟 | F30: 9 | G30: 2 | H30: 1 | I30: 2 | J30: 2 | K30: 1 | L30: 2 | M30: 1 | N30: 2 | O30: 2 | P30: 1 | Q30: =G30+1 -> 3 | R30: =H30+1 -> 2 | S30: =I30+1 -> 3 | T30: =J30+1 -> 3 | U30: =K30+1 -> 2 | V30: =L30+1 -> 3 | W30: =M30+1 -> 2 | X30: =N30+1 -> 3 | ... Z30: =P30+1 -> 2
A31: 12 | B31: 空 | C31: 2 | E31: 空 | F31: 8 | G31: 1 | H31: 2 | I31: 1 | J31: 1 | K31: 1 | L31: 1 | M31: 2 | N31: 1 | O31: 1 | P31: 1 | Q31: =G31+1 -> 2 | R31: =H31+1 -> 3 | S31: =I31+1 -> 2 | T31: =J31+1 -> 2 | U31: =K31+1 -> 2 | V31: =L31+1 -> 2 | W31: =M31+1 -> 3 | X31: =N31+1 -> 2 | ... Z31: =P31+1 -> 2
A32: 13 | B32: 能 | C32: 2 | E32: 能 | F32: 8 | G32: 1 | H32: 1 | I32: 1 | J32: 1 | K32: 1 | L32: 1 | M32: 1 | N32: 1 | O32: 1 | P32: 1 | Q32: =G32 -> 1 | R32: =H32 -> 1 | S32: =I32 -> 1 | T32: =J32 -> 1 | U32: =K32 -> 1 | V32: =L32 -> 1 | W32: =M32 -> 1 | X32: =N32 -> 1 | ... Z32: =P32 -> 1
A33: 14 | B33: 净 | C33: 2 | E33: 净 | F33: 8 | G33: 1 | H33: 1 | I33: 1 | J33: 1 | K33: 1 | L33: 1 | M33: 1 | N33: 1 | O33: 1 | P33: 1 | Q33: =G33 -> 1 | R33: =H33 -> 1 | S33: =I33 -> 1 | T33: =J33 -> 1 | U33: =K33 -> 1 | V33: =L33 -> 1 | W33: =M33 -> 1 | X33: =N33 -> 1 | ... Z33: =P33 -> 1
A34: 15 | B34: 哪 | C34: 2 | E34: 哪 | F34: 8 | G34: 2 | H34: 2 | I34: 1 | J34: 2 | K34: 2 | L34: 2 | M34: 2 | N34: 1 | O34: 2 | P34: 2 | Q34: =G34+1 -> 3 | R34: =H34+1 -> 3 | S34: =I34+1 -> 2 | T34: =J34+1 -> 3 | U34: =K34+1 -> 3 | V34: =L34+1 -> 3 | W34: =M34+1 -> 3 | X34: =N34+1 -> 2 | ... Z34: =P34+1 -> 3
A35: 16 | B35: 金 | C35: 2 | E35: 金 | F35: 8 | G35: 1 | H35: 1 | I35: 1 | J35: 1 | K35: 1 | L35: 1 | M35: 1 | N35: 1 | O35: 1 | P35: 1 | Q35: =G35 -> 1 | R35: =H35 -> 1 | S35: =I35 -> 1 | T35: =J35 -> 1 | U35: =K35 -> 1 | V35: =L35 -> 1 | W35: =M35 -> 1 | X35: =N35 -> 1 | ... Z35: =P35 -> 1
A36: 17 | B36: 木 | C36: 2 | E36: 木 | F36: 8 | G36: 1 | H36: 1 | I36: 1 | J36: 1 | K36: 1 | L36: 1 | M36: 1 | N36: 1 | O36: 1 | P36: 1 | Q36: =G36 -> 1 | R36: =H36 -> 1 | S36: =I36 -> 1 | T36: =J36 -> 1 | U36: =K36 -> 1 | V36: =L36 -> 1 | W36: =M36 -> 1 | X36: =N36 -> 1 | ... Z36: =P36 -> 1
A37: 18 | B37: 吒 | C37: 2 | E37: 吒 | F37: 9 | G37: 2 | H37: 2 | I37: 2 | J37: 1 | K37: 1 | L37: 1 | M37: 2 | N37: 2 | O37: 1 | P37: 1 | Q37: =G37+1 -> 3 | R37: =H37+1 -> 3 | S37: =I37+1 -> 3 | T37: =J37+1 -> 2 | U37: =K37+1 -> 2 | V37: =L37+1 -> 2 | W37: =M37+1 -> 3 | X37: =N37+1 -> 3 | ... Z37: =P37+1 -> 2
A38: 19 | B38: 杨 | C38: 2 | E38: 杨 | F38: 8 | G38: 2 | H38: 1 | I38: 1 | J38: 2 | K38: 1 | L38: 2 | M38: 1 | N38: 1 | O38: 2 | P38: 1 | Q38: =G38 -> 2 | R38: =H38 -> 1 | S38: =I38 -> 1 | T38: =J38 -> 2 | U38: =K38 -> 1 | V38: =L38 -> 2 | W38: =M38 -> 1 | X38: =N38 -> 1 | ... Z38: =P38 -> 1
A39: 20 | B39: 戬 | C39: 2 | E39: 戬 | F39: 8 | G39: 1 | H39: 1 | I39: 1 | J39: 1 | K39: 2 | L39: 1 | M39: 1 | N39: 1 | O39: 1 | P39: 2 | Q39: =G39+1 -> 2 | R39: =H39+1 -> 2 | S39: =I39+1 -> 2 | T39: =J39+1 -> 2 | U39: =K39+1 -> 3 | V39: =L39+1 -> 2 | W39: =M39+1 -> 2 | X39: =N39+1 -> 2 | ... Z39: =P39+1 -> 3
A40: 21 | B40: 王 | C40: 2 | E40: 王 | F40: 9 | G40: 2 | H40: 1 | I40: 2 | J40: 1 | K40: 2 | L40: 2 | M40: 1 | N40: 2 | O40: 1 | P40: 2 | Q40: =G40+1 -> 3 | R40: =H40+1 -> 2 | S40: =I40+1 -> 3 | T40: =J40+1 -> 2 | U40: =K40+1 -> 3 | V40: =L40+1 -> 3 | W40: =M40+1 -> 2 | X40: =N40+1 -> 3 | ... Z40: =P40+1 -> 3
A41: 22 | B41: 母 | C41: 2 | E41: 母 | F41: 8 | G41: 1 | H41: 2 | I41: 1 | J41: 1 | K41: 1 | L41: 1 | M41: 2 | N41: 1 | O41: 1 | P41: 1 | Q41: =G41 -> 1 | R41: =H41 -> 2 | S41: =I41 -> 1 | T41: =J41 -> 1 | U41: =K41 -> 1 | V41: =L41 -> 1 | W41: =M41 -> 2 | X41: =N41 -> 1 | ... Z41: =P41 -> 1
A42: 23 | B42: 阎 | C42: 2 | E42: 阎 | F42: 8 | G42: 1 | H42: 1 | I42: 1 | J42: 2 | K42: 1 | L42: 1 | M42: 1 | N42: 1 | O42: 2 | P42: 1 | Q42: =G42 -> 1 | R42: =H42 -> 1 | S42: =I42 -> 1 | T42: =J42 -> 2 | U42: =K42 -> 1 | V42: =L42 -> 1 | W42: =M42 -> 1 | X42: =N42 -> 1 | ... Z42: =P42 -> 1
A43: 24 | B43: 玉 | C43: 2 | E43: 玉 | F43: 8 | G43: 1 | H43: 2 | I43: 1 | J43: 2 | K43: 1 | L43: 1 | M43: 2 | N43: 1 | O43: 2 | P43: 1 | Q43: =G43 -> 1 | R43: =H43 -> 2 | S43: =I43 -> 1 | T43: =J43 -> 2 | U43: =K43 -> 1 | V43: =L43 -> 1 | W43: =M43 -> 2 | X43: =N43 -> 1 | ... Z43: =P43 -> 1
A44: 25 | B44: 帝 | C44: 2 | E44: 帝 | F44: 8 | G44: 1 | H44: 1 | I44: 2 | J44: 1 | K44: 2 | L44: 1 | M44: 1 | N44: 2 | O44: 1 | P44: 2 | Q44: =G44+1 -> 2 | R44: =H44+1 -> 2 | S44: =I44+1 -> 3 | T44: =J44+1 -> 2 | U44: =K44+1 -> 3 | V44: =L44+1 -> 2 | W44: =M44+1 -> 2 | X44: =N44+1 -> 3 | ... Z44: =P44+1 -> 3
A45: 26 | B45: 嫦 | C45: 2 | E45: 嫦 | F45: 8 | G45: 1 | H45: 1 | I45: 2 | J45: 1 | K45: 2 | L45: 2 | M45: 1 | N45: 2 | O45: 1 | P45: 2 | Q45: =G45+1 -> 2 | R45: =H45+1 -> 2 | S45: =I45+1 -> 3 | T45: =J45+1 -> 2 | U45: =K45+1 -> 3 | V45: =L45+1 -> 3 | W45: =M45+1 -> 2 | X45: =N45+1 -> 3 | ... Z45: =P45+1 -> 3
A46: 27 | B46: 娥 | C46: 2 | E46: 娥 | F46: 8 | G46: 1 | H46: 1 | I46: 1 | J46: 2 | K46: 1 | L46: 1 | M46: 1 | N46: 1 | O46: 2 | P46: 1 | Q46: =G46 -> 1 | R46: =H46 -> 1 | S46: =I46 -> 1 | T46: =J46 -> 2 | U46: =K46 -> 1 | V46: =L46 -> 1 | W46: =M46 -> 1 | X46: =N46 -> 1 | ... Z46: =P46 -> 1
A47: 28 | B47: 李 | C47: 2 | E47: 李 | F47: 8 | G47: 1 | H47: 2 | I47: 1 | J47: 1 | K47: 2 | L47: 1 | M47: 2 | N47: 1 | O47: 1 | P47: 2 | Q47: =G47+1 -> 2 | R47: =H47+1 -> 3 | S47: =I47+1 -> 2 | T47: =J47+1 -> 2 | U47: =K47+1 -> 3 | V47: =L47+1 -> 2 | W47: =M47+1 -> 3 | X47: =N47+1 -> 2 | ... Z47: =P47+1 -> 3
A48: 29 | B48: 靖 | C48: 2 | E48: 靖 | F48: 8 | G48: 1 | H48: 1 | I48: 2 | J48: 1 | K48: 1 | L48: 2 | M48: 1 | N48: 2 | O48: 1 | P48: 1 | Q48: =G48 -> 1 | R48: =H48 -> 1 | S48: =I48 -> 2 | T48: =J48 -> 1 | U48: =K48 -> 1 | V48: =L48 -> 2 | W48: =M48 -> 1 | X48: =N48 -> 2 | ... Z48: =P48 -> 1
A49: 101 | B49: 铲 | C49: 4 | E49: 铲 | F49: 2 | G49: 38 | H49: 35 | I49: 35 | J49: 35 | K49: 35 | L49: 35 | M49: 35 | N49: 35 | O49: 35 | P49: 35 | Q49: 40 | R49: 40 | S49: 40 | T49: 40 | U49: 40 | V49: 40 | W49: 40 | X49: 40 | Y49: 40 | Z49: 40
G50: =SUM(G30:G48) -> 24 | H50: =SUM(H30:H48) -> 25 | I50: =SUM(I30:I48) -> 25 | J50: =SUM(J30:J48) -> 25 | K50: =SUM(K30:K48) -> 25 | L50: =SUM(L30:L48) -> 25 | M50: =SUM(M30:M48) -> 25 | N50: =SUM(N30:N48) -> 25 | ... Z50: =SUM(Z30:Z48) -> 34
F51: 文字 | G51: 概率
F52: 基础字 | G52: =SUMPRODUCT($F$26:$F$29,G26:G29)/SUMPRODUCT($F$26:$F$49,G26:G49) -> 0.68649886 | H52: =SUMPRODUCT($F$26:$F$29,H26:H29)/SUMPRODUCT($F$26:$F$49,H26:H49) -> 0.74954296 | I52: =SUMPRODUCT($F$26:$F$29,I26:I29)/SUMPRODUCT($F$26:$F$49,I26:I49) -> 0.74538745 | J52: =SUMPRODUCT($F$26:$F$29,J26:J29)/SUMPRODUCT($F$26:$F$49,J26:J49) -> 0.74676525 | K52: =SUMPRODUCT($F$26:$F$29,K26:K29)/SUMPRODUCT($F$26:$F$49,K26:K49) -> 0.74676525 | L52: =SUMPRODUCT($F$26:$F$29,L26:L29)/SUMPRODUCT($F$26:$F$49,L26:L49) -> 0.74607572 | M52: =SUMPRODUCT($F$26:$F$29,M26:M29)/SUMPRODUCT($F$26:$F$49,M26:M49) -> 0.74676525 | N52: =SUMPRODUCT($F$26:$F$29,N26:N29)/SUMPRODUCT($F$26:$F$49,N26:N49) -> 0.74538745 | ... Z52: =SUMPRODUCT($F$26:$F$29,Z26:Z29)/SUMPRODUCT($F$26:$F$49,Z26:Z49) -> 0.69237361
F53: 组合字 | G53: =SUMPRODUCT($F$30:$F$48,G30:G48)/SUMPRODUCT($F$26:$F$49,G26:G49) -> 0.22654462 | H53: =SUMPRODUCT($F$30:$F$48,H30:H48)/SUMPRODUCT($F$26:$F$49,H26:H49) -> 0.18647166 | I53: =SUMPRODUCT($F$30:$F$48,I30:I48)/SUMPRODUCT($F$26:$F$49,I26:I49) -> 0.1900369 | J53: =SUMPRODUCT($F$30:$F$48,J30:J48)/SUMPRODUCT($F$26:$F$49,J26:J49) -> 0.18853974 | K53: =SUMPRODUCT($F$30:$F$48,K30:K48)/SUMPRODUCT($F$26:$F$49,K26:K49) -> 0.18853974 | L53: =SUMPRODUCT($F$30:$F$48,L30:L48)/SUMPRODUCT($F$26:$F$49,L26:L49) -> 0.18928901 | M53: =SUMPRODUCT($F$30:$F$48,M30:M48)/SUMPRODUCT($F$26:$F$49,M26:M49) -> 0.18853974 | N53: =SUMPRODUCT($F$30:$F$48,N30:N48)/SUMPRODUCT($F$26:$F$49,N26:N49) -> 0.1900369 | ... Z53: =SUMPRODUCT($F$30:$F$48,Z30:Z48)/SUMPRODUCT($F$26:$F$49,Z26:Z49) -> 0.23907455
F54: 铲子 | G54: =PRODUCT($F$49,G49)/SUMPRODUCT($F$26:$F$49,G26:G49) -> 0.086956522 | H54: =PRODUCT($F$49,H49)/SUMPRODUCT($F$26:$F$49,H26:H49) -> 0.063985375 | I54: =PRODUCT($F$49,I49)/SUMPRODUCT($F$26:$F$49,I26:I49) -> 0.064575646 | J54: =PRODUCT($F$49,J49)/SUMPRODUCT($F$26:$F$49,J26:J49) -> 0.064695009 | K54: =PRODUCT($F$49,K49)/SUMPRODUCT($F$26:$F$49,K26:K49) -> 0.064695009 | L54: =PRODUCT($F$49,L49)/SUMPRODUCT($F$26:$F$49,L26:L49) -> 0.064635272 | M54: =PRODUCT($F$49,M49)/SUMPRODUCT($F$26:$F$49,M26:M49) -> 0.064695009 | N54: =PRODUCT($F$49,N49)/SUMPRODUCT($F$26:$F$49,N26:N49) -> 0.064575646 | ... Z54: =PRODUCT($F$49,Z49)/SUMPRODUCT($F$26:$F$49,Z26:Z49) -> 0.068551842
E59: 文字 | F59: 基础权重 | G59: 文字最大数量
E60: 悟 | F60: 8 | G60: 1 | K60: 悟 | L60: 9 | M60: 3
E61: 空 | F61: 8 | G61: 2 | K61: 空 | L61: 8 | M61: 2
E62: 能 | F62: 8 | G62: 1 | K62: 能 | L62: 8 | M62: 1
E63: 净 | F63: 8 | G63: 1 | K63: 净 | L63: 8 | M63: 1
E64: 哪 | F64: 8 | G64: 2 | K64: 哪 | L64: 8 | M64: 3
E65: 金 | F65: 8 | G65: 1 | K65: 金 | L65: 8 | M65: 1
E66: 木 | F66: 8 | G66: 1 | K66: 木 | L66: 8 | M66: 1
E67: 吒 | F67: 8 | G67: 2 | K67: 吒 | L67: 9 | M67: 3
E68: 杨 | F68: 8 | G68: 1 | K68: 杨 | L68: 8 | M68: 2
E69: 戬 | F69: 8 | G69: 1 | K69: 戬 | L69: 8 | M69: 2
E70: 王 | F70: 8 | G70: 1 | K70: 王 | L70: 9 | M70: 3
E71: 母 | F71: 8 | G71: 2 | K71: 母 | L71: 8 | M71: 1
... E78: 靖 | F78: 8 | G78: 1 | K78: 靖 | L78: 8 | M78: 1

Sheet 怪物配置
A1: 花果山
A2: 1 | B2: 101 | C2: 10 | D2: 1.6 | E2: =_xlfn.TEXTJOIN(",",TRUE,A2:D2) -> 1,101,10,1.6 | G2: 配置
A3: 2 | B3: =B2 -> 101 | C3: 11 | D3: =D2 -> 1.6 | E3: =_xlfn.TEXTJOIN(",",TRUE,A3:D3) -> 2,101,11,1.6 | F3: 1 | G3: =_xlfn.TEXTJOIN("|",TRUE,E2:E26) -> 1,101,10,1.6|2,101,11,1.6|3,101,12,1.6|4,101,13,1.6|5,101,15,1.6|6,101,16,1.6|7,101,18,1.6|8,101,19,1.6|9,101,21,1.6|10,101,24,1.6|11,101,26,1.6|12,101,29,1.6|13,101,30,1.6|14,101,35,1.6|15,101,38,1.6|16,101,42,1.6|17,101,45,1.6|18,101,50,1.6|19,101,50,1.6|20,101,50,1.6|21,101,50,1.6|22,101,50,1.6|23,101,50,1.6|24,101,50,1.6|25,101,50,1.6
A4: 3 | B4: =B3 -> 101 | C4: 12 | D4: =D3 -> 1.6 | E4: =_xlfn.TEXTJOIN(",",TRUE,A4:D4) -> 3,101,12,1.6 | F4: 2 | G4: =_xlfn.TEXTJOIN("|",TRUE,E29:E53) -> 1,201,10,1.6|2,201,11,1.6|3,201,12,1.6|4,201,13,1.6|5,201,15,1.6|6,201,16,1.6|7,201,18,1.6|8,201,19,1.6|9,201,21,1.6|10,201,24,1.6|11,201,26,1.6|12,201,29,1.6|13,201,30,1.6|14,201,35,1.6|15,201,38,1.6|16,201,42,1.6|17,201,45,1.6|18,201,50,1.6|19,201,50,1.6|20,201,50,1.6|21,201,50,1.6|22,201,50,1.6|23,201,50,1.6|24,201,50,1.6|25,201,50,1.6
A5: 4 | B5: =B4 -> 101 | C5: 13 | D5: =D4 -> 1.6 | E5: =_xlfn.TEXTJOIN(",",TRUE,A5:D5) -> 4,101,13,1.6 | F5: 3 | G5: =_xlfn.TEXTJOIN("|",TRUE,E56:E80) -> 1,301,10,1.6|2,301,11,1.6|3,301,12,1.6|4,301,13,1.6|5,301,15,1.6|6,301,16,1.6|7,301,18,1.6|8,301,19,1.6|9,301,21,1.6|10,301,24,1.6|11,301,26,1.6|12,301,29,1.6|13,301,30,1.6|14,301,35,1.6|15,301,38,1.6|16,301,42,1.6|17,301,45,1.6|18,301,50,1.6|19,301,50,1.6|20,301,50,1.6|21,301,50,1.6|22,301,50,1.6|23,301,50,1.6|24,301,50,1.6|25,301,50,1.6
A6: 5 | B6: =B5 -> 101 | C6: 15 | D6: =D5 -> 1.6 | E6: =_xlfn.TEXTJOIN(",",TRUE,A6:D6) -> 5,101,15,1.6 | F6: 4 | G6: =_xlfn.TEXTJOIN("|",TRUE,E83:E107) -> 1,401,10,1.6|2,401,11,1.6|3,401,12,1.6|4,401,13,1.6|5,401,15,1.6|6,401,16,1.6|7,401,18,1.6|8,401,19,1.6|9,401,21,1.6|10,401,24,1.6|11,401,26,1.6|12,401,29,1.6|13,401,30,1.6|14,401,35,1.6|15,401,38,1.6|16,401,42,1.6|17,401,45,1.6|18,401,50,1.6|19,401,50,1.6|20,401,50,1.6|21,401,50,1.6|22,401,50,1.6|23,401,50,1.6|24,401,50,1.6|25,401,50,1.6
A7: 6 | B7: =B6 -> 101 | C7: 16 | D7: =D6 -> 1.6 | E7: =_xlfn.TEXTJOIN(",",TRUE,A7:D7) -> 6,101,16,1.6 | F7: 5 | G7: =_xlfn.TEXTJOIN("|",TRUE,E110:E134) -> 1,501,10,1.6|2,501,11,1.6|3,501,12,1.6|4,501,13,1.6|5,501,15,1.6|6,501,16,1.6|7,501,18,1.6|8,501,19,1.6|9,501,21,1.6|10,501,24,1.6|11,501,26,1.6|12,501,29,1.6|13,501,30,1.6|14,501,35,1.6|15,501,38,1.6|16,501,42,1.6|17,501,45,1.6|18,501,50,1.6|19,501,50,1.6|20,501,50,1.6|21,501,50,1.6|22,501,50,1.6|23,501,50,1.6|24,501,50,1.6|25,501,50,1.6
A8: 7 | B8: =B7 -> 101 | C8: 18 | D8: =D7 -> 1.6 | E8: =_xlfn.TEXTJOIN(",",TRUE,A8:D8) -> 7,101,18,1.6 | F8: 6 | G8: =_xlfn.TEXTJOIN("|",TRUE,E137:E161) -> 1,601,10,1.6|2,601,11,1.6|3,601,12,1.6|4,601,13,1.6|5,601,15,1.6|6,601,16,1.6|7,601,18,1.6|8,601,19,1.6|9,601,21,1.6|10,601,24,1.6|11,601,26,1.6|12,601,29,1.6|13,601,30,1.6|14,601,35,1.6|15,601,38,1.6|16,601,42,1.6|17,601,45,1.6|18,601,50,1.6|19,601,50,1.6|20,601,50,1.6|21,601,50,1.6|22,601,50,1.6|23,601,50,1.6|24,601,50,1.6|25,601,50,1.6
A9: 8 | B9: =B8 -> 101 | C9: 19 | D9: =D8 -> 1.6 | E9: =_xlfn.TEXTJOIN(",",TRUE,A9:D9) -> 8,101,19,1.6 | F9: 7 | G9: =_xlfn.TEXTJOIN("|",TRUE,E164:E188) -> 1,701,10,1.6|2,701,11,1.6|3,701,12,1.6|4,701,13,1.6|5,701,15,1.6|6,701,16,1.6|7,701,18,1.6|8,701,19,1.6|9,701,21,1.6|10,701,24,1.6|11,701,26,1.6|12,701,29,1.6|13,701,30,1.6|14,701,35,1.6|15,701,38,1.6|16,701,42,1.6|17,701,45,1.6|18,701,50,1.6|19,701,50,1.6|20,701,50,1.6|21,701,50,1.6|22,701,50,1.6|23,701,50,1.6|24,701,50,1.6|25,701,50,1.6
A10: 9 | B10: =B9 -> 101 | C10: 21 | D10: =D9 -> 1.6 | E10: =_xlfn.TEXTJOIN(",",TRUE,A10:D10) -> 9,101,21,1.6
A11: 10 | B11: =B10 -> 101 | C11: 24 | D11: =D10 -> 1.6 | E11: =_xlfn.TEXTJOIN(",",TRUE,A11:D11) -> 10,101,24,1.6
A12: 11 | B12: =B11 -> 101 | C12: 26 | D12: =D11 -> 1.6 | E12: =_xlfn.TEXTJOIN(",",TRUE,A12:D12) -> 11,101,26,1.6
A13: 12 | B13: =B12 -> 101 | C13: 29 | D13: =D12 -> 1.6 | E13: =_xlfn.TEXTJOIN(",",TRUE,A13:D13) -> 12,101,29,1.6
A14: 13 | B14: =B13 -> 101 | C14: 30 | D14: =D13 -> 1.6 | E14: =_xlfn.TEXTJOIN(",",TRUE,A14:D14) -> 13,101,30,1.6
A15: 14 | B15: =B14 -> 101 | C15: 35 | D15: =D14 -> 1.6 | E15: =_xlfn.TEXTJOIN(",",TRUE,A15:D15) -> 14,101,35,1.6
A16: 15 | B16: =B15 -> 101 | C16: 38 | D16: =D15 -> 1.6 | E16: =_xlfn.TEXTJOIN(",",TRUE,A16:D16) -> 15,101,38,1.6
A17: 16 | B17: =B16 -> 101 | C17: 42 | D17: =D16 -> 1.6 | E17: =_xlfn.TEXTJOIN(",",TRUE,A17:D17) -> 16,101,42,1.6
A18: 17 | B18: =B17 -> 101 | C18: 45 | D18: =D17 -> 1.6 | E18: =_xlfn.TEXTJOIN(",",TRUE,A18:D18) -> 17,101,45,1.6
A19: 18 | B19: =B18 -> 101 | C19: 50 | D19: =D18 -> 1.6 | E19: =_xlfn.TEXTJOIN(",",TRUE,A19:D19) -> 18,101,50,1.6
A20: 19 | B20: =B19 -> 101 | C20: 50 | D20: =D19 -> 1.6 | E20: =_xlfn.TEXTJOIN(",",TRUE,A20:D20) -> 19,101,50,1.6
A21: 20 | B21: =B20 -> 101 | C21: 50 | D21: =D20 -> 1.6 | E21: =_xlfn.TEXTJOIN(",",TRUE,A21:D21) -> 20,101,50,1.6
... A26: 25 | B26: =B25 -> 101 | C26: 50 | D26: =D25 -> 1.6 | E26: =_xlfn.TEXTJOIN(",",TRUE,A26:D26) -> 25,101,50,1.6
C27: =SUM(C2:C21) -> 554
A28: 龙宫
A29: 1 | B29: 201 | C29: =C2 -> 10 | D29: =D2 -> 1.6 | E29: =_xlfn.TEXTJOIN(",",TRUE,A29:D29) -> 1,201,10,1.6
A30: 2 | B30: =B29 -> 201 | C30: =C3 -> 11 | D30: =D3 -> 1.6 | E30: =_xlfn.TEXTJOIN(",",TRUE,A30:D30) -> 2,201,11,1.6
A31: 3 | B31: =B30 -> 201 | C31: =C4 -> 12 | D31: =D4 -> 1.6 | E31: =_xlfn.TEXTJOIN(",",TRUE,A31:D31) -> 3,201,12,1.6
A32: 4 | B32: =B31 -> 201 | C32: =C5 -> 13 | D32: =D5 -> 1.6 | E32: =_xlfn.TEXTJOIN(",",TRUE,A32:D32) -> 4,201,13,1.6
A33: 5 | B33: =B32 -> 201 | C33: =C6 -> 15 | D33: =D6 -> 1.6 | E33: =_xlfn.TEXTJOIN(",",TRUE,A33:D33) -> 5,201,15,1.6
A34: 6 | B34: =B33 -> 201 | C34: =C7 -> 16 | D34: =D7 -> 1.6 | E34: =_xlfn.TEXTJOIN(",",TRUE,A34:D34) -> 6,201,16,1.6
A35: 7 | B35: =B34 -> 201 | C35: =C8 -> 18 | D35: =D8 -> 1.6 | E35: =_xlfn.TEXTJOIN(",",TRUE,A35:D35) -> 7,201,18,1.6
A36: 8 | B36: =B35 -> 201 | C36: =C9 -> 19 | D36: =D9 -> 1.6 | E36: =_xlfn.TEXTJOIN(",",TRUE,A36:D36) -> 8,201,19,1.6
A37: 9 | B37: =B36 -> 201 | C37: =C10 -> 21 | D37: =D10 -> 1.6 | E37: =_xlfn.TEXTJOIN(",",TRUE,A37:D37) -> 9,201,21,1.6
A38: 10 | B38: =B37 -> 201 | C38: =C11 -> 24 | D38: =D11 -> 1.6 | E38: =_xlfn.TEXTJOIN(",",TRUE,A38:D38) -> 10,201,24,1.6
A39: 11 | B39: =B38 -> 201 | C39: =C12 -> 26 | D39: =D12 -> 1.6 | E39: =_xlfn.TEXTJOIN(",",TRUE,A39:D39) -> 11,201,26,1.6
A40: 12 | B40: =B39 -> 201 | C40: =C13 -> 29 | D40: =D13 -> 1.6 | E40: =_xlfn.TEXTJOIN(",",TRUE,A40:D40) -> 12,201,29,1.6
A41: 13 | B41: =B40 -> 201 | C41: =C14 -> 30 | D41: =D14 -> 1.6 | E41: =_xlfn.TEXTJOIN(",",TRUE,A41:D41) -> 13,201,30,1.6
... A53: 25 | B53: =B52 -> 201 | C53: =C26 -> 50 | D53: =D26 -> 1.6 | E53: =_xlfn.TEXTJOIN(",",TRUE,A53:D53) -> 25,201,50,1.6
A55: 地府
A56: 1 | B56: 301 | C56: =C29 -> 10 | D56: =D29 -> 1.6 | E56: =_xlfn.TEXTJOIN(",",TRUE,A56:D56) -> 1,301,10,1.6
A57: 2 | B57: =B56 -> 301 | C57: =C30 -> 11 | D57: =D30 -> 1.6 | E57: =_xlfn.TEXTJOIN(",",TRUE,A57:D57) -> 2,301,11,1.6
A58: 3 | B58: =B57 -> 301 | C58: =C31 -> 12 | D58: =D31 -> 1.6 | E58: =_xlfn.TEXTJOIN(",",TRUE,A58:D58) -> 3,301,12,1.6
A59: 4 | B59: =B58 -> 301 | C59: =C32 -> 13 | D59: =D32 -> 1.6 | E59: =_xlfn.TEXTJOIN(",",TRUE,A59:D59) -> 4,301,13,1.6
A60: 5 | B60: =B59 -> 301 | C60: =C33 -> 15 | D60: =D33 -> 1.6 | E60: =_xlfn.TEXTJOIN(",",TRUE,A60:D60) -> 5,301,15,1.6
A61: 6 | B61: =B60 -> 301 | C61: =C34 -> 16 | D61: =D34 -> 1.6 | E61: =_xlfn.TEXTJOIN(",",TRUE,A61:D61) -> 6,301,16,1.6
A62: 7 | B62: =B61 -> 301 | C62: =C35 -> 18 | D62: =D35 -> 1.6 | E62: =_xlfn.TEXTJOIN(",",TRUE,A62:D62) -> 7,301,18,1.6
A63: 8 | B63: =B62 -> 301 | C63: =C36 -> 19 | D63: =D36 -> 1.6 | E63: =_xlfn.TEXTJOIN(",",TRUE,A63:D63) -> 8,301,19,1.6
A64: 9 | B64: =B63 -> 301 | C64: =C37 -> 21 | D64: =D37 -> 1.6 | E64: =_xlfn.TEXTJOIN(",",TRUE,A64:D64) -> 9,301,21,1.6
A65: 10 | B65: =B64 -> 301 | C65: =C38 -> 24 | D65: =D38 -> 1.6 | E65: =_xlfn.TEXTJOIN(",",TRUE,A65:D65) -> 10,301,24,1.6
A66: 11 | B66: =B65 -> 301 | C66: =C39 -> 26 | D66: =D39 -> 1.6 | E66: =_xlfn.TEXTJOIN(",",TRUE,A66:D66) -> 11,301,26,1.6
A67: 12 | B67: =B66 -> 301 | C67: =C40 -> 29 | D67: =D40 -> 1.6 | E67: =_xlfn.TEXTJOIN(",",TRUE,A67:D67) -> 12,301,29,1.6
A68: 13 | B68: =B67 -> 301 | C68: =C41 -> 30 | D68: =D41 -> 1.6 | E68: =_xlfn.TEXTJOIN(",",TRUE,A68:D68) -> 13,301,30,1.6
... A80: 25 | B80: =B79 -> 301 | C80: =C53 -> 50 | D80: =D53 -> 1.6 | E80: =_xlfn.TEXTJOIN(",",TRUE,A80:D80) -> 25,301,50,1.6
A82: 天庭
A83: 1 | B83: 401 | C83: =C56 -> 10 | D83: =D56 -> 1.6 | E83: =_xlfn.TEXTJOIN(",",TRUE,A83:D83) -> 1,401,10,1.6
A84: 2 | B84: =B83 -> 401 | C84: =C57 -> 11 | D84: =D57 -> 1.6 | E84: =_xlfn.TEXTJOIN(",",TRUE,A84:D84) -> 2,401,11,1.6
A85: 3 | B85: =B84 -> 401 | C85: =C58 -> 12 | D85: =D58 -> 1.6 | E85: =_xlfn.TEXTJOIN(",",TRUE,A85:D85) -> 3,401,12,1.6
A86: 4 | B86: =B85 -> 401 | C86: =C59 -> 13 | D86: =D59 -> 1.6 | E86: =_xlfn.TEXTJOIN(",",TRUE,A86:D86) -> 4,401,13,1.6
A87: 5 | B87: =B86 -> 401 | C87: =C60 -> 15 | D87: =D60 -> 1.6 | E87: =_xlfn.TEXTJOIN(",",TRUE,A87:D87) -> 5,401,15,1.6
A88: 6 | B88: =B87 -> 401 | C88: =C61 -> 16 | D88: =D61 -> 1.6 | E88: =_xlfn.TEXTJOIN(",",TRUE,A88:D88) -> 6,401,16,1.6
A89: 7 | B89: =B88 -> 401 | C89: =C62 -> 18 | D89: =D62 -> 1.6 | E89: =_xlfn.TEXTJOIN(",",TRUE,A89:D89) -> 7,401,18,1.6
A90: 8 | B90: =B89 -> 401 | C90: =C63 -> 19 | D90: =D63 -> 1.6 | E90: =_xlfn.TEXTJOIN(",",TRUE,A90:D90) -> 8,401,19,1.6
A91: 9 | B91: =B90 -> 401 | C91: =C64 -> 21 | D91: =D64 -> 1.6 | E91: =_xlfn.TEXTJOIN(",",TRUE,A91:D91) -> 9,401,21,1.6
A92: 10 | B92: =B91 -> 401 | C92: =C65 -> 24 | D92: =D65 -> 1.6 | E92: =_xlfn.TEXTJOIN(",",TRUE,A92:D92) -> 10,401,24,1.6
A93: 11 | B93: =B92 -> 401 | C93: =C66 -> 26 | D93: =D66 -> 1.6 | E93: =_xlfn.TEXTJOIN(",",TRUE,A93:D93) -> 11,401,26,1.6
A94: 12 | B94: =B93 -> 401 | C94: =C67 -> 29 | D94: =D67 -> 1.6 | E94: =_xlfn.TEXTJOIN(",",TRUE,A94:D94) -> 12,401,29,1.6
A95: 13 | B95: =B94 -> 401 | C95: =C68 -> 30 | D95: =D68 -> 1.6 | E95: =_xlfn.TEXTJOIN(",",TRUE,A95:D95) -> 13,401,30,1.6
... A107: 25 | B107: =B106 -> 401 | C107: =C80 -> 50 | D107: =D80 -> 1.6 | E107: =_xlfn.TEXTJOIN(",",TRUE,A107:D107) -> 25,401,50,1.6
A109: 高老庄
A110: 1 | B110: 501 | C110: =C83 -> 10 | D110: =D83 -> 1.6 | E110: =_xlfn.TEXTJOIN(",",TRUE,A110:D110) -> 1,501,10,1.6
A111: 2 | B111: =B110 -> 501 | C111: =C84 -> 11 | D111: =D84 -> 1.6 | E111: =_xlfn.TEXTJOIN(",",TRUE,A111:D111) -> 2,501,11,1.6
A112: 3 | B112: =B111 -> 501 | C112: =C85 -> 12 | D112: =D85 -> 1.6 | E112: =_xlfn.TEXTJOIN(",",TRUE,A112:D112) -> 3,501,12,1.6
A113: 4 | B113: =B112 -> 501 | C113: =C86 -> 13 | D113: =D86 -> 1.6 | E113: =_xlfn.TEXTJOIN(",",TRUE,A113:D113) -> 4,501,13,1.6
A114: 5 | B114: =B113 -> 501 | C114: =C87 -> 15 | D114: =D87 -> 1.6 | E114: =_xlfn.TEXTJOIN(",",TRUE,A114:D114) -> 5,501,15,1.6
A115: 6 | B115: =B114 -> 501 | C115: =C88 -> 16 | D115: =D88 -> 1.6 | E115: =_xlfn.TEXTJOIN(",",TRUE,A115:D115) -> 6,501,16,1.6
A116: 7 | B116: =B115 -> 501 | C116: =C89 -> 18 | D116: =D89 -> 1.6 | E116: =_xlfn.TEXTJOIN(",",TRUE,A116:D116) -> 7,501,18,1.6
A117: 8 | B117: =B116 -> 501 | C117: =C90 -> 19 | D117: =D90 -> 1.6 | E117: =_xlfn.TEXTJOIN(",",TRUE,A117:D117) -> 8,501,19,1.6
A118: 9 | B118: =B117 -> 501 | C118: =C91 -> 21 | D118: =D91 -> 1.6 | E118: =_xlfn.TEXTJOIN(",",TRUE,A118:D118) -> 9,501,21,1.6
A119: 10 | B119: =B118 -> 501 | C119: =C92 -> 24 | D119: =D92 -> 1.6 | E119: =_xlfn.TEXTJOIN(",",TRUE,A119:D119) -> 10,501,24,1.6
A120: 11 | B120: =B119 -> 501 | C120: =C93 -> 26 | D120: =D93 -> 1.6 | E120: =_xlfn.TEXTJOIN(",",TRUE,A120:D120) -> 11,501,26,1.6
A121: 12 | B121: =B120 -> 501 | C121: =C94 -> 29 | D121: =D94 -> 1.6 | E121: =_xlfn.TEXTJOIN(",",TRUE,A121:D121) -> 12,501,29,1.6
A122: 13 | B122: =B121 -> 501 | C122: =C95 -> 30 | D122: =D95 -> 1.6 | E122: =_xlfn.TEXTJOIN(",",TRUE,A122:D122) -> 13,501,30,1.6
... A134: 25 | B134: =B133 -> 501 | C134: =C107 -> 50 | D134: =D107 -> 1.6 | E134: =_xlfn.TEXTJOIN(",",TRUE,A134:D134) -> 25,501,50,1.6
A136: 盘丝洞
A137: 1 | B137: 601 | C137: =C110 -> 10 | D137: =D110 -> 1.6 | E137: =_xlfn.TEXTJOIN(",",TRUE,A137:D137) -> 1,601,10,1.6
A138: 2 | B138: =B137 -> 601 | C138: =C111 -> 11 | D138: =D111 -> 1.6 | E138: =_xlfn.TEXTJOIN(",",TRUE,A138:D138) -> 2,601,11,1.6
A139: 3 | B139: =B138 -> 601 | C139: =C112 -> 12 | D139: =D112 -> 1.6 | E139: =_xlfn.TEXTJOIN(",",TRUE,A139:D139) -> 3,601,12,1.6
A140: 4 | B140: =B139 -> 601 | C140: =C113 -> 13 | D140: =D113 -> 1.6 | E140: =_xlfn.TEXTJOIN(",",TRUE,A140:D140) -> 4,601,13,1.6
A141: 5 | B141: =B140 -> 601 | C141: =C114 -> 15 | D141: =D114 -> 1.6 | E141: =_xlfn.TEXTJOIN(",",TRUE,A141:D141) -> 5,601,15,1.6
A142: 6 | B142: =B141 -> 601 | C142: =C115 -> 16 | D142: =D115 -> 1.6 | E142: =_xlfn.TEXTJOIN(",",TRUE,A142:D142) -> 6,601,16,1.6
A143: 7 | B143: =B142 -> 601 | C143: =C116 -> 18 | D143: =D116 -> 1.6 | E143: =_xlfn.TEXTJOIN(",",TRUE,A143:D143) -> 7,601,18,1.6
A144: 8 | B144: =B143 -> 601 | C144: =C117 -> 19 | D144: =D117 -> 1.6 | E144: =_xlfn.TEXTJOIN(",",TRUE,A144:D144) -> 8,601,19,1.6
A145: 9 | B145: =B144 -> 601 | C145: =C118 -> 21 | D145: =D118 -> 1.6 | E145: =_xlfn.TEXTJOIN(",",TRUE,A145:D145) -> 9,601,21,1.6
A146: 10 | B146: =B145 -> 601 | C146: =C119 -> 24 | D146: =D119 -> 1.6 | E146: =_xlfn.TEXTJOIN(",",TRUE,A146:D146) -> 10,601,24,1.6
A147: 11 | B147: =B146 -> 601 | C147: =C120 -> 26 | D147: =D120 -> 1.6 | E147: =_xlfn.TEXTJOIN(",",TRUE,A147:D147) -> 11,601,26,1.6
A148: 12 | B148: =B147 -> 601 | C148: =C121 -> 29 | D148: =D121 -> 1.6 | E148: =_xlfn.TEXTJOIN(",",TRUE,A148:D148) -> 12,601,29,1.6
A149: 13 | B149: =B148 -> 601 | C149: =C122 -> 30 | D149: =D122 -> 1.6 | E149: =_xlfn.TEXTJOIN(",",TRUE,A149:D149) -> 13,601,30,1.6
... A161: 25 | B161: =B160 -> 601 | C161: =C134 -> 50 | D161: =D134 -> 1.6 | E161: =_xlfn.TEXTJOIN(",",TRUE,A161:D161) -> 25,601,50,1.6
A163: 火焰山
A164: 1 | B164: 701 | C164: =C137 -> 10 | D164: =D137 -> 1.6 | E164: =_xlfn.TEXTJOIN(",",TRUE,A164:D164) -> 1,701,10,1.6
...

Sheet 怪物难度
A1: 波次 | B1: 0 | C1: 1 | D1: 2 | E1: 3 | F1: 4 | G1: 5 | H1: 6 | I1: 7 | J1: 8 | K1: 9 | L1: 10 | M1: 11 | N1: 12
A2: 1 | B2: =AJ32 -> 9 | C2: =ROUND($B$2*($O$2^C1),0) -> 9 | D2: =ROUND($B$2*($O$2^D1),0) -> 9 | E2: =ROUND($B$2*($O$2^E1),0) -> 9 | F2: =ROUND($B$2*($O$2^F1),0) -> 9 | G2: =ROUND($B$2*($O$2^G1),0) -> 9 | H2: =ROUND($B$2*($O$2^H1),0) -> 9 | I2: =ROUND($B$2*($O$2^I1),0) -> 9 | J2: =ROUND($B$2*($O$2^J1),0) -> 9 | ... M2: =ROUND($B$2*($O$2^M1),0) -> 9 | N2: =AJ120 -> 9 | O2: 1
A3: 2 | B3: =AJ33 -> 22 | C3: =ROUND($B$3*($O$3^C1),0) -> 22 | D3: =ROUND($B$3*($O$3^D1),0) -> 22 | E3: =ROUND($B$3*($O$3^E1),0) -> 23 | F3: =ROUND($B$3*($O$3^F1),0) -> 23 | G3: =ROUND($B$3*($O$3^G1),0) -> 23 | H3: =ROUND($B$3*($O$3^H1),0) -> 23 | I3: =ROUND($B$3*($O$3^I1),0) -> 24 | J3: =ROUND($B$3*($O$3^J1),0) -> 24 | ... M3: =ROUND($B$3*($O$3^M1),0) -> 25 | N3: =AJ121 -> 22 | O3: 1.01
A4: 3 | B4: =AJ34 -> 36 | C4: =ROUND($B$4*($O$4^C1),0) -> 36 | D4: =ROUND($B$4*($O$4^D1),0) -> 37 | E4: =ROUND($B$4*($O$4^E1),0) -> 37 | F4: =ROUND($B$4*($O$4^F1),0) -> 37 | G4: =ROUND($B$4*($O$4^G1),0) -> 38 | H4: =ROUND($B$4*($O$4^H1),0) -> 38 | I4: =ROUND($B$4*($O$4^I1),0) -> 39 | J4: =ROUND($B$4*($O$4^J1),0) -> 39 | ... M4: =ROUND($B$4*($O$4^M1),0) -> 40 | N4: =AJ122 -> 36 | O4: 1.01
A5: 4 | B5: =AJ35 -> 52 | C5: =ROUND($B$5*($O$5^C1),0) -> 53 | D5: =ROUND($B$5*($O$5^D1),0) -> 53 | E5: =ROUND($B$5*($O$5^E1),0) -> 54 | F5: =ROUND($B$5*($O$5^F1),0) -> 54 | G5: =ROUND($B$5*($O$5^G1),0) -> 55 | H5: =ROUND($B$5*($O$5^H1),0) -> 55 | I5: =ROUND($B$5*($O$5^I1),0) -> 56 | J5: =ROUND($B$5*($O$5^J1),0) -> 56 | ... M5: =ROUND($B$5*($O$5^M1),0) -> 58 | N5: =AJ123 -> 52 | O5: 1.01
A6: 5 | B6: =AJ36 -> 99 | C6: =ROUND($B$6*($O$6^C1),0) -> 100 | D6: =ROUND($B$6*($O$6^D1),0) -> 101 | E6: =ROUND($B$6*($O$6^E1),0) -> 102 | F6: =ROUND($B$6*($O$6^F1),0) -> 103 | G6: =ROUND($B$6*($O$6^G1),0) -> 104 | H6: =ROUND($B$6*($O$6^H1),0) -> 105 | I6: =ROUND($B$6*($O$6^I1),0) -> 106 | J6: =ROUND($B$6*($O$6^J1),0) -> 107 | ... M6: =ROUND($B$6*($O$6^M1),0) -> 110 | N6: =AJ124 -> 99 | O6: 1.01
A7: 6 | B7: =AJ37 -> 128 | C7: =ROUND($B$7*($O$7^C1),0) -> 129 | D7: =ROUND($B$7*($O$7^D1),0) -> 131 | E7: =ROUND($B$7*($O$7^E1),0) -> 132 | F7: =ROUND($B$7*($O$7^F1),0) -> 133 | G7: =ROUND($B$7*($O$7^G1),0) -> 135 | H7: =ROUND($B$7*($O$7^H1),0) -> 136 | I7: =ROUND($B$7*($O$7^I1),0) -> 137 | J7: =ROUND($B$7*($O$7^J1),0) -> 139 | ... M7: =ROUND($B$7*($O$7^M1),0) -> 143 | N7: =AJ125 -> 137 | O7: 1.01
A8: 7 | B8: =AJ38 -> 168 | C8: =ROUND($B$8*($O$8^C1),0) -> 170 | D8: =ROUND($B$8*($O$8^D1),0) -> 171 | E8: =ROUND($B$8*($O$8^E1),0) -> 173 | F8: =ROUND($B$8*($O$8^F1),0) -> 175 | G8: =ROUND($B$8*($O$8^G1),0) -> 177 | H8: =ROUND($B$8*($O$8^H1),0) -> 178 | I8: =ROUND($B$8*($O$8^I1),0) -> 180 | J8: =ROUND($B$8*($O$8^J1),0) -> 182 | ... M8: =ROUND($B$8*($O$8^M1),0) -> 187 | N8: =AJ126 -> 178 | O8: 1.01
A9: 8 | B9: =AJ39 -> 218 | C9: =ROUND($B$9*($O$9^C1),0) -> 225 | D9: =ROUND($B$9*($O$9^D1),0) -> 231 | E9: =ROUND($B$9*($O$9^E1),0) -> 238 | F9: =ROUND($B$9*($O$9^F1),0) -> 245 | G9: =ROUND($B$9*($O$9^G1),0) -> 253 | H9: =ROUND($B$9*($O$9^H1),0) -> 260 | I9: =ROUND($B$9*($O$9^I1),0) -> 268 | J9: =ROUND($B$9*($O$9^J1),0) -> 276 | ... M9: =ROUND($B$9*($O$9^M1),0) -> 302 | N9: =AJ127 -> 344 | O9: 1.03
A10: 9 | B10: =AJ40 -> 267 | C10: =ROUND($B$10*($O$10^C1),0) -> 275 | D10: =ROUND($B$10*($O$10^D1),0) -> 283 | E10: =ROUND($B$10*($O$10^E1),0) -> 292 | F10: =ROUND($B$10*($O$10^F1),0) -> 301 | G10: =ROUND($B$10*($O$10^G1),0) -> 310 | H10: =ROUND($B$10*($O$10^H1),0) -> 319 | I10: =ROUND($B$10*($O$10^I1),0) -> 328 | J10: =ROUND($B$10*($O$10^J1),0) -> 338 | ... M10: =ROUND($B$10*($O$10^M1),0) -> 370 | N10: =AJ128 -> 409 | O10: 1.03
A11: 10 | B11: =AJ41 -> 389 | C11: =ROUND($B$11*($O$11^C1),0) -> 393 | D11: =ROUND($B$11*($O$11^D1),0) -> 397 | E11: =ROUND($B$11*($O$11^E1),0) -> 401 | F11: =ROUND($B$11*($O$11^F1),0) -> 405 | G11: =ROUND($B$11*($O$11^G1),0) -> 409 | H11: =ROUND($B$11*($O$11^H1),0) -> 413 | I11: =ROUND($B$11*($O$11^I1),0) -> 417 | J11: =ROUND($B$11*($O$11^J1),0) -> 421 | ... M11: =ROUND($B$11*($O$11^M1),0) -> 434 | N11: =AJ129 -> 448 | O11: 1.01
A12: 11 | B12: =AJ42 -> 516 | C12: =ROUND($B$12*($O$12^C1),0) -> 523 | D12: =ROUND($B$12*($O$12^D1),0) -> 530 | E12: =ROUND($B$12*($O$12^E1),0) -> 536 | F12: =ROUND($B$12*($O$12^F1),0) -> 543 | G12: =ROUND($B$12*($O$12^G1),0) -> 550 | H12: =ROUND($B$12*($O$12^H1),0) -> 558 | I12: =ROUND($B$12*($O$12^I1),0) -> 565 | J12: =ROUND($B$12*($O$12^J1),0) -> 572 | ... M12: =ROUND($B$12*($O$12^M1),0) -> 595 | N12: =AJ130 -> 602 | O12: 1.013
A13: 12 | B13: =AJ43 -> 758 | C13: =ROUND($B$13*($O$13^C1),0) -> 777 | D13: =ROUND($B$13*($O$13^D1),0) -> 796 | E13: =ROUND($B$13*($O$13^E1),0) -> 816 | F13: =ROUND($B$13*($O$13^F1),0) -> 837 | G13: =ROUND($B$13*($O$13^G1),0) -> 858 | H13: =ROUND($B$13*($O$13^H1),0) -> 879 | I13: =ROUND($B$13*($O$13^I1),0) -> 901 | J13: =ROUND($B$13*($O$13^J1),0) -> 924 | ... M13: =ROUND($B$13*($O$13^M1),0) -> 995 | N13: =AJ131 -> 1059 | O13: 1.025
A14: 13 | B14: =AJ44 -> 925 | C14: =ROUND($B$14*($O$14^C1),0) -> 948 | D14: =ROUND($B$14*($O$14^D1),0) -> 972 | E14: =ROUND($B$14*($O$14^E1),0) -> 996 | F14: =ROUND($B$14*($O$14^F1),0) -> 1021 | G14: =ROUND($B$14*($O$14^G1),0) -> 1047 | H14: =ROUND($B$14*($O$14^H1),0) -> 1073 | I14: =ROUND($B$14*($O$14^I1),0) -> 1100 | J14: =ROUND($B$14*($O$14^J1),0) -> 1127 | ... M14: =ROUND($B$14*($O$14^M1),0) -> 1214 | N14: =AJ132 -> 1274 | O14: 1.025
A15: 14 | B15: =AJ45 -> 1078 | C15: =ROUND($B$15*($O$15^C1),0) -> 1110 | D15: =ROUND($B$15*($O$15^D1),0) -> 1144 | E15: =ROUND($B$15*($O$15^E1),0) -> 1178 | F15: =ROUND($B$15*($O$15^F1),0) -> 1213 | G15: =ROUND($B$15*($O$15^G1),0) -> 1250 | H15: =ROUND($B$15*($O$15^H1),0) -> 1287 | I15: =ROUND($B$15*($O$15^I1),0) -> 1326 | J15: =ROUND($B$15*($O$15^J1),0) -> 1366 | ... M15: =ROUND($B$15*($O$15^M1),0) -> 1492 | N15: =AJ133 -> 1678 | O15: 1.03
A16: 15 | B16: =AJ46 -> 1787 | C16: =ROUND($B$16*($O$16^C1),0) -> 1841 | D16: =ROUND($B$16*($O$16^D1),0) -> 1896 | E16: =ROUND($B$16*($O$16^E1),0) -> 1953 | F16: =ROUND($B$16*($O$16^F1),0) -> 2011 | G16: =ROUND($B$16*($O$16^G1),0) -> 2072 | H16: =ROUND($B$16*($O$16^H1),0) -> 2134 | I16: =ROUND($B$16*($O$16^I1),0) -> 2198 | J16: =ROUND($B$16*($O$16^J1),0) -> 2264 | ... M16: =ROUND($B$16*($O$16^M1),0) -> 2474 | N16: =AJ134 -> 2396 | O16: 1.03
A17: 16 | B17: =AJ47 -> 1782 | C17: =ROUND($B$17*($O$17^C1),0) -> 1835 | D17: =ROUND($B$17*($O$17^D1),0) -> 1891 | E17: =ROUND($B$17*($O$17^E1),0) -> 1947 | F17: =ROUND($B$17*($O$17^F1),0) -> 2006 | G17: =ROUND($B$17*($O$17^G1),0) -> 2066 | H17: =ROUND($B$17*($O$17^H1),0) -> 2128 | I17: =ROUND($B$17*($O$17^I1),0) -> 2192 | J17: =ROUND($B$17*($O$17^J1),0) -> 2257 | ... M17: =ROUND($B$17*($O$17^M1),0) -> 2467 | N17: =AJ135 -> 2694 | O17: 1.03
A18: 17 | B18: =AJ48 -> 2245 | C18: =ROUND($B$18*($O$18^C1),0) -> 2312 | D18: =ROUND($B$18*($O$18^D1),0) -> 2382 | E18: =ROUND($B$18*($O$18^E1),0) -> 2453 | F18: =ROUND($B$18*($O$18^F1),0) -> 2527 | G18: =ROUND($B$18*($O$18^G1),0) -> 2603 | H18: =ROUND($B$18*($O$18^H1),0) -> 2681 | I18: =ROUND($B$18*($O$18^I1),0) -> 2761 | J18: =ROUND($B$18*($O$18^J1),0) -> 2844 | ... M18: =ROUND($B$18*($O$18^M1),0) -> 3108 | N18: =AJ136 -> 3367 | O18: 1.03
A19: 18 | B19: =AJ49 -> 3165 | C19: =ROUND($B$19*($O$19^C1),0) -> 3260 | D19: =ROUND($B$19*($O$19^D1),0) -> 3358 | E19: =ROUND($B$19*($O$19^E1),0) -> 3458 | F19: =ROUND($B$19*($O$19^F1),0) -> 3562 | G19: =ROUND($B$19*($O$19^G1),0) -> 3669 | H19: =ROUND($B$19*($O$19^H1),0) -> 3779 | I19: =ROUND($B$19*($O$19^I1),0) -> 3893 | J19: =ROUND($B$19*($O$19^J1),0) -> 4009 | ... M19: =ROUND($B$19*($O$19^M1),0) -> 4381 | N19: =AJ137 -> 4607 | O19: 1.03
A20: 19 | B20: =AJ50 -> 3965 | C20: =ROUND($B$20*($O$20^C1),0) -> 4108 | D20: =ROUND($B$20*($O$20^D1),0) -> 4256 | E20: =ROUND($B$20*($O$20^E1),0) -> 4409 | F20: =ROUND($B$20*($O$20^F1),0) -> 4568 | G20: =ROUND($B$20*($O$20^G1),0) -> 4732 | H20: =ROUND($B$20*($O$20^H1),0) -> 4902 | I20: =ROUND($B$20*($O$20^I1),0) -> 5079 | J20: =ROUND($B$20*($O$20^J1),0) -> 5262 | ... M20: =ROUND($B$20*($O$20^M1),0) -> 5851 | N20: =AJ138 -> 6208 | O20: 1.036
A21: 20 | B21: =AJ51 -> 5089 | C21: =ROUND($B$21*($O$21^C1),0) -> 5216 | D21: =ROUND($B$21*($O$21^D1),0) -> 5347 | E21: =ROUND($B$21*($O$21^E1),0) -> 5480 | F21: =ROUND($B$21*($O$21^F1),0) -> 5617 | G21: =ROUND($B$21*($O$21^G1),0) -> 5758 | H21: =ROUND($B$21*($O$21^H1),0) -> 5902 | I21: =ROUND($B$21*($O$21^I1),0) -> 6049 | J21: =ROUND($B$21*($O$21^J1),0) -> 6200 | ... M21: =ROUND($B$21*($O$21^M1),0) -> 6677 | N21: =AJ139 -> 6851 | O21: 1.025
A22: 21 | B22: =AJ52 -> 6331 | C22: =ROUND($B$22*($O$22^C1),0) -> 6489 | D22: =ROUND($B$22*($O$22^D1),0) -> 6652 | E22: =ROUND($B$22*($O$22^E1),0) -> 6818 | F22: =ROUND($B$22*($O$22^F1),0) -> 6988 | G22: =ROUND($B$22*($O$22^G1),0) -> 7163 | H22: =ROUND($B$22*($O$22^H1),0) -> 7342 | I22: =ROUND($B$22*($O$22^I1),0) -> 7526 | J22: =ROUND($B$22*($O$22^J1),0) -> 7714 | ... M22: =ROUND($B$22*($O$22^M1),0) -> 8307 | N22: =AJ140 -> 8662 | O22: 1.025
A23: 22 | B23: =AJ53 -> 8969 | C23: =ROUND($B$23*($O$23^C1),0) -> 9148 | D23: =ROUND($B$23*($O$23^D1),0) -> 9331 | E23: =ROUND($B$23*($O$23^E1),0) -> 9518 | F23: =ROUND($B$23*($O$23^F1),0) -> 9708 | G23: =ROUND($B$23*($O$23^G1),0) -> 9903 | H23: =ROUND($B$23*($O$23^H1),0) -> 10101 | I23: =ROUND($B$23*($O$23^I1),0) -> 10303 | J23: =ROUND($B$23*($O$23^J1),0) -> 10509 | ... M23: =ROUND($B$23*($O$23^M1),0) -> 11152 | N23: =AJ141 -> 11507 | O23: 1.02
A24: 23 | B24: =AJ54 -> 12768 | C24: =ROUND($B$24*($O$24^C1),0) -> 13023 | D24: =ROUND($B$24*($O$24^D1),0) -> 13284 | E24: =ROUND($B$24*($O$24^E1),0) -> 13550 | F24: =ROUND($B$24*($O$24^F1),0) -> 13820 | G24: =ROUND($B$24*($O$24^G1),0) -> 14097 | H24: =ROUND($B$24*($O$24^H1),0) -> 14379 | I24: =ROUND($B$24*($O$24^I1),0) -> 14666 | J24: =ROUND($B$24*($O$24^J1),0) -> 14960 | ... M24: =ROUND($B$24*($O$24^M1),0) -> 15875 | N24: =AJ142 -> 16427 | O24: 1.02
A25: 24 | B25: =AJ55 -> 18030 | C25: =ROUND($B$25*($O$25^C1),0) -> 18210 | D25: =ROUND($B$25*($O$25^D1),0) -> 18392 | E25: =ROUND($B$25*($O$25^E1),0) -> 18576 | F25: =ROUND($B$25*($O$25^F1),0) -> 18762 | G25: =ROUND($B$25*($O$25^G1),0) -> 18950 | H25: =ROUND($B$25*($O$25^H1),0) -> 19139 | I25: =ROUND($B$25*($O$25^I1),0) -> 19331 | J25: =ROUND($B$25*($O$25^J1),0) -> 19524 | ... M25: =ROUND($B$25*($O$25^M1),0) -> 20116 | N25: =AJ143 -> 20897 | O25: 1.01 | V25: 2 | W25: 21 | X25: =21/17 -> 1.2352941
A26: 25 | B26: =AJ56 -> 21035 | C26: =ROUND($B$26*($O$26^C1),0) -> 21456 | D26: =ROUND($B$26*($O$26^D1),0) -> 21885 | E26: =ROUND($B$26*($O$26^E1),0) -> 22323 | F26: =ROUND($B$26*($O$26^F1),0) -> 22769 | G26: =ROUND($B$26*($O$26^G1),0) -> 23224 | H26: =ROUND($B$26*($O$26^H1),0) -> 23689 | I26: =ROUND($B$26*($O$26^I1),0) -> 24163 | J26: =ROUND($B$26*($O$26^J1),0) -> 24646 | ... M26: =ROUND($B$26*($O$26^M1),0) -> 26154 | N26: =AJ144 -> 27145 | O26: 1.02 | W26: 27 | X26: =27/17 -> 1.5882353
F29: 比例系数 | G29: 每次数量 | H29: 基础伤害
F30: 3 | G30: 5 | H30: 3 | S30: 紫 | T30: 橙 | U30: 橙 | V30: 橙 | W30: 橙
A31: 怪物波次 | B31: 怪物数量 | C31: 桃子总数量 | E31: 营字数量 | G31: 基础字 | H31: 铲子 | I31: 神将 | J31: 枪 | K31: 棍 | L31: 弓 | M31: 营 | N31: 枪 | O31: 棍 | P31: 弓 | Q31: 营 | R31: 神将 | S31: 神将1等级 | T31: 神将2等级 | U31: 神将3等级 | V31: 神将4等级 | W31: 神将5等级 | X31: 神将1伤害 | Y31: 神将2伤害 | Z31: 神将3伤害 | AA31: 神将4伤害 | AB31: 神将5伤害 | AC31: 怪物数量 | AD31: 出怪时间 | AE31: 额外时间 | AF31: 总伤害 | AG31: 总血量 | AH31: 血量倍数 | AI31: 系数
A32: 1 | B32: 10 | C32: 20 | D32: =INDEX($A$60:$A$114,MATCH(C32,$C$60:$C$114,1)) -> 1 | E32: 1 | F32: =ROUND(B32/$F$30,0) -> 3 | G32: =ROUND(D32*$G$30*文字概率!$H$52,0) -> 4 | H32: =ROUND($G$30*D32*文字概率!$H$54,0) -> 0 | I32: =ROUND(D32*$G$30*文字概率!$H$53,0) -> 1 | J32: =ROUND(G32/4,0) -> 1 | K32: =ROUND(G32/4,0) -> 1 | L32: =ROUND(G32/4,0) -> 1 | M32: =ROUND(G32/4,0) -> 1 | N32: =INDEX($T$61:$T$76,MATCH(J32,$I$61:$I$76,0))*$G$62 -> 4.5 | O32: =INDEX($T$61:$T$76,MATCH(K32,$I$61:$I$76,0))*$G$63 -> 6.75 | P32: =INDEX($T$61:$T$76,MATCH(L32,$I$61:$I$76,0))*$G$64 -> 1.8 | S32: 0 | T32: 0 | U32: 0 | V32: 0 | W32: 0 | X32: =VLOOKUP(S32,$I$77:$K$83,2,FALSE) -> 0 | Y32: =VLOOKUP(T32,$I$77:$K$83,3,FALSE) -> 0 | Z32: =VLOOKUP(U32,$I$77:$K$83,3,FALSE) -> 0 | AA32: =VLOOKUP(V32,$I$77:$K$83,3,FALSE) -> 0 | AB32: =VLOOKUP(W32,$I$77:$K$83,3,FALSE) -> 0 | AC32: 10 | AD32: =AC32*1.8 -> 18 | AE32: 10 | AF32: =SUM(N32:P32,X32:AB32) -> 13.05 | AG32: =AF32*(AD32+AE32) -> 365.4 | AH32: =AG32/AC32 -> 36.54 | AI32: 0.25 | AJ32: =ROUND(AH32*AI32,0) -> 9
A33: 2 | B33: 11 | C33: =C32+B32*1+F32 -> 33 | D33: =INDEX($A$60:$A$114,MATCH(C33,$C$60:$C$114,1)) -> 2 | E33: =D33 -> 2 | F33: =ROUND(B33/$F$30,0) -> 4 | G33: =ROUND(D33*$G$30*文字概率!$H$52,0) -> 7 | H33: =ROUND($G$30*D33*文字概率!$H$54,0) -> 1 | I33: =ROUND(D33*$G$30*文字概率!$H$53,0) -> 2 | J33: =ROUND(G33/4,0) -> 2 | K33: =ROUND(G33/4,0) -> 2 | L33: =ROUND(G33/4,0) -> 2 | M33: =ROUND(G33/4,0) -> 2 | N33: =INDEX($T$61:$T$76,MATCH(J33,$I$61:$I$76,0))*$G$62 -> 10.125 | O33: =INDEX($T$61:$T$76,MATCH(K33,$I$61:$I$76,0))*$G$63 -> 15.1875 | P33: =INDEX($T$61:$T$76,MATCH(L33,$I$61:$I$76,0))*$G$64 -> 4.05 | S33: 0 | T33: 0 | U33: 0 | V33: 0 | W33: 0 | X33: =VLOOKUP(S33,$I$77:$K$83,2,FALSE) -> 0 | Y33: =VLOOKUP(T33,$I$77:$K$83,3,FALSE) -> 0 | Z33: =VLOOKUP(U33,$I$77:$K$83,3,FALSE) -> 0 | AA33: =VLOOKUP(V33,$I$77:$K$83,3,FALSE) -> 0 | AB33: =VLOOKUP(W33,$I$77:$K$83,3,FALSE) -> 0 | AC33: 11 | AD33: =AC33*1.8 -> 19.8 | AE33: 10 | AF33: =SUM(N33:P33,X33:AB33) -> 29.3625 | AG33: =AF33*(AD33+AE33) -> 875.0025 | AH33: =AG33/AC33 -> 79.545682 | AI33: 0.28 | AJ33: =ROUND(AH33*AI33,0) -> 22
A34: 3 | B34: 12 | C34: =C33+B33*1+F33 -> 48 | D34: =INDEX($A$60:$A$114,MATCH(C34,$C$60:$C$114,1)) -> 3 | E34: 2 | F34: =ROUND(B34/$F$30,0) -> 4 | G34: =ROUND(D34*$G$30*文字概率!$H$52,0) -> 11 | H34: =ROUND($G$30*D34*文字概率!$H$54,0) -> 1 | I34: =ROUND(D34*$G$30*文字概率!$H$53,0) -> 3 | J34: =ROUND(G34/4,0) -> 3 | K34: =ROUND(G34/4,0) -> 3 | L34: =ROUND(G34/4,0) -> 3 | M34: =ROUND(G34/4,0) -> 3 | N34: =INDEX($T$61:$T$76,MATCH(J34,$I$61:$I$76,0))*$G$62 -> 14.625 | O34: =INDEX($T$61:$T$76,MATCH(K34,$I$61:$I$76,0))*$G$63 -> 21.9375 | P34: =INDEX($T$61:$T$76,MATCH(L34,$I$61:$I$76,0))*$G$64 -> 5.85 | S34: 0 | T34: 0 | U34: 0 | V34: 0 | W34: 0 | X34: =VLOOKUP(S34,$I$77:$K$83,2,FALSE) -> 0 | Y34: =VLOOKUP(T34,$I$77:$K$83,3,FALSE) -> 0 | Z34: =VLOOKUP(U34,$I$77:$K$83,3,FALSE) -> 0 | AA34: =VLOOKUP(V34,$I$77:$K$83,3,FALSE) -> 0 | AB34: =VLOOKUP(W34,$I$77:$K$83,3,FALSE) -> 0 | AC34: 12 | AD34: =AC34*1.8 -> 21.6 | AE34: 10 | AF34: =SUM(N34:P34,X34:AB34) -> 42.4125 | AG34: =AF34*(AD34+AE34) -> 1340.235 | AH34: =AG34/AC34 -> 111.68625 | AI34: 0.32 | AJ34: =ROUND(AH34*AI34,0) -> 36
A35: 4 | B35: 13 | C35: =C34+B34*1+F34 -> 64 | D35: =INDEX($A$60:$A$114,MATCH(C35,$C$60:$C$114,1)) -> 4 | E35: 3 | F35: =ROUND(B35/$F$30,0) -> 4 | G35: =ROUND(D35*$G$30*文字概率!$H$52,0) -> 15 | H35: =ROUND($G$30*D35*文字概率!$H$54,0) -> 1 | I35: =ROUND(D35*$G$30*文字概率!$H$53,0) -> 4 | J35: =ROUND(G35/4,0) -> 4 | K35: =ROUND(G35/4,0) -> 4 | L35: =ROUND(G35/4,0) -> 4 | M35: =ROUND(G35/4,0) -> 4 | N35: =INDEX($T$61:$T$76,MATCH(J35,$I$61:$I$76,0))*$G$62 -> 19.845 | O35: =INDEX($T$61:$T$76,MATCH(K35,$I$61:$I$76,0))*$G$63 -> 29.7675 | P35: =INDEX($T$61:$T$76,MATCH(L35,$I$61:$I$76,0))*$G$64 -> 7.938 | S35: 0 | T35: 0 | U35: 0 | V35: 0 | W35: 0 | X35: =VLOOKUP(S35,$I$77:$K$83,2,FALSE) -> 0 | Y35: =VLOOKUP(T35,$I$77:$K$83,3,FALSE) -> 0 | Z35: =VLOOKUP(U35,$I$77:$K$83,3,FALSE) -> 0 | AA35: =VLOOKUP(V35,$I$77:$K$83,3,FALSE) -> 0 | AB35: =VLOOKUP(W35,$I$77:$K$83,3,FALSE) -> 0 | AC35: 13 | AD35: =AC35*1.8 -> 23.4 | AE35: 10 | AF35: =SUM(N35:P35,X35:AB35) -> 57.5505 | AG35: =AF35*(AD35+AE35) -> 1922.1867 | AH35: =AG35/AC35 -> 147.86052 | AI35: 0.35 | AJ35: =ROUND(AH35*AI35,0) -> 52
A36: 5 | B36: 15 | C36: =C35+B35*1+F35 -> 81 | D36: =INDEX($A$60:$A$114,MATCH(C36,$C$60:$C$114,1)) -> 5 | E36: 3 | F36: =ROUND(B36/$F$30,0) -> 5 | G36: =ROUND(D36*$G$30*文字概率!$H$52,0) -> 19 | H36: =ROUND($G$30*D36*文字概率!$H$54,0) -> 2 | I36: =ROUND(D36*$G$30*文字概率!$H$53,0) -> 5 | J36: =ROUND(G36/4,0) -> 5 | K36: =ROUND(G36/4,0) -> 5 | L36: =ROUND(G36/4,0) -> 5 | M36: =ROUND(G36/4,0) -> 5 | N36: =INDEX($T$61:$T$76,MATCH(J36,$I$61:$I$76,0))*$G$62 -> 34.47 | O36: =INDEX($T$61:$T$76,MATCH(K36,$I$61:$I$76,0))*$G$63 -> 51.705 | P36: =INDEX($T$61:$T$76,MATCH(L36,$I$61:$I$76,0))*$G$64 -> 13.788 | S36: 0 | T36: 0 | U36: 0 | V36: 0 | W36: 0 | X36: =VLOOKUP(S36,$I$77:$K$83,2,FALSE) -> 0 | Y36: =VLOOKUP(T36,$I$77:$K$83,3,FALSE) -> 0 | Z36: =VLOOKUP(U36,$I$77:$K$83,3,FALSE) -> 0 | AA36: =VLOOKUP(V36,$I$77:$K$83,3,FALSE) -> 0 | AB36: =VLOOKUP(W36,$I$77:$K$83,3,FALSE) -> 0 | AC36: 15 | AD36: =AC36*1.8 -> 27 | AE36: 10 | AF36: =SUM(N36:P36,X36:AB36) -> 99.963 | AG36: =AF36*(AD36+AE36) -> 3698.631 | AH36: =AG36/AC36 -> 246.5754 | AI36: 0.4 | AJ36: =ROUND(AH36*AI36,0) -> 99
A37: 6 | B37: 16 | C37: =C36+B36*1+F36 -> 101 | D37: =INDEX($A$60:$A$114,MATCH(C37,$C$60:$C$114,1)) -> 6 | E37: 3 | F37: =ROUND(B37/$F$30,0) -> 5 | G37: =ROUND(D37*$G$30*文字概率!$H$52,0) -> 22 | H37: =ROUND($G$30*D37*文字概率!$H$54,0) -> 2 | I37: =ROUND(D37*$G$30*文字概率!$H$53,0) -> 6 | J37: =ROUND(G37/4,0) -> 6 | K37: =ROUND(G37/4,0) -> 6 | L37: =ROUND(G37/4,0) -> 6 | M37: =ROUND(G37/4,0) -> 6 | N37: =INDEX($T$61:$T$76,MATCH(J37,$I$61:$I$76,0))*$G$62 -> 29.97 | O37: =INDEX($T$61:$T$76,MATCH(K37,$I$61:$I$76,0))*$G$63 -> 44.955 | P37: =INDEX($T$61:$T$76,MATCH(L37,$I$61:$I$76,0))*$G$64 -> 11.988 | R37: 1 | S37: 1 | T37: 0 | U37: 0 | V37: 0 | W37: 0 | X37: =VLOOKUP(S37,$I$77:$K$83,2,FALSE) -> 18.75 | Y37: =VLOOKUP(T37,$I$77:$K$83,3,FALSE) -> 0 | Z37: =VLOOKUP(U37,$I$77:$K$83,3,FALSE) -> 0 | AA37: =VLOOKUP(V37,$I$77:$K$83,3,FALSE) -> 0 | AB37: =VLOOKUP(W37,$I$77:$K$83,3,FALSE) -> 0 | AC37: 16 | AD37: =AC37*1.8 -> 28.8 | AE37: 10 | AF37: =SUM(N37:P37,X37:AB37) -> 105.663 | AG37: =AF37*(AD37+AE37) -> 4099.7244 | AH37: =AG37/AC37 -> 256.23278 | AI37: 0.5 | AJ37: =ROUND(AH37*AI37,0) -> 128
A38: 7 | B38: 18 | C38: =C37+B37*1+F37 -> 122 | D38: =INDEX($A$60:$A$114,MATCH(C38,$C$60:$C$114,1)) -> 7 | E38: 3 | F38: =ROUND(B38/$F$30,0) -> 6 | G38: =ROUND(D38*$G$30*文字概率!$H$52,0) -> 26 | H38: =ROUND($G$30*D38*文字概率!$H$54,0) -> 2 | I38: =ROUND(D38*$G$30*文字概率!$H$53,0) -> 7 | J38: =ROUND(G38/4,0) -> 7 | K38: =ROUND(G38/4,0) -> 7 | L38: =ROUND(G38/4,0) -> 7 | M38: =ROUND(G38/4,0) -> 7 | N38: =INDEX($T$61:$T$76,MATCH(J38,$I$61:$I$76,0))*$G$62 -> 34.47 | O38: =INDEX($T$61:$T$76,MATCH(K38,$I$61:$I$76,0))*$G$63 -> 51.705 | P38: =INDEX($T$61:$T$76,MATCH(L38,$I$61:$I$76,0))*$G$64 -> 13.788 | S38: 1 | T38: 0 | U38: 0 | V38: 0 | W38: 0 | X38: =VLOOKUP(S38,$I$77:$K$83,2,FALSE) -> 18.75 | Y38: =VLOOKUP(T38,$I$77:$K$83,3,FALSE) -> 0 | Z38: =VLOOKUP(U38,$I$77:$K$83,3,FALSE) -> 0 | AA38: =VLOOKUP(V38,$I$77:$K$83,3,FALSE) -> 0 | AB38: =VLOOKUP(W38,$I$77:$K$83,3,FALSE) -> 0 | AC38: 18 | AD38: =AC38*1.8 -> 32.4 | AE38: 10 | AF38: =SUM(N38:P38,X38:AB38) -> 118.713 | AG38: =AF38*(AD38+AE38) -> 5033.4312 | AH38: =AG38/AC38 -> 279.63507 | AI38: 0.6 | AJ38: =ROUND(AH38*AI38,0) -> 168
A39: 8 | B39: 19 | C39: =C38+B38*1+F38 -> 146 | D39: =INDEX($A$60:$A$114,MATCH(C39,$C$60:$C$114,1)) -> 8 | E39: 3 | F39: =ROUND(B39/$F$30,0) -> 6 | G39: =ROUND(D39*$G$30*文字概率!$H$52,0) -> 30 | H39: =ROUND($G$30*D39*文字概率!$H$54,0) -> 3 | I39: =ROUND(D39*$G$30*文字概率!$H$53,0) -> 7 | J39: =ROUND(G39/4,0) -> 8 | K39: =ROUND(G39/4,0) -> 8 | L39: =ROUND(G39/4,0) -> 8 | M39: =ROUND(G39/4,0) -> 8 | N39: =INDEX($T$61:$T$76,MATCH(J39,$I$61:$I$76,0))*$G$62 -> 33.53805 | O39: =INDEX($T$61:$T$76,MATCH(K39,$I$61:$I$76,0))*$G$63 -> 50.307075 | P39: =INDEX($T$61:$T$76,MATCH(L39,$I$61:$I$76,0))*$G$64 -> 13.41522 | S39: 2 | T39: 0 | U39: 0 | V39: 0 | W39: 0 | X39: =VLOOKUP(S39,$I$77:$K$83,2,FALSE) -> 36.5625 | Y39: =VLOOKUP(T39,$I$77:$K$83,3,FALSE) -> 0 | Z39: =VLOOKUP(U39,$I$77:$K$83,3,FALSE) -> 0 | AA39: =VLOOKUP(V39,$I$77:$K$83,3,FALSE) -> 0 | AB39: =VLOOKUP(W39,$I$77:$K$83,3,FALSE) -> 0 | AC39: 19 | AD39: =AC39*1.8 -> 34.2 | AE39: 10 | AF39: =SUM(N39:P39,X39:AB39) -> 133.82285 | AG39: =AF39*(AD39+AE39) -> 5914.9697 | AH39: =AG39/AC39 -> 311.3142 | AI39: 0.7 | AJ39: =ROUND(AH39*AI39,0) -> 218
A40: 9 | B40: 21 | C40: =C39+B39*1+F39 -> 171 | D40: =INDEX($A$60:$A$114,MATCH(C40,$C$60:$C$114,1)) -> 9 | E40: 4 | F40: =ROUND(B40/$F$30,0) -> 7 | G40: =ROUND(D40*$G$30*文字概率!$H$52,0) -> 34 | H40: =ROUND($G$30*D40*文字概率!$H$54,0) -> 3 | I40: =ROUND(D40*$G$30*文字概率!$H$53,0) -> 8 | J40: =ROUND(G40/4,0) -> 9 | K40: =ROUND(G40/4,0) -> 9 | L40: =ROUND(G40/4,0) -> 9 | M40: =ROUND(G40/4,0) -> 9 | N40: =INDEX($T$61:$T$76,MATCH(J40,$I$61:$I$76,0))*$G$62 -> 38.03805 | O40: =INDEX($T$61:$T$76,MATCH(K40,$I$61:$I$76,0))*$G$63 -> 57.057075 | P40: =INDEX($T$61:$T$76,MATCH(L40,$I$61:$I$76,0))*$G$64 -> 15.21522 | S40: 2 | T40: 0 | U40: 0 | V40: 0 | W40: 0 | X40: =VLOOKUP(S40,$I$77:$K$83,2,FALSE) -> 36.5625 | Y40: =VLOOKUP(T40,$I$77:$K$83,3,FALSE) -> 0 | Z40: =VLOOKUP(U40,$I$77:$K$83,3,FALSE) -> 0 | AA40: =VLOOKUP(V40,$I$77:$K$83,3,FALSE) -> 0 | AB40: =VLOOKUP(W40,$I$77:$K$83,3,FALSE) -> 0 | AC40: 21 | AD40: =AC40*1.8 -> 37.8 | AE40: 10 | AF40: =SUM(N40:P40,X40:AB40) -> 146.87285 | AG40: =AF40*(AD40+AE40) -> 7020.522 | AH40: =AG40/AC40 -> 334.31057 | AI40: 0.8 | AJ40: =ROUND(AH40*AI40,0) -> 267
A41: 10 | B41: 24 | C41: =C40+B40*1+F40 -> 199 | D41: =INDEX($A$60:$A$114,MATCH(C41,$C$60:$C$114,1)) -> 10 | E41: 4 | F41: =ROUND(B41/$F$30,0) -> 8 | G41: =ROUND(D41*$G$30*文字概率!$H$52,0) -> 37 | H41: =ROUND($G$30*D41*文字概率!$H$54,0) -> 3 | I41: =ROUND(D41*$G$30*文字概率!$H$53,0) -> 9 | J41: =ROUND(G41/4,0) -> 9 | K41: =ROUND(G41/4,0) -> 9 | L41: =ROUND(G41/4,0) -> 9 | M41: =ROUND(G41/4,0) -> 9 | N41: =INDEX($T$61:$T$76,MATCH(J41,$I$61:$I$76,0))*$G$62 -> 38.03805 | O41: =INDEX($T$61:$T$76,MATCH(K41,$I$61:$I$76,0))*$G$63 -> 57.057075 | P41: =INDEX($T$61:$T$76,MATCH(L41,$I$61:$I$76,0))*$G$64 -> 15.21522 | R41: 2 | S41: 2 | T41: 1 | U41: 0 | V41: 0 | W41: 0 | X41: =VLOOKUP(S41,$I$77:$K$83,2,FALSE) -> 36.5625 | Y41: =VLOOKUP(T41,$I$77:$K$83,3,FALSE) -> 48 | Z41: =VLOOKUP(U41,$I$77:$K$83,3,FALSE) -> 0 | AA41: =VLOOKUP(V41,$I$77:$K$83,3,FALSE) -> 0 | AB41: =VLOOKUP(W41,$I$77:$K$83,3,FALSE) -> 0 | AC41: 24 | AD41: =AC41*1.8 -> 43.2 | AE41: 10 | AF41: =SUM(N41:P41,X41:AB41) -> 194.87285 | AG41: =AF41*(AD41+AE41) -> 10367.235 | AH41: =AG41/AC41 -> 431.96814 | AI41: 0.9 | AJ41: =ROUND(AH41*AI41,0) -> 389
A42: 11 | B42: 26 | C42: =C41+B41*1+F41 -> 231 | D42: =INDEX($A$60:$A$114,MATCH(C42,$C$60:$C$114,1)) -> 11 | E42: 4 | F42: =ROUND(B42/$F$30,0) -> 9 | G42: =ROUND(D42*$G$30*文字概率!$H$52,0) -> 41 | H42: =ROUND($G$30*D42*文字概率!$H$54,0) -> 4 | I42: =ROUND(D42*$G$30*文字概率!$H$53,0) -> 10 | J42: =ROUND(G42/4,0) -> 10 | K42: =ROUND(G42/4,0) -> 10 | L42: =ROUND(G42/4,0) -> 10 | M42: =ROUND(G42/4,0) -> 10 | N42: =INDEX($T$61:$T$76,MATCH(J42,$I$61:$I$76,0))*$G$62 -> 43.66305 | O42: =INDEX($T$61:$T$76,MATCH(K42,$I$61:$I$76,0))*$G$63 -> 65.494575 | P42: =INDEX($T$61:$T$76,MATCH(L42,$I$61:$I$76,0))*$G$64 -> 17.46522 | S42: 3 | T42: 1 | U42: 0 | V42: 0 | W42: 0 | X42: =VLOOKUP(S42,$I$77:$K$83,2,FALSE) -> 61.425 | Y42: =VLOOKUP(T42,$I$77:$K$83,3,FALSE) -> 48 | Z42: =VLOOKUP(U42,$I$77:$K$83,3,FALSE) -> 0 | AA42: =VLOOKUP(V42,$I$77:$K$83,3,FALSE) -> 0 | AB42: =VLOOKUP(W42,$I$77:$K$83,3,FALSE) -> 0 | AC42: 26 | AD42: =AC42*1.8 -> 46.8 | AE42: 10 | AF42: =SUM(N42:P42,X42:AB42) -> 236.04784 | AG42: =AF42*(AD42+AE42) -> 13407.518 | AH42: =AG42/AC42 -> 515.67375 | AI42: 1 | AJ42: =ROUND(AH42*AI42,0) -> 516
A43: 12 | B43: 29 | C43: =C42+B42*1+F42 -> 266 | D43: =INDEX($A$60:$A$114,MATCH(C43,$C$60:$C$114,1)) -> 12 | E43: 4 | F43: =ROUND(B43/$F$30,0) -> 10 | G43: =ROUND(D43*$G$30*文字概率!$H$52,0) -> 45 | H43: =ROUND($G$30*D43*文字概率!$H$54,0) -> 4 | I43: =ROUND(D43*$G$30*文字概率!$H$53,0) -> 11 | J43: =ROUND(G43/4,0) -> 11 | K43: =ROUND(G43/4,0) -> 11 | L43: =ROUND(G43/4,0) -> 11 | M43: =ROUND(G43/4,0) -> 11 | N43: =INDEX($T$61:$T$76,MATCH(J43,$I$61:$I$76,0))*$G$62 -> 48.16305 | O43: =INDEX($T$61:$T$76,MATCH(K43,$I$61:$I$76,0))*$G$63 -> 72.244575 | P43: =INDEX($T$61:$T$76,MATCH(L43,$I$61:$I$76,0))*$G$64 -> 19.26522 | S43: 3 | T43: 2 | U43: 0 | V43: 0 | W43: 0 | X43: =VLOOKUP(S43,$I$77:$K$83,2,FALSE) -> 61.425 | Y43: =VLOOKUP(T43,$I$77:$K$83,3,FALSE) -> 93.6 | Z43: =VLOOKUP(U43,$I$77:$K$83,3,FALSE) -> 0 | AA43: =VLOOKUP(V43,$I$77:$K$83,3,FALSE) -> 0 | AB43: =VLOOKUP(W43,$I$77:$K$83,3,FALSE) -> 0 | AC43: 29 | AD43: =AC43*1.8 -> 52.2 | AE43: 10 | AF43: =SUM(N43:P43,X43:AB43) -> 294.69784 | AG43: =AF43*(AD43+AE43) -> 18330.206 | AH43: =AG43/AC43 -> 632.07607 | AI43: 1.2 | AJ43: =ROUND(AH43*AI43,0) -> 758
A44: 13 | B44: 30 | C44: =C43+B43*1+F43 -> 305 | D44: =INDEX($A$60:$A$114,MATCH(C44,$C$60:$C$114,1)) -> 13 | E44: 4 | F44: =ROUND(B44/$F$30,0) -> 10 | G44: =ROUND(D44*$G$30*文字概率!$H$52,0) -> 49 | H44: =ROUND($G$30*D44*文字概率!$H$54,0) -> 4 | I44: =ROUND(D44*$G$30*文字概率!$H$53,0) -> 12 | J44: =ROUND(G44/4,0) -> 12 | K44: =ROUND(G44/4,0) -> 12 | L44: =ROUND(G44/4,0) -> 12 | M44: =ROUND(G44/4,0) -> 12 | N44: =INDEX($T$61:$T$76,MATCH(J44,$I$61:$I$76,0))*$G$62 -> 53.38305 | O44: =INDEX($T$61:$T$76,MATCH(K44,$I$61:$I$76,0))*$G$63 -> 80.074575 | P44: =INDEX($T$61:$T$76,MATCH(L44,$I$61:$I$76,0))*$G$64 -> 21.35322 | S44: 3 | T44: 2 | U44: 0 | V44: 0 | W44: 0 | X44: =VLOOKUP(S44,$I$77:$K$83,2,FALSE) -> 61.425 | Y44: =VLOOKUP(T44,$I$77:$K$83,3,FALSE) -> 93.6 | Z44: =VLOOKUP(U44,$I$77:$K$83,3,FALSE) -> 0 | AA44: =VLOOKUP(V44,$I$77:$K$83,3,FALSE) -> 0 | AB44: =VLOOKUP(W44,$I$77:$K$83,3,FALSE) -> 0 | AC44: 30 | AD44: =AC44*1.8 -> 54 | AE44: 10 | AF44: =SUM(N44:P44,X44:AB44) -> 309.83585 | AG44: =AF44*(AD44+AE44) -> 19829.494 | AH44: =AG44/AC44 -> 660.98314 | AI44: 1.4 | AJ44: =ROUND(AH44*AI44,0) -> 925
A45: 14 | B45: 35 | C45: =C44+B44*1+F44 -> 345 | D45: =INDEX($A$60:$A$114,MATCH(C45,$C$60:$C$114,1)) -> 14 | E45: 4 | F45: =ROUND(B45/$F$30,0) -> 12 | G45: =ROUND(D45*$G$30*文字概率!$H$52,0) -> 52 | H45: =ROUND($G$30*D45*文字概率!$H$54,0) -> 4 | I45: =ROUND(D45*$G$30*文字概率!$H$53,0) -> 13 | J45: =ROUND(G45/4,0) -> 13 | K45: =ROUND(G45/4,0) -> 13 | L45: =ROUND(G45/4,0) -> 13 | M45: =ROUND(G45/4,0) -> 13 | N45: =INDEX($T$61:$T$76,MATCH(J45,$I$61:$I$76,0))*$G$62 -> 57.88305 | O45: =INDEX($T$61:$T$76,MATCH(K45,$I$61:$I$76,0))*$G$63 -> 86.824575 | P45: =INDEX($T$61:$T$76,MATCH(L45,$I$61:$I$76,0))*$G$64 -> 23.15322 | S45: 3 | T45: 2 | U45: 0 | V45: 0 | W45: 0 | X45: =VLOOKUP(S45,$I$77:$K$83,2,FALSE) -> 61.425 | Y45: =VLOOKUP(T45,$I$77:$K$83,3,FALSE) -> 93.6 | Z45: =VLOOKUP(U45,$I$77:$K$83,3,FALSE) -> 0 | AA45: =VLOOKUP(V45,$I$77:$K$83,3,FALSE) -> 0 | AB45: =VLOOKUP(W45,$I$77:$K$83,3,FALSE) -> 0 | AC45: 35 | AD45: =AC45*1.8 -> 63 | AE45: 10 | AF45: =SUM(N45:P45,X45:AB45) -> 322.88585 | AG45: =AF45*(AD45+AE45) -> 23570.667 | AH45: =AG45/AC45 -> 673.44762 | AI45: 1.6 | AJ45: =ROUND(AH45*AI45,0) -> 1078
A46: 15 | B46: 38 | C46: =C45+B45*1+F45 -> 392 | D46: =INDEX($A$60:$A$114,MATCH(C46,$C$60:$C$114,1)) -> 15 | E46: 4 | F46: =ROUND(B46/$F$30,0) -> 13 | G46: =ROUND(D46*$G$30*文字概率!$H$52,0) -> 56 | H46: =ROUND($G$30*D46*文字概率!$H$54,0) -> 5 | I46: =ROUND(D46*$G$30*文字概率!$H$53,0) -> 14 | J46: =ROUND(G46/4,0) -> 14 | K46: =ROUND(G46/4,0) -> 14 | L46: =ROUND(G46/4,0) -> 14 | M46: =ROUND(G46/4,0) -> 14 | N46: =INDEX($T$61:$T$76,MATCH(J46,$I$61:$I$76,0))*$G$62 -> 63.50805 | O46: =INDEX($T$61:$T$76,MATCH(K46,$I$61:$I$76,0))*$G$63 -> 95.262075 | P46: =INDEX($T$61:$T$76,MATCH(L46,$I$61:$I$76,0))*$G$64 -> 25.40322 | R46: 3 | S46: 4 | T46: 3 | U46: 1 | V46: 0 | W46: 0 | X46: =VLOOKUP(S46,$I$77:$K$83,2,FALSE) -> 91.830375 | Y46: =VLOOKUP(T46,$I$77:$K$83,3,FALSE) -> 157.248 | Z46: =VLOOKUP(U46,$I$77:$K$83,3,FALSE) -> 48 | AA46: =VLOOKUP(V46,$I$77:$K$83,3,FALSE) -> 0 | AB46: =VLOOKUP(W46,$I$77:$K$83,3,FALSE) -> 0 | AC46: 38 | AD46: =AC46*1.8 -> 68.4 | AE46: 10 | AF46: =SUM(N46:P46,X46:AB46) -> 481.25172 | AG46: =AF46*(AD46+AE46) -> 37730.135 | AH46: =AG46/AC46 -> 992.89829 | AI46: 1.8 | AJ46: =ROUND(AH46*AI46,0) -> 1787
A47: 16 | B47: 42 | C47: =C46+B46*1+F46 -> 443 | D47: =INDEX($A$60:$A$114,MATCH(C47,$C$60:$C$114,1)) -> 17 | E47: 4 | F47: =ROUND(B47/$F$30,0) -> 14 | G47: =ROUND(D47*$G$30*文字概率!$H$52,0) -> 64 | H47: =ROUND($G$30*D47*文字概率!$H$54,0) -> 5 | I47: =ROUND(D47*$G$30*文字概率!$H$53,0) -> 16 | J47: =ROUND(G47/4,0) -> 16 | K47: =ROUND(G47/4,0) -> 16 | L47: =ROUND(G47/4,0) -> 16 | M47: =ROUND(G47/4,0) -> 16 | N47: =INDEX($T$61:$T$76,MATCH(J47,$I$61:$I$76,0))*$G$62 -> 48.294792 | O47: =INDEX($T$61:$T$76,MATCH(K47,$I$61:$I$76,0))*$G$63 -> 72.442188 | P47: =INDEX($T$61:$T$76,MATCH(L47,$I$61:$I$76,0))*$G$64 -> 19.317917 | S47: 4 | T47: 3 | U47: 1 | V47: 0 | W47: 0 | X47: =VLOOKUP(S47,$I$77:$K$83,2,FALSE) -> 91.830375 | Y47: =VLOOKUP(T47,$I$77:$K$83,3,FALSE) -> 157.248 | Z47: =VLOOKUP(U47,$I$77:$K$83,3,FALSE) -> 48 | AA47: =VLOOKUP(V47,$I$77:$K$83,3,FALSE) -> 0 | AB47: =VLOOKUP(W47,$I$77:$K$83,3,FALSE) -> 0 | AC47: 42 | AD47: =AC47*1.8 -> 75.6 | AE47: 10 | AF47: =SUM(N47:P47,X47:AB47) -> 437.13327 | AG47: =AF47*(AD47+AE47) -> 37418.608 | AH47: =AG47/AC47 -> 890.91924 | AI47: 2 | AJ47: =ROUND(AH47*AI47,0) -> 1782
A48: 17 | B48: 45 | C48: =C47+B47*1+F47 -> 499 | D48: =INDEX($A$60:$A$114,MATCH(C48,$C$60:$C$114,1)) -> 18 | E48: 4 | F48: =ROUND(B48/$F$30,0) -> 15 | G48: =ROUND(D48*$G$30*文字概率!$H$52,0) -> 67 | H48: =ROUND($G$30*D48*文字概率!$H$54,0) -> 6 | I48: 16 | J48: 16 | K48: 16 | L48: 16 | M48: 16 | N48: =INDEX($T$61:$T$76,MATCH(J48,$I$61:$I$76,0))*$G$62 -> 48.294792 | O48: =INDEX($T$61:$T$76,MATCH(K48,$I$61:$I$76,0))*$G$63 -> 72.442188 | P48: =INDEX($T$61:$T$76,MATCH(L48,$I$61:$I$76,0))*$G$64 -> 19.317917 | S48: 4 | T48: 3 | U48: 2 | V48: 0 | W48: 0 | X48: =VLOOKUP(S48,$I$77:$K$83,2,FALSE) -> 91.830375 | Y48: =VLOOKUP(T48,$I$77:$K$83,3,FALSE) -> 157.248 | Z48: =VLOOKUP(U48,$I$77:$K$83,3,FALSE) -> 93.6 | AA48: =VLOOKUP(V48,$I$77:$K$83,3,FALSE) -> 0 | AB48: =VLOOKUP(W48,$I$77:$K$83,3,FALSE) -> 0 | AC48: 45 | AD48: =AC48*1.8 -> 81 | AE48: 10 | AF48: =SUM(N48:P48,X48:AB48) -> 482.73327 | AG48: =AF48*(AD48+AE48) -> 43928.728 | AH48: =AG48/AC48 -> 976.19395 | AI48: 2.3 | AJ48: =ROUND(AH48*AI48,0) -> 2245
A49: 18 | B49: 50 | C49: =C48+B48*1+F48 -> 559 | D49: =INDEX($A$60:$A$114,MATCH(C49,$C$60:$C$114,1)) -> 19 | E49: 5 | F49: =ROUND(B49/$F$30,0) -> 17 | G49: =ROUND(D49*$G$30*文字概率!$H$52,0) -> 71 | H49: =ROUND($G$30*D49*文字概率!$H$54,0) -> 6 | I49: 16 | J49: 16 | K49: 16 | L49: 16 | M49: 16 | N49: =INDEX($T$61:$T$76,MATCH(J49,$I$61:$I$76,0))*$G$62 -> 48.294792 | O49: =INDEX($T$61:$T$76,MATCH(K49,$I$61:$I$76,0))*$G$63 -> 72.442188 | P49: =INDEX($T$61:$T$76,MATCH(L49,$I$61:$I$76,0))*$G$64 -> 19.317917 | R49: 4 | S49: 4 | T49: 4 | U49: 2 | V49: 1 | W49: 0 | X49: =VLOOKUP(S49,$I$77:$K$83,2,FALSE) -> 91.830375 | Y49: =VLOOKUP(T49,$I$77:$K$83,3,FALSE) -> 235.08576 | Z49: =VLOOKUP(U49,$I$77:$K$83,3,FALSE) -> 93.6 | AA49: =VLOOKUP(V49,$I$77:$K$83,3,FALSE) -> 48 | AB49: =VLOOKUP(W49,$I$77:$K$83,3,FALSE) -> 0 | AC49: 50 | AD49: =AC49*1.8 -> 90 | AE49: 10 | AF49: =SUM(N49:P49,X49:AB49) -> 608.57103 | AG49: =AF49*(AD49+AE49) -> 60857.103 | AH49: =AG49/AC49 -> 1217.1421 | AI49: 2.6 | AJ49: =ROUND(AH49*AI49,0) -> 3165
A50: 19 | B50: 50 | C50: =C49+B49*1+F49 -> 626 | D50: =INDEX($A$60:$A$114,MATCH(C50,$C$60:$C$114,1)) -> 20 | E50: 5 | F50: =ROUND(B50/$F$30,0) -> 17 | G50: =ROUND(D50*$G$30*文字概率!$H$52,0) -> 75 | H50: =ROUND($G$30*D50*文字概率!$H$54,0) -> 6 | I50: 16 | J50: 16 | K50: 16 | L50: 16 | M50: 16 | N50: =INDEX($T$61:$T$76,MATCH(J50,$I$61:$I$76,0))*$G$62 -> 48.294792 | O50: =INDEX($T$61:$T$76,MATCH(K50,$I$61:$I$76,0))*$G$63 -> 72.442188 | P50: =INDEX($T$61:$T$76,MATCH(L50,$I$61:$I$76,0))*$G$64 -> 19.317917 | S50: 5 | T50: 4 | U50: 2 | V50: 2 | W50: 0 | X50: =VLOOKUP(S50,$I$77:$K$83,2,FALSE) -> 121.21609 | Y50: =VLOOKUP(T50,$I$77:$K$83,3,FALSE) -> 235.08576 | Z50: =VLOOKUP(U50,$I$77:$K$83,3,FALSE) -> 93.6 | AA50: =VLOOKUP(V50,$I$77:$K$83,3,FALSE) -> 93.6 | AB50: =VLOOKUP(W50,$I$77:$K$83,3,FALSE) -> 0 | AC50: 50 | AD50: =AC50*1.8 -> 90 | AE50: 10 | AF50: =SUM(N50:P50,X50:AB50) -> 683.55675 | AG50: =AF50*(AD50+AE50) -> 68355.675 | AH50: =AG50/AC50 -> 1367.1135 | AI50: 2.9 | AJ50: =ROUND(AH50*AI50,0) -> 3965
A51: 20 | B51: 50 | C51: =C50+B50*1+F50 -> 693 | D51: =INDEX($A$60:$A$114,MATCH(C51,$C$60:$C$114,1)) -> 22 | E51: 5 | F51: =ROUND(B51/$F$30,0) -> 17 | G51: =ROUND(D51*$G$30*文字概率!$H$52,0) -> 82 | H51: =ROUND($G$30*D51*文字概率!$H$54,0) -> 7 | I51: 16 | J51: 16 | K51: 16 | L51: 16 | M51: 16 | N51: =INDEX($T$61:$T$76,MATCH(J51,$I$61:$I$76,0))*$G$62 -> 48.294792 | O51: =INDEX($T$61:$T$76,MATCH(K51,$I$61:$I$76,0))*$G$63 -> 72.442188 | P51: =INDEX($T$61:$T$76,MATCH(L51,$I$61:$I$76,0))*$G$64 -> 19.317917 | R51: 5 | S51: 5 | T51: 4 | U51: 3 | V51: 2 | W51: 1 | X51: =VLOOKUP(S51,$I$77:$K$83,2,FALSE) -> 121.21609 | Y51: =VLOOKUP(T51,$I$77:$K$83,3,FALSE) -> 235.08576 | Z51: =VLOOKUP(U51,$I$77:$K$83,3,FALSE) -> 157.248 | AA51: =VLOOKUP(V51,$I$77:$K$83,3,FALSE) -> 93.6 | AB51: =VLOOKUP(W51,$I$77:$K$83,3,FALSE) -> 48 | AC51: 50 | AD51: =AC51*1.8 -> 90 | AE51: 10 | AF51: =SUM(N51:P51,X51:AB51) -> 795.20475 | AG51: =AF51*(AD51+AE51) -> 79520.475 | AH51: =AG51/AC51 -> 1590.4095 | AI51: 3.2 | AJ51: =ROUND(AH51*AI51,0) -> 5089
A52: 21 | B52: 50 | C52: =C51+B51*1+F51 -> 760 | D52: =INDEX($A$60:$A$114,MATCH(C52,$C$60:$C$114,1)) -> 23 | E52: 5 | F52: =ROUND(B52/$F$30,0) -> 17 | G52: =ROUND(D52*$G$30*文字概率!$H$52,0) -> 86 | H52: =ROUND($G$30*D52*文字概率!$H$54,0) -> 7 | I52: 16 | J52: 16 | K52: 16 | L52: 16 | M52: 16 | N52: =INDEX($T$61:$T$76,MATCH(J52,$I$61:$I$76,0))*$G$62 -> 48.294792 | O52: =INDEX($T$61:$T$76,MATCH(K52,$I$61:$I$76,0))*$G$63 -> 72.442188 | P52: =INDEX($T$61:$T$76,MATCH(L52,$I$61:$I$76,0))*$G$64 -> 19.317917 | S52: 5 | T52: 4 | U52: 3 | V52: 3 | W52: 2 | X52: =VLOOKUP(S52,$I$77:$K$83,2,FALSE) -> 121.21609 | Y52: =VLOOKUP(T52,$I$77:$K$83,3,FALSE) -> 235.08576 | Z52: =VLOOKUP(U52,$I$77:$K$83,3,FALSE) -> 157.248 | AA52: =VLOOKUP(V52,$I$77:$K$83,3,FALSE) -> 157.248 | AB52: =VLOOKUP(W52,$I$77:$K$83,3,FALSE) -> 93.6 | AC52: 50 | AD52: =AC52*1.8 -> 90 | AE52: 10 | AF52: =SUM(N52:P52,X52:AB52) -> 904.45275 | AG52: =AF52*(AD52+AE52) -> 90445.275 | AH52: =AG52/AC52 -> 1808.9055 | AI52: 3.5 | AJ52: =ROUND(AH52*AI52,0) -> 6331
A53: 22 | B53: 50 | C53: =C52+B52*1+F52 -> 827 | D53: =INDEX($A$60:$A$114,MATCH(C53,$C$60:$C$114,1)) -> 24 | E53: 5 | F53: =ROUND(B53/$F$30,0) -> 17 | G53: =ROUND(D53*$G$30*文字概率!$H$52,0) -> 90 | H53: =ROUND($G$30*D53*文字概率!$H$54,0) -> 8 | I53: 16 | J53: 16 | K53: 16 | L53: 16 | M53: 16 | N53: =INDEX($T$61:$T$76,MATCH(J53,$I$61:$I$76,0))*$G$62 -> 48.294792 | O53: =INDEX($T$61:$T$76,MATCH(K53,$I$61:$I$76,0))*$G$63 -> 72.442188 | P53: =INDEX($T$61:$T$76,MATCH(L53,$I$61:$I$76,0))*$G$64 -> 19.317917 | S53: 5 | T53: 5 | U53: 4 | V53: 3 | W53: 3 | X53: =VLOOKUP(S53,$I$77:$K$83,2,FALSE) -> 121.21609 | Y53: =VLOOKUP(T53,$I$77:$K$83,3,FALSE) -> 310.3132 | Z53: =VLOOKUP(U53,$I$77:$K$83,3,FALSE) -> 235.08576 | AA53: =VLOOKUP(V53,$I$77:$K$83,3,FALSE) -> 157.248 | AB53: =VLOOKUP(W53,$I$77:$K$83,3,FALSE) -> 157.248 | AC53: 50 | AD53: =AC53*1.8 -> 90 | AE53: 10 | AF53: =SUM(N53:P53,X53:AB53) -> 1121.166 | AG53: =AF53*(AD53+AE53) -> 112116.6 | AH53: =AG53/AC53 -> 2242.3319 | AI53: 4 | AJ53: =ROUND(AH53*AI53,0) -> 8969
A54: 23 | B54: 50 | C54: =C53+B53*1+F53 -> 894 | D54: =INDEX($A$60:$A$114,MATCH(C54,$C$60:$C$114,1)) -> 25 | E54: 5 | F54: =ROUND(B54/$F$30,0) -> 17 | G54: =ROUND(D54*$G$30*文字概率!$H$52,0) -> 94 | H54: =ROUND($G$30*D54*文字概率!$H$54,0) -> 8 | I54: 16 | J54: 16 | K54: 16 | L54: 16 | M54: 16 | N54: =INDEX($T$61:$T$76,MATCH(J54,$I$61:$I$76,0))*$G$62 -> 48.294792 | O54: =INDEX($T$61:$T$76,MATCH(K54,$I$61:$I$76,0))*$G$63 -> 72.442188 | P54: =INDEX($T$61:$T$76,MATCH(L54,$I$61:$I$76,0))*$G$64 -> 19.317917 | S54: 5 | T54: 5 | U54: 4 | V54: 4 | W54: 4 | X54: =VLOOKUP(S54,$I$77:$K$83,2,FALSE) -> 121.21609 | Y54: =VLOOKUP(T54,$I$77:$K$83,3,FALSE) -> 310.3132 | Z54: =VLOOKUP(U54,$I$77:$K$83,3,FALSE) -> 235.08576 | AA54: =VLOOKUP(V54,$I$77:$K$83,3,FALSE) -> 235.08576 | AB54: =VLOOKUP(W54,$I$77:$K$83,3,FALSE) -> 235.08576 | AC54: 50 | AD54: =AC54*1.8 -> 90 | AE54: 10 | AF54: =SUM(N54:P54,X54:AB54) -> 1276.8415 | AG54: =AF54*(AD54+AE54) -> 127684.15 | AH54: =AG54/AC54 -> 2553.6829 | AI54: 5 | AJ54: =ROUND(AH54*AI54,0) -> 12768
A55: 24 | B55: 50 | C55: =C54+B54*1+F54 -> 961 | D55: =INDEX($A$60:$A$114,MATCH(C55,$C$60:$C$114,1)) -> 26 | E55: 5 | F55: =ROUND(B55/$F$30,0) -> 17 | G55: =ROUND(D55*$G$30*文字概率!$H$52,0) -> 97 | H55: =ROUND($G$30*D55*文字概率!$H$54,0) -> 8 | I55: 16 | J55: 16 | K55: 16 | L55: 16 | M55: 16 | N55: =INDEX($T$61:$T$76,MATCH(J55,$I$61:$I$76,0))*$G$62 -> 48.294792 | O55: =INDEX($T$61:$T$76,MATCH(K55,$I$61:$I$76,0))*$G$63 -> 72.442188 | P55: =INDEX($T$61:$T$76,MATCH(L55,$I$61:$I$76,0))*$G$64 -> 19.317917 | S55: 5 | T55: 5 | U55: 5 | V55: 5 | W55: 5 | X55: =VLOOKUP(S55,$I$77:$K$83,2,FALSE) -> 121.21609 | Y55: =VLOOKUP(T55,$I$77:$K$83,3,FALSE) -> 310.3132 | Z55: =VLOOKUP(U55,$I$77:$K$83,3,FALSE) -> 310.3132 | AA55: =VLOOKUP(V55,$I$77:$K$83,3,FALSE) -> 310.3132 | AB55: =VLOOKUP(W55,$I$77:$K$83,3,FALSE) -> 310.3132 | AC55: 50 | AD55: =AC55*1.8 -> 90 | AE55: 10 | AF55: =SUM(N55:P55,X55:AB55) -> 1502.5238 | AG55: =AF55*(AD55+AE55) -> 150252.38 | AH55: =AG55/AC55 -> 3005.0476 | AI55: 6 | AJ55: =ROUND(AH55*AI55,0) -> 18030
A56: 25 | B56: 50 | C56: =C55+B55*1+F55 -> 1028 | D56: =INDEX($A$60:$A$114,MATCH(C56,$C$60:$C$114,1)) -> 27 | E56: 5 | F56: =ROUND(B56/$F$30,0) -> 17 | G56: =ROUND(D56*$G$30*文字概率!$H$52,0) -> 101 | H56: =ROUND($G$30*D56*文字概率!$H$54,0) -> 9 | I56: 16 | J56: 16 | K56: 16 | L56: 16 | M56: 16 | N56: =INDEX($T$61:$T$76,MATCH(J56,$I$61:$I$76,0))*$G$62 -> 48.294792 | O56: =INDEX($T$61:$T$76,MATCH(K56,$I$61:$I$76,0))*$G$63 -> 72.442188 | P56: =INDEX($T$61:$T$76,MATCH(L56,$I$61:$I$76,0))*$G$64 -> 19.317917 | S56: 5 | T56: 5 | U56: 5 | V56: 5 | W56: 5 | X56: =VLOOKUP(S56,$I$77:$K$83,2,FALSE) -> 121.21609 | Y56: =VLOOKUP(T56,$I$77:$K$83,3,FALSE) -> 310.3132 | Z56: =VLOOKUP(U56,$I$77:$K$83,3,FALSE) -> 310.3132 | AA56: =VLOOKUP(V56,$I$77:$K$83,3,FALSE) -> 310.3132 | AB56: =VLOOKUP(W56,$I$77:$K$83,3,FALSE) -> 310.3132 | AC56: 50 | AD56: =AC56*1.8 -> 90 | AE56: 10 | AF56: =SUM(N56:P56,X56:AB56) -> 1502.5238 | AG56: =AF56*(AD56+AE56) -> 150252.38 | AH56: =AG56/AC56 -> 3005.0476 | AI56: 7 | AJ56: =ROUND(AH56*AI56,0) -> 21035
H58: 基础伤害
A59: 刷新次数 | H59: 3 | I59: 普通文字伤害
A60: 1 | B60: 10 | C60: =SUM($B$60:B60) -> 10 | F60: 类型名称 | G60: 系数 | I60: 数量 | J60: 1级 | K60: 2级 | L60: 3级 | M60: 4级 | N60: 5级 | O60: 1级 | P60: 2级 | Q60: 3级 | R60: 4级 | S60: 5级 | T60: 总伤害
A61: 2 | B61: 12 | C61: =SUM($B$60:B61) -> 22 | F61: 刀 | G61: 1 | I61: 1 | J61: 1 | O61: =IF(J61="","",$H$59*$G$76) -> 3 | P61: =IF(K61="","",$H$59*$G$77*$F$85) | Q61: =IF(L61="","",$H$59*$G$78*$F$86) | R61: =IF(M61="","",$H$59*$G$79*$F$87) | S61: =IF(N61="","",$H$59*$G$80*$F$88) | T61: =SUM(O61:S61) -> 3
A62: 3 | B62: 14 | C62: =SUM($B$60:B62) -> 36 | F62: 枪 | G62: 1.5 | I62: 2 | K62: 1 | O62: =IF(J62="","",$H$59*$G$76) | P62: =IF(K62="","",$H$59*$G$77*$F$85) -> 6.75 | Q62: =IF(L62="","",$H$59*$G$78*$F$86) | R62: =IF(M62="","",$H$59*$G$79*$F$87) | S62: =IF(N62="","",$H$59*$G$80*$F$88) | T62: =SUM(O62:S62) -> 6.75
A63: 4 | B63: 16 | C63: =SUM($B$60:B63) -> 52 | F63: 棍 | G63: 2.25 | I63: 3 | J63: 1 | K63: 1 | O63: =IF(J63="","",$H$59*$G$76) -> 3 | P63: =IF(K63="","",$H$59*$G$77*$F$85) -> 6.75 | Q63: =IF(L63="","",$H$59*$G$78*$F$86) | R63: =IF(M63="","",$H$59*$G$79*$F$87) | S63: =IF(N63="","",$H$59*$G$80*$F$88) | T63: =SUM(O63:S63) -> 9.75
A64: 5 | B64: 18 | C64: =SUM($B$60:B64) -> 70 | F64: 弓 | G64: 0.6 | I64: 4 | L64: 1 | O64: =IF(J64="","",$H$59*$G$76) | P64: =IF(K64="","",$H$59*$G$77*$F$85) | Q64: =IF(L64="","",$H$59*$G$78*$F$86) -> 13.23 | R64: =IF(M64="","",$H$59*$G$79*$F$87) | S64: =IF(N64="","",$H$59*$G$80*$F$88) | T64: =SUM(O64:S64) -> 13.23
A65: 6 | B65: 20 | C65: =SUM($B$60:B65) -> 90 | I65: 5 | J65: 1 | K65: 1 | L65: 1 | O65: =IF(J65="","",$H$59*$G$76) -> 3 | P65: =IF(K65="","",$H$59*$G$77*$F$85) -> 6.75 | Q65: =IF(L65="","",$H$59*$G$78*$F$86) -> 13.23 | R65: =IF(M65="","",$H$59*$G$79*$F$87) | S65: =IF(N65="","",$H$59*$G$80*$F$88) | T65: =SUM(O65:S65) -> 22.98
A66: 7 | B66: 22 | C66: =SUM($B$60:B66) -> 112 | I66: 6 | K66: 1 | L66: 1 | O66: =IF(J66="","",$H$59*$G$76) | P66: =IF(K66="","",$H$59*$G$77*$F$85) -> 6.75 | Q66: =IF(L66="","",$H$59*$G$78*$F$86) -> 13.23 | R66: =IF(M66="","",$H$59*$G$79*$F$87) | S66: =IF(N66="","",$H$59*$G$80*$F$88) | T66: =SUM(O66:S66) -> 19.98
A67: 8 | B67: 24 | C67: =SUM($B$60:B67) -> 136 | F67: 品质 | G67: 系数 | I67: 7 | J67: 1 | K67: 1 | L67: 1 | O67: =IF(J67="","",$H$59*$G$76) -> 3 | P67: =IF(K67="","",$H$59*$G$77*$F$85) -> 6.75 | Q67: =IF(L67="","",$H$59*$G$78*$F$86) -> 13.23 | R67: =IF(M67="","",$H$59*$G$79*$F$87) | S67: =IF(N67="","",$H$59*$G$80*$F$88) | T67: =SUM(O67:S67) -> 22.98
A68: 9 | B68: 26 | C68: =SUM($B$60:B68) -> 162 | F68: 白 | G68: 1 | I68: 8 | M68: 1 | O68: =IF(J68="","",$H$59*$G$76) | P68: =IF(K68="","",$H$59*$G$77*$F$85) | Q68: =IF(L68="","",$H$59*$G$78*$F$86) | R68: =IF(M68="","",$H$59*$G$79*$F$87) -> 22.3587 | S68: =IF(N68="","",$H$59*$G$80*$F$88) | T68: =SUM(O68:S68) -> 22.3587
A69: 10 | B69: 28 | C69: =SUM($B$60:B69) -> 190 | F69: 紫 | G69: 5 | I69: 9 | J69: 1 | M69: 1 | O69: =IF(J69="","",$H$59*$G$76) -> 3 | P69: =IF(K69="","",$H$59*$G$77*$F$85) | Q69: =IF(L69="","",$H$59*$G$78*$F$86) | R69: =IF(M69="","",$H$59*$G$79*$F$87) -> 22.3587 | S69: =IF(N69="","",$H$59*$G$80*$F$88) | T69: =SUM(O69:S69) -> 25.3587
A70: 11 | B70: 30 | C70: =SUM($B$60:B70) -> 220 | F70: 橙 | G70: 10 | I70: 10 | K70: 1 | M70: 1 | O70: =IF(J70="","",$H$59*$G$76) | P70: =IF(K70="","",$H$59*$G$77*$F$85) -> 6.75 | Q70: =IF(L70="","",$H$59*$G$78*$F$86) | R70: =IF(M70="","",$H$59*$G$79*$F$87) -> 22.3587 | S70: =IF(N70="","",$H$59*$G$80*$F$88) | T70: =SUM(O70:S70) -> 29.1087
A71: 12 | B71: 32 | C71: =SUM($B$60:B71) -> 252 | I71: 11 | J71: 1 | K71: 1 | M71: 1 | O71: =IF(J71="","",$H$59*$G$76) -> 3 | P71: =IF(K71="","",$H$59*$G$77*$F$85) -> 6.75 | Q71: =IF(L71="","",$H$59*$G$78*$F$86) | R71: =IF(M71="","",$H$59*$G$79*$F$87) -> 22.3587 | S71: =IF(N71="","",$H$59*$G$80*$F$88) | T71: =SUM(O71:S71) -> 32.1087
A72: 13 | B72: 34 | C72: =SUM($B$60:B72) -> 286 | I72: 12 | L72: 1 | M72: 1 | O72: =IF(J72="","",$H$59*$G$76) | P72: =IF(K72="","",$H$59*$G$77*$F$85) | Q72: =IF(L72="","",$H$59*$G$78*$F$86) -> 13.23 | R72: =IF(M72="","",$H$59*$G$79*$F$87) -> 22.3587 | S72: =IF(N72="","",$H$59*$G$80*$F$88) | T72: =SUM(O72:S72) -> 35.5887
A73: 14 | B73: 36 | C73: =SUM($B$60:B73) -> 322 | I73: 13 | J73: 1 | L73: 1 | M73: 1 | O73: =IF(J73="","",$H$59*$G$76) -> 3 | P73: =IF(K73="","",$H$59*$G$77*$F$85) | Q73: =IF(L73="","",$H$59*$G$78*$F$86) -> 13.23 | R73: =IF(M73="","",$H$59*$G$79*$F$87) -> 22.3587 | S73: =IF(N73="","",$H$59*$G$80*$F$88) | T73: =SUM(O73:S73) -> 38.5887
A74: 15 | B74: 38 | C74: =SUM($B$60:B74) -> 360 | F74: 攻击力 | I74: 14 | K74: 1 | L74: 1 | M74: 1 | O74: =IF(J74="","",$H$59*$G$76) | P74: =IF(K74="","",$H$59*$G$77*$F$85) -> 6.75 | Q74: =IF(L74="","",$H$59*$G$78*$F$86) -> 13.23 | R74: =IF(M74="","",$H$59*$G$79*$F$87) -> 22.3587 | S74: =IF(N74="","",$H$59*$G$80*$F$88) | T74: =SUM(O74:S74) -> 42.3387
A75: 16 | B75: 40 | C75: =SUM($B$60:B75) -> 400 | F75: 等级 | G75: 普通 | I75: 15 | J75: 1 | K75: 1 | L75: 1 | M75: 1 | O75: =IF(J75="","",$H$59*$G$76) -> 3 | P75: =IF(K75="","",$H$59*$G$77*$F$85) -> 6.75 | Q75: =IF(L75="","",$H$59*$G$78*$F$86) -> 13.23 | R75: =IF(M75="","",$H$59*$G$79*$F$87) -> 22.3587 | S75: =IF(N75="","",$H$59*$G$80*$F$88) | T75: =SUM(O75:S75) -> 45.3387
A76: 17 | B76: 42 | C76: =SUM($B$60:B76) -> 442 | F76: 1 | G76: 1 | I76: 16 | N76: 1 | O76: =IF(J76="","",$H$59*$G$76) | P76: =IF(K76="","",$H$59*$G$77*$F$85) | Q76: =IF(L76="","",$H$59*$G$78*$F$86) | R76: =IF(M76="","",$H$59*$G$79*$F$87) | S76: =IF(N76="","",$H$59*$G$80*$F$88) -> 32.196528 | T76: =SUM(O76:S76) -> 32.196528
A77: 18 | B77: 44 | C77: =SUM($B$60:B77) -> 486 | F77: 2 | G77: 1.5 | I77: 神将伤害 | J77: 紫将 | K77: 橙将 | Q77: =IF(L77="","",$H$59*$G$78) | R77: =IF(M77="","",$H$59*$G$79) | S77: =IF(N77="","",$H$59*$G$80)
A78: 19 | B78: 46 | C78: =SUM($B$60:B78) -> 532 | F78: 3 | G78: =G77*1.4 -> 2.1 | I78: 0 | J78: 0 | K78: 0 | Q78: =IF(L78="","",$H$59*$G$78) | R78: =IF(M78="","",$H$59*$G$79) | S78: =IF(N78="","",$H$59*$G$80)
A79: 20 | B79: 48 | C79: =SUM($B$60:B79) -> 580 | F79: 4 | G79: =G78*1.3 -> 2.73 | I79: 1 | J79: =H59*G69*1.25 -> 18.75 | K79: =$H$59*$G$70*G76*G84*1.6 -> 48 | Q79: =IF(L79="","",$H$59*$G$78) | R79: =IF(M79="","",$H$59*$G$79) | S79: =IF(N79="","",$H$59*$G$80)
A80: 21 | B80: 50 | C80: =SUM($B$60:B80) -> 630 | F80: 5 | G80: =G79*1.2 -> 3.276 | I80: 2 | J80: =H59*G69*1.25*G77*G85 -> 36.5625 | K80: =$H$59*$G$70*G77*G85*1.6 -> 93.6 | Q80: =IF(L80="","",$H$59*$G$78) | R80: =IF(M80="","",$H$59*$G$79) | S80: =IF(N80="","",$H$59*$G$80)
A81: 22 | B81: 52 | C81: =SUM($B$60:B81) -> 682 | I81: 3 | J81: =$H$59*G78*G69*G86*1.25 -> 61.425 | K81: =$H$59*$G$70*G78*G86*1.6 -> 157.248
A82: 23 | B82: 54 | C82: =SUM($B$60:B82) -> 736 | F82: 冷却 | I82: 4 | J82: =$H$59*G79*G69*G87*1.25 -> 91.830375 | K82: =$H$59*$G$70*G79*G87*1.6 -> 235.08576
A83: 24 | B83: 56 | C83: =SUM($B$60:B83) -> 792 | F83: 冷却 | G83: 角色 | I83: 5 | J83: =$H$59*G80*G69*G88*1.25 -> 121.21609 | K83: =$H$59*$G$70*G80*G88*1.6 -> 310.3132
A84: 25 | B84: 58 | C84: =SUM($B$60:B84) -> 850 | E84: 1 | F84: 1 | G84: 1
A85: 26 | B85: 60 | C85: =SUM($B$60:B85) -> 910 | E85: 2 | F85: 1.5 | G85: =G84*1.3 -> 1.3
A86: 27 | B86: 62 | C86: =SUM($B$60:B86) -> 972 | E86: 3 | F86: =F85*1.4 -> 2.1 | G86: =G85*1.2 -> 1.56
A87: 28 | B87: 64 | C87: =SUM($B$60:B87) -> 1036 | E87: 4 | F87: =F86*1.3 -> 2.73 | G87: =G86*1.15 -> 1.794
A88: 29 | B88: 66 | C88: =SUM($B$60:B88) -> 1102 | E88: 5 | F88: =F87*1.2 -> 3.276 | G88: =G87*1.1 -> 1.9734 | I88: 神将带橙武伤害 | J88: 紫将 | K88: 橙将
A89: 30 | B89: 68 | C89: =SUM($B$60:B89) -> 1170 | I89: 0 | J89: 0 | K89: 0
A90: 31 | B90: 70 | C90: =SUM($B$60:B90) -> 1240 | I90: 1 | J90: =H59*G69*(1.25+0.5) -> 26.25 | K90: =$H$59*$G$70*G76*G84*(1.6+0.5) -> 63
A91: 32 | B91: 72 | C91: =SUM($B$60:B91) -> 1312 | F91: 武器加成 | I91: 2 | J91: =H59*G69*G77*G85*(1.25+0.5) -> 51.1875 | K91: =$H$59*$G$70*G77*G85*(1.6+0.5) -> 122.85
A92: 33 | B92: 74 | C92: =SUM($B$60:B92) -> 1386 | I92: 3 | J92: =$H$59*G78*G69*G86*(1.25+0.5) -> 85.995 | K92: =$H$59*$G$70*G78*G86*2.1 -> 206.388
A93: 34 | B93: 76 | C93: =SUM($B$60:B93) -> 1462 | I93: 4 | J93: =$H$59*G79*G69*G87*(1.25+0.5) -> 128.56252 | K93: =$H$59*$G$70*G79*G87*2.1 -> 308.55006
A94: 35 | B94: 78 | C94: =SUM($B$60:B94) -> 1540 | I94: 5 | J94: =$H$59*G80*G69*G88*(1.25+0.5) -> 169.70253 | K94: =$H$59*$G$70*G80*G88*(1.6+0.5) -> 407.28608
A95: 36 | B95: 80 | C95: =SUM($B$60:B95) -> 1620
A96: 37 | B96: 82 | C96: =SUM($B$60:B96) -> 1702
A97: 38 | B97: 84 | C97: =SUM($B$60:B97) -> 1786
A98: 39 | B98: 86 | C98: =SUM($B$60:B98) -> 1872
A99: 40 | B99: 88 | C99: =SUM($B$60:B99) -> 1960
A100: 41 | B100: 90 | C100: =SUM($B$60:B100) -> 2050
A101: 42 | B101: 92 | C101: =SUM($B$60:B101) -> 2142
A102: 43 | B102: 94 | C102: =SUM($B$60:B102) -> 2236
A103: 44 | B103: 96 | C103: =SUM($B$60:B103) -> 2332
...

Sheet Sheet1
