Workbook

Sheet 武将技能
B1: 说明：文字资源需要出两套，仙和魔，对立 | J1: 武器攻击 | K1: 等级系数 | L1: 召唤消耗
B2: 需要补充一个睡觉特效 | M2: 枪、骑 | N2: 弓、剑 | O2: 普通武器
B3: 英雄 | C3: 武器 | D3: 专属 | E3: 品质 | F3: 基础攻击 | G3: 技能 | H3: 技能名称 | J3: 2 | K3: 1 | L3: 10 | M3: 1.5 | N3: 1.88 | O3: 1.25
A4: 1 | B4: 悟空 | C4: 棍 | D4: 如意金箍棒 | E4: 橙 | F4: 棍类（圆形范围） | G4: 定身术，定身 | H4: 定身术 | J4: 3 | K4: 1.5 | L4: 12 | M4: 1.95 | N4: 2.44 | O4: =O3*1.5 -> 1.875
A5: 2 | B5: 悟能 | C5: 刀 | D5: 九齿钉耙 | E5: 紫 | F5: 攻击扇形范围 | G5: 小兵移动速度+20% | H5: 疾行术 | I5: 23.1 | J5: 4.2 | K5: 1.4 | L5: 14 | N5: 2.92 | O5: =O4*1.4 -> 2.625
A6: 3 | B6: 悟净 | C6: 棍 | D6: 降妖宝杖 | E6: 紫 | F6: 棍类（圆形范围） | G6: 小兵血量+20% | H6: 治疗术 | I6: 30.03 | J6: 5.46 | K6: 1.3 | L6: 16 | N6: 3.36 | O6: =O5*1.3 -> 3.4125
A7: 4 | B7: 哪吒 | C7: 枪 | D7: 火尖枪 | E7: 橙 | F7: 三连击（前方直线范围） | G7: 我命由我不由天，脚踩风火轮，沿路径攻击所有敌人 | H7: 风火轮回 | I7: 36.04 | J7: 6.82 | K7: 1.2 | L7: 18 | N7: 3.7 | O7: =O6*1.2 -> 4.095
A8: 5 | B8: 金吒 | C8: 枪 | D8: 奔雷神枪 | E8: 紫 | F8: 枪类（前方直线范围） | G8: 三连击 | H8: 三连击 | L8: 20 | N8: 添加攻速上限设定=0.2
A9: 6 | B9: 木吒 | C9: 刀 | D9: 吴钩双剑 | E9: 紫 | F9: 刀剑类（单体） | G9: 重劈，将扇形范围敌人击退 | H9: 重浪崩击 | L9: 22
A10: 7 | B10: 杨戬 | C10: 枪 | D10: 三尖两面刀 | E10: 橙 | F10: 五连击（前方直线范围） | G10: 召唤哮天犬攻击 | H10: 神犬出击 | L10: 24
A11: 8 | B11: 王母 | C11: 弓 | D11: 震天弓 | E11: 橙 | F11: 弓类（单体） | G11: 万箭齐发，群伤+击退+眩晕 | H11: 万箭齐发 | L11: 26
A12: 9 | B12: 玉帝 | C12: 刀 | D12: 轩辕剑 | E12: 橙 | F12: 三箭齐发（单体） | G12: 己方提升速度，对方减少速度 | H12: 帝威驭驰 | L12: 28
A13: 10 | B13: 阎王 | C13: 刀 | D13: 莫邪 | E13: 紫 | F13: 刀剑类（单体） | G13: 生死簿，友军少量恢复，敌军造成伤害 | H13: 生死簿 | I13: 1 | L13: 30
A14: 11 | B14: 嫦娥 | C14: 弓 | D14: 射日弓 | E14: 紫 | F14: 弓类（单体） | G14: 小万箭齐发，群伤+击退 | L14: 32
A15: 12 | B15: 李靖 | C15: 刀 | D15: 玲珑宝塔 | E15: 橙 | F15: 刀剑类（单体） | G15: 宝塔镇河妖，群体伤害 | H15: 宝塔阵邪 | L15: 34
A16: 13 | B16: 刀 | C16: 1格 | F16: 单体攻击 | G16: 需要出一个损毁状态 | L16: 36
A17: 14 | B17: 枪 | C17: 2格 | F17: 直线范围 | G17: 需要出一个损毁状态 | L17: 38
A18: 15 | B18: 棍 | C18: 1.5格 | F18: 圆形范围 | G18: 需要出一个损毁状态 | L18: 40
A19: 16 | B19: 弓 | C19: 3格 | F19: 单体攻击 | G19: 需要出一个损毁状态 | L19: 42
B22: 武器资源：需要出图标，200*200
A23: 1 | B23: 木棍 | C23: 1
A24: 2 | B24: 铜棍 | C24: 2
A25: 3 | B25: 盘龙棍 | C25: 2
A26: 4 | B26: 混铁棍 | C26: 3 | G26: 概率击退
A27: 5 | B27: 黄金棍 | C27: 3 | G27: 攻击增加资源
A28: 6 | B28: 菩提灵棍 | C28: 5 | G28: 攻击距离+1，击杀飞出4方向龙影造成伤害
A29: 7 | B29: 镔铁棍 | C29: 4 | G29: 概率眩晕
A30: 8 | B30: 如意金箍棒 | C30: 5 | G30: 惊天一棍，短暂蓄力后，朝目标砸下，连续砸最大8个单位，造成伤害并眩晕
A31: 9 | B31: 九齿钉耙 | C31: 4 | G31: 概率击退
A32: 10 | B32: 降妖宝杖 | C32: 4 | G32: 概率眩晕
A34: 11 | B34: 木枪 | C34: 1
A35: 12 | B35: 铁枪 | C35: 2
A36: 13 | B36: 银枪 | C36: 2 | G36: 概率提升攻速
A37: 14 | B37: 大戟 | C37: 3 | G37: 攻击距离+1
A38: 15 | B38: 红缨枪 | C38: 3 | G38: 挑起兵击飞后落地眩晕周围一圈并造成伤害
A39: 16 | B39: 点钢枪 | C39: 4 | G39: 攻击同一单位提升攻速
A40: 17 | B40: 奔雷神枪 | C40: 4 | G40: 攻击同一单位提升攻速
A41: 18 | B41: 火尖枪 | C41: 4 | G41: 击杀后飞出8道火球，攻击随机8个单位
A42: 19 | B42: 乾坤枪 | C42: 5 | G42: 攻击同一单位提升攻速
A43: 20 | B43: 三尖两面刀 | C43: 5 | G43: 挑起兵击飞后落地眩晕周围一圈并造成伤害
...

Sheet 角色数值
A1: 类型 | B1: 类型名称 | C1: 攻击距离 | D1: 系数 | E1: 品质 | F1: 系数 | G1: 类型 | H1: 系数 | I1: 10秒伤害基础值 | J1: 等级 | K1: 普通 | O1: 冷却 | P1: 角色
A2: 1 | B2: 刀 | C2: 1 | D2: 1 | E2: 白 | F2: 1 | G2: 基础伤害 | H2: 1 | I2: 30 | J2: 1 | K2: 1 | N2: 1 | O2: 1 | P2: 1 | R2: =1/E16 -> 1.25 | S2: =1/R2 -> 0.8 | T2: 0.8
A3: 2 | B3: 枪 | C3: 2 | D3: 1.5 | E3: 紫 | F3: 5 | G3: 召唤 | H3: 3 | J3: 2 | K3: 1.5 | N3: 2 | O3: 1.5 | P3: =P2*1.3 -> 1.3 | R3: =R2*1.3 -> 1.625 | S3: =1/R3 -> 0.61538462 | T3: 0.62
A4: 3 | B4: 棍 | C4: 1.5 | D4: 2.25 | E4: 橙 | F4: 10 | G4: buff | H4: 3 | J4: 3 | K4: =K3*1.4 -> 2.1 | N4: 3 | O4: =O3*1.4 -> 2.1 | P4: =P3*1.2 -> 1.56 | R4: =R3*1.2 -> 1.95 | S4: =1/R4 -> 0.51282051 | T4: 0.51
A5: 4 | B5: 弓 | C5: 1 | D5: 0.7 | J5: 4 | K5: =K4*1.3 -> 2.73 | N5: 4 | O5: =O4*1.3 -> 2.73 | P5: =P4*1.15 -> 1.794 | R5: =R4*1.15 -> 2.2425 | S5: =1/R5 -> 0.44593088 | T5: 0.45
J6: 5 | K6: =K5*1.2 -> 3.276 | N6: 5 | O6: =O5*1.2 -> 3.276 | P6: =P5*1.1 -> 1.9734 | R6: =R5*1.1 -> 2.46675 | S6: =1/R6 -> 0.40539171 | T6: 0.41
A9: id | B9: 名称 | C9: 品质 | D9: 类型 | E9: cd | F9: 预计攻击数量 | G9: 伤害段数 | H9: 攻击力 | I9: 手调 | J9: 1级秒伤 | K9: 2级秒伤 | L9: 3级秒伤 | M9: 4级秒伤 | N9: 5级秒伤 | P9: 单体秒伤1 | Q9: 单体秒伤2 | R9: 单体秒伤3 | S9: 单体秒伤4 | T9: 单体秒伤5
A10: 1 | B10: 刀 | C10: 白 | D10: 刀 | E10: 0.8 | F10: 1 | G10: 1 | H10: 3 | I10: =ROUND((INDEX($F$2:$F$4,MATCH(C10,$E$2:$E$4,0)))*(INDEX($D$2:$D$5,MATCH(D10,$B$2:$B$5,0)))*$I$2/(E10*F10*G10*10),1) -> 3.8 | J10: =H10*$K$2*(1/E10*$O$2)*F10*G10 -> 3.75 | K10: =H10*$K$3*(1/E10*$O$3)*F10*G10 -> 8.4375 | L10: =H10*$K$4*(1/E10*$O$4)*F10*G10 -> 16.5375 | M10: =H10*$K$5*(1/E10*$O$5)*F10*G10 -> 27.948375 | N10: =H10*$K$6*(1/E10*$O$6)*F10*G10 -> 40.24566 | P10: =J10/$F$10 -> 3.75 | Q10: =K10/F10 -> 8.4375 | R10: =L10/F10 -> 16.5375 | S10: =M10/F10 -> 27.948375 | T10: =N10/F10 -> 40.24566
A11: 2 | B11: 枪 | C11: 白 | D11: 枪 | E11: 0.8 | F11: 2 | G11: 1 | H11: 2 | I11: =ROUND((INDEX($F$2:$F$4,MATCH(C11,$E$2:$E$4,0)))*(INDEX($D$2:$D$5,MATCH(D11,$B$2:$B$5,0)))*$I$2/(E11*F11*G11*10),1) -> 2.8 | J11: =H11*$K$2*(1/E11*$O$2)*F11*G11 -> 5 | K11: =H11*$K$3*(1/E11*$O$3)*F11*G11 -> 11.25 | L11: =H11*$K$4*(1/E11*$O$4)*F11*G11 -> 22.05 | M11: =H11*$K$5*(1/E11*$O$5)*F11*G11 -> 37.2645 | N11: =H11*$K$6*(1/E11*$O$6)*F11*G11 -> 53.66088 | P11: =J11/F11 -> 2.5 | Q11: =K11/F11 -> 5.625 | R11: =L11/F11 -> 11.025 | S11: =M11/F11 -> 18.63225 | T11: =N11/F11 -> 26.83044
A12: 3 | B12: 棍 | C12: 白 | D12: 棍 | E12: 0.8 | F12: 3 | G12: 1 | H12: 2 | I12: =ROUND((INDEX($F$2:$F$4,MATCH(C12,$E$2:$E$4,0)))*(INDEX($D$2:$D$5,MATCH(D12,$B$2:$B$5,0)))*$I$2/(E12*F12*G12*10),1) -> 2.8 | J12: =H12*$K$2*(1/E12*$O$2)*F12*G12 -> 7.5 | K12: =H12*$K$3*(1/E12*$O$3)*F12*G12 -> 16.875 | L12: =H12*$K$4*(1/E12*$O$4)*F12*G12 -> 33.075 | M12: =H12*$K$5*(1/E12*$O$5)*F12*G12 -> 55.89675 | N12: =H12*$K$6*(1/E12*$O$6)*F12*G12 -> 80.49132 | P12: =J12/F12 -> 2.5 | Q12: =K12/F12 -> 5.625 | R12: =L12/F12 -> 11.025 | S12: =M12/F12 -> 18.63225 | T12: =N12/F12 -> 26.83044
A13: 4 | B13: 弓 | C13: 白 | D13: 弓 | E13: 0.8 | F13: 1 | G13: 1 | H13: 2 | I13: =ROUND((INDEX($F$2:$F$4,MATCH(C13,$E$2:$E$4,0)))*(INDEX($D$2:$D$5,MATCH(D13,$B$2:$B$5,0)))*$I$2/(E13*F13*G13*10),1) -> 2.6 | J13: =H13*$K$2*(1/E13*$O$2)*F13*G13 -> 2.5 | K13: =H13*$K$3*(1/E13*$O$3)*F13*G13 -> 5.625 | L13: =H13*$K$4*(1/E13*$O$4)*F13*G13 -> 11.025 | M13: =H13*$K$5*(1/E13*$O$5)*F13*G13 -> 18.63225 | N13: =H13*$K$6*(1/E13*$O$6)*F13*G13 -> 26.83044 | P13: =J13/F13 -> 2.5 | Q13: =K13/F13 -> 5.625 | R13: =L13/F13 -> 11.025 | S13: =M13/F13 -> 18.63225 | T13: =N13/F13 -> 26.83044
A14: 营
A15: 101 | B15: 悟空 | C15: 橙 | D15: 棍 | E15: 1 | F15: 3 | G15: 1 | H15: 17 | I15: =ROUND((INDEX($F$2:$F$4,MATCH(C15,$E$2:$E$4,0)))*(INDEX($D$2:$D$5,MATCH(D15,$B$2:$B$5,0)))*$I$2/(E15*F15*G15*10),1) -> 22.5 | J15: =H15*$K$2*(1/E15*$O$2)*F15*G15 -> 51 | K15: =H15*$K$3*(1/E15*$O$3)*F15*G15 -> 114.75 | L15: =H15*$K$4*(1/E15*$O$4)*F15*G15 -> 224.91 | M15: =H15*$K$5*(1/E15*$O$5)*F15*G15 -> 380.0979 | N15: =H15*$K$6*(1/E15*$O$6)*F15*G15 -> 547.34098 | P15: =J15/F15 -> 17 | Q15: =K15/F15 -> 38.25 | R15: =L15/F15 -> 74.97 | S15: =M15/F15 -> 126.6993 | T15: =N15/F15 -> 182.44699
A16: 102 | B16: 悟能 | C16: 紫 | D16: 刀 | E16: 0.8 | F16: 2 | G16: 1 | H16: 7 | I16: =ROUND((INDEX($F$2:$F$4,MATCH(C16,$E$2:$E$4,0)))*(INDEX($D$2:$D$5,MATCH(D16,$B$2:$B$5,0)))*$I$2/(E16*F16*G16*10),1) -> 9.4 | J16: =H16*$K$2*(1/E16*$O$2)*F16*G16 -> 17.5 | K16: =H16*$K$3*(1/E16*$O$3)*F16*G16 -> 39.375 | L16: =H16*$K$4*(1/E16*$O$4)*F16*G16 -> 77.175 | M16: =H16*$K$5*(1/E16*$O$5)*F16*G16 -> 130.42575 | N16: =H16*$K$6*(1/E16*$O$6)*F16*G16 -> 187.81308 | P16: =J16/F16 -> 8.75 | Q16: =K16/F16 -> 19.6875 | R16: =L16/F16 -> 38.5875 | S16: =M16/F16 -> 65.212875 | T16: =N16/F16 -> 93.90654
A17: 103 | B17: 悟净 | C17: 紫 | D17: 棍 | E17: 1 | F17: 3 | G17: 1 | H17: 11 | I17: =ROUND((INDEX($F$2:$F$4,MATCH(C17,$E$2:$E$4,0)))*(INDEX($D$2:$D$5,MATCH(D17,$B$2:$B$5,0)))*$I$2/(E17*F17*G17*10),1) -> 11.3 | J17: =H17*$K$2*(1/E17*$O$2)*F17*G17 -> 33 | K17: =H17*$K$3*(1/E17*$O$3)*F17*G17 -> 74.25 | L17: =H17*$K$4*(1/E17*$O$4)*F17*G17 -> 145.53 | M17: =H17*$K$5*(1/E17*$O$5)*F17*G17 -> 245.9457 | N17: =H17*$K$6*(1/E17*$O$6)*F17*G17 -> 354.16181 | P17: =J17/F17 -> 11 | Q17: =K17/F17 -> 24.75 | R17: =L17/F17 -> 48.51 | S17: =M17/F17 -> 81.9819 | T17: =N17/F17 -> 118.05394
A18: 104 | B18: 哪吒 | C18: 橙 | D18: 枪 | E18: 1 | F18: 2 | G18: 1 | H18: 8 | I18: =ROUND((INDEX($F$2:$F$4,MATCH(C18,$E$2:$E$4,0)))*(INDEX($D$2:$D$5,MATCH(D18,$B$2:$B$5,0)))*$I$2/(E18*F18*G18*10),1) -> 22.5 | J18: =H18*$K$2*(1/E18*$O$2)*F18*G18 -> 16 | K18: =H18*$K$3*(1/E18*$O$3)*F18*G18 -> 36 | L18: =H18*$K$4*(1/E18*$O$4)*F18*G18 -> 70.56 | M18: =H18*$K$5*(1/E18*$O$5)*F18*G18 -> 119.2464 | N18: =H18*$K$6*(1/E18*$O$6)*F18*G18 -> 171.71482 | P18: =J18/F18 -> 8 | Q18: =K18/F18 -> 18 | R18: =L18/F18 -> 35.28 | S18: =M18/F18 -> 59.6232 | T18: =N18/F18 -> 85.857408
A19: 105 | B19: 金吒 | C19: 紫 | D19: 刀 | E19: 0.8 | F19: 1 | G19: 1 | H19: 7 | I19: =ROUND((INDEX($F$2:$F$4,MATCH(C19,$E$2:$E$4,0)))*(INDEX($D$2:$D$5,MATCH(D19,$B$2:$B$5,0)))*$I$2/(E19*F19*G19*10),1) -> 18.8 | J19: =H19*$K$2*(1/E19*$O$2)*F19*G19 -> 8.75 | K19: =H19*$K$3*(1/E19*$O$3)*F19*G19 -> 19.6875 | L19: =H19*$K$4*(1/E19*$O$4)*F19*G19 -> 38.5875 | M19: =H19*$K$5*(1/E19*$O$5)*F19*G19 -> 65.212875 | N19: =H19*$K$6*(1/E19*$O$6)*F19*G19 -> 93.90654 | P19: =J19/F19 -> 8.75 | Q19: =K19/F19 -> 19.6875 | R19: =L19/F19 -> 38.5875 | S19: =M19/F19 -> 65.212875 | T19: =N19/F19 -> 93.90654
A20: 106 | B20: 木吒 | C20: 紫 | D20: 枪 | E20: 1 | F20: 2 | G20: 1 | H20: 11 | I20: =ROUND((INDEX($F$2:$F$4,MATCH(C20,$E$2:$E$4,0)))*(INDEX($D$2:$D$5,MATCH(D20,$B$2:$B$5,0)))*$I$2/(E20*F20*G20*10),1) -> 11.3 | J20: =H20*$K$2*(1/E20*$O$2)*F20*G20 -> 22 | K20: =H20*$K$3*(1/E20*$O$3)*F20*G20 -> 49.5 | L20: =H20*$K$4*(1/E20*$O$4)*F20*G20 -> 97.02 | M20: =H20*$K$5*(1/E20*$O$5)*F20*G20 -> 163.9638 | N20: =H20*$K$6*(1/E20*$O$6)*F20*G20 -> 236.10787 | P20: =J20/F20 -> 11 | Q20: =K20/F20 -> 24.75 | R20: =L20/F20 -> 48.51 | S20: =M20/F20 -> 81.9819 | T20: =N20/F20 -> 118.05394
A21: 107 | B21: 杨戬 | C21: 橙 | D21: 枪 | E21: 1 | F21: 2 | G21: 1 | H21: 10 | I21: =ROUND((INDEX($F$2:$F$4,MATCH(C21,$E$2:$E$4,0)))*(INDEX($D$2:$D$5,MATCH(D21,$B$2:$B$5,0)))*$I$2/(E21*F21*G21*10),1) -> 22.5 | J21: =H21*$K$2*(1/E21*$O$2)*F21*G21 -> 20 | K21: =H21*$K$3*(1/E21*$O$3)*F21*G21 -> 45 | L21: =H21*$K$4*(1/E21*$O$4)*F21*G21 -> 88.2 | M21: =H21*$K$5*(1/E21*$O$5)*F21*G21 -> 149.058 | N21: =H21*$K$6*(1/E21*$O$6)*F21*G21 -> 214.64352 | P21: =J21/F21 -> 10 | Q21: =K21/F21 -> 22.5 | R21: =L21/F21 -> 44.1 | S21: =M21/F21 -> 74.529 | T21: =N21/F21 -> 107.32176
A22: 108 | B22: 王母 | C22: 橙 | D22: 弓 | E22: 0.8 | F22: 1 | G22: 1 | H22: 11 | I22: =ROUND((INDEX($F$2:$F$4,MATCH(C22,$E$2:$E$4,0)))*(INDEX($D$2:$D$5,MATCH(D22,$B$2:$B$5,0)))*$I$2/(E22*F22*G22*10),1) -> 26.3 | J22: =H22*$K$2*(1/E22*$O$2)*F22*G22 -> 13.75 | K22: =H22*$K$3*(1/E22*$O$3)*F22*G22 -> 30.9375 | L22: =H22*$K$4*(1/E22*$O$4)*F22*G22 -> 60.6375 | M22: =H22*$K$5*(1/E22*$O$5)*F22*G22 -> 102.47737 | N22: =H22*$K$6*(1/E22*$O$6)*F22*G22 -> 147.56742 | P22: =J22/F22 -> 13.75 | Q22: =K22/F22 -> 30.9375 | R22: =L22/F22 -> 60.6375 | S22: =M22/F22 -> 102.47737 | T22: =N22/F22 -> 147.56742
A23: 109 | B23: 玉帝 | C23: 橙 | D23: 刀 | E23: 0.8 | F23: 2 | G23: 1 | H23: 16 | I23: =ROUND((INDEX($F$2:$F$4,MATCH(C23,$E$2:$E$4,0)))*(INDEX($D$2:$D$5,MATCH(D23,$B$2:$B$5,0)))*$I$2/(E23*F23*G23*10),1) -> 18.8 | J23: =H23*$K$2*(1/E23*$O$2)*F23*G23 -> 40 | K23: =H23*$K$3*(1/E23*$O$3)*F23*G23 -> 90 | L23: =H23*$K$4*(1/E23*$O$4)*F23*G23 -> 176.4 | M23: =H23*$K$5*(1/E23*$O$5)*F23*G23 -> 298.116 | N23: =H23*$K$6*(1/E23*$O$6)*F23*G23 -> 429.28704 | P23: =J23/F23 -> 20 | Q23: =K23/F23 -> 45 | R23: =L23/F23 -> 88.2 | S23: =M23/F23 -> 149.058 | T23: =N23/F23 -> 214.64352
A24: 110 | B24: 阎王 | C24: 紫 | D24: 刀 | E24: 0.8 | F24: 1 | G24: 1 | H24: 11 | I24: =ROUND((INDEX($F$2:$F$4,MATCH(C24,$E$2:$E$4,0)))*(INDEX($D$2:$D$5,MATCH(D24,$B$2:$B$5,0)))*$I$2/(E24*F24*G24*10),1) -> 18.8 | J24: =H24*$K$2*(1/E24*$O$2)*F24*G24 -> 13.75 | K24: =H24*$K$3*(1/E24*$O$3)*F24*G24 -> 30.9375 | L24: =H24*$K$4*(1/E24*$O$4)*F24*G24 -> 60.6375 | M24: =H24*$K$5*(1/E24*$O$5)*F24*G24 -> 102.47737 | N24: =H24*$K$6*(1/E24*$O$6)*F24*G24 -> 147.56742 | P24: =J24/F24 -> 13.75 | Q24: =K24/F24 -> 30.9375 | R24: =L24/F24 -> 60.6375 | S24: =M24/F24 -> 102.47737 | T24: =N24/F24 -> 147.56742
A25: 111 | B25: 嫦娥 | C25: 紫 | D25: 弓 | E25: 0.8 | F25: 1 | G25: 1 | H25: 11 | I25: =ROUND((INDEX($F$2:$F$4,MATCH(C25,$E$2:$E$4,0)))*(INDEX($D$2:$D$5,MATCH(D25,$B$2:$B$5,0)))*$I$2/(E25*F25*G25*10),1) -> 13.1 | J25: =H25*$K$2*(1/E25*$O$2)*F25*G25 -> 13.75 | K25: =H25*$K$3*(1/E25*$O$3)*F25*G25 -> 30.9375 | L25: =H25*$K$4*(1/E25*$O$4)*F25*G25 -> 60.6375 | M25: =H25*$K$5*(1/E25*$O$5)*F25*G25 -> 102.47737 | N25: =H25*$K$6*(1/E25*$O$6)*F25*G25 -> 147.56742 | P25: =J25/F25 -> 13.75 | Q25: =K25/F25 -> 30.9375 | R25: =L25/F25 -> 60.6375 | S25: =M25/F25 -> 102.47737 | T25: =N25/F25 -> 147.56742
A26: 112 | B26: 李靖 | C26: 橙 | D26: 刀 | E26: 0.8 | F26: 1 | G26: 1 | H26: 27 | I26: =ROUND((INDEX($F$2:$F$4,MATCH(C26,$E$2:$E$4,0)))*(INDEX($D$2:$D$5,MATCH(D26,$B$2:$B$5,0)))*$I$2/(E26*F26*G26*10),1) -> 37.5 | J26: =H26*$K$2*(1/E26*$O$2)*F26*G26 -> 33.75 | K26: =H26*$K$3*(1/E26*$O$3)*F26*G26 -> 75.9375 | L26: =H26*$K$4*(1/E26*$O$4)*F26*G26 -> 148.8375 | M26: =H26*$K$5*(1/E26*$O$5)*F26*G26 -> 251.53537 | N26: =H26*$K$6*(1/E26*$O$6)*F26*G26 -> 362.21094 | P26: =J26/F26 -> 33.75 | Q26: =K26/F26 -> 75.9375 | R26: =L26/F26 -> 148.8375 | S26: =M26/F26 -> 251.53537 | T26: =N26/F26 -> 362.21094
A29: 技能 | G29: 间隔次数 | H29: 基础值
A30: 品质 | B30: 系数 | D30: 技能类型 | G30: 15 | H30: 4
A31: 白 | B31: 1 | D31: 单体伤害 | E31: 1
A32: 紫 | B32: 1.5 | D32: 范围伤害 | E32: 1.5
A33: 橙 | B33: 3 | D33: 控制 | E33: 0.8
D34: 加成 | E34: 0.5
A37: id | B37: 名称 | C37: 品质 | D37: 类型 | E37: cd | F37: 预计攻击数量 | G37: 伤害段数 | H37: 伤害系数 | I37: 单将强度 | J37: 专属强度
A38: 1 | B38: 刀 | C38: 白 | D38: 单体伤害 | E38: =E10*$G$30 -> 12 | F38: 1 | G38: 1 | H38: =$H$30*INDEX($E$31:$E$34,MATCH(D38,$D$31:$D$34,0))*(INDEX($B$31:$B$33,MATCH(C38,$A$31:$A$33,0))/G38/F38) -> 4
A39: 2 | B39: 枪 | C39: 白 | D39: 范围伤害 | E39: =E11*$G$30 -> 12 | F39: 2 | G39: 1 | H39: =$H$30*INDEX($E$31:$E$34,MATCH(D39,$D$31:$D$34,0))*(INDEX($B$31:$B$33,MATCH(C39,$A$31:$A$33,0))/G39/F39) -> 3
A40: 3 | B40: 棍 | C40: 白 | D40: 范围伤害 | E40: =E12*$G$30 -> 12 | F40: 3 | G40: 1 | H40: =$H$30*INDEX($E$31:$E$34,MATCH(D40,$D$31:$D$34,0))*(INDEX($B$31:$B$33,MATCH(C40,$A$31:$A$33,0))/G40/F40) -> 2
A41: 4 | B41: 弓 | C41: 白 | D41: 单体伤害 | E41: =E13*$G$30 -> 12 | F41: 1 | G41: 1 | H41: =$H$30*INDEX($E$31:$E$34,MATCH(D41,$D$31:$D$34,0))*(INDEX($B$31:$B$33,MATCH(C41,$A$31:$A$33,0))/G41/F41) -> 4
A42: 101 | B42: 悟空 | C42: 橙 | D42: 控制 | E42: =E15*$G$30 -> 15 | F42: 3 | G42: 5 | H42: =$H$30*INDEX($E$31:$E$34,MATCH(D42,$D$31:$D$34,0))*(INDEX($B$31:$B$33,MATCH(C42,$A$31:$A$33,0))/G42/F42) -> 0.64 | I42: 15 | J42: 15
A43: 102 | B43: 悟能 | C43: 紫 | D43: 加成 | E43: =E16*$G$30 -> 12 | F43: 2 | G43: 1 | H43: =$H$30*INDEX($E$31:$E$34,MATCH(D43,$D$31:$D$34,0))*(INDEX($B$31:$B$33,MATCH(C43,$A$31:$A$33,0))/G43/F43) -> 1.5 | I43: 8
A44: 103 | B44: 悟净 | C44: 紫 | D44: 加成 | E44: =E17*$G$30 -> 15 | F44: 3 | G44: 1 | H44: =$H$30*INDEX($E$31:$E$34,MATCH(D44,$D$31:$D$34,0))*(INDEX($B$31:$B$33,MATCH(C44,$A$31:$A$33,0))/G44/F44) -> 1 | I44: 9 | J44: 11
A45: 104 | B45: 哪吒 | C45: 橙 | D45: 控制 | E45: =E18*$G$30 -> 15 | F45: 5 | G45: 1 | H45: =$H$30*INDEX($E$31:$E$34,MATCH(D45,$D$31:$D$34,0))*(INDEX($B$31:$B$33,MATCH(C45,$A$31:$A$33,0))/G45/F45) -> 1.92 | I45: 11 | J45: 13
A46: 105 | B46: 金吒 | C46: 紫 | D46: 范围伤害 | E46: =E19*$G$30 -> 12 | F46: 2 | G46: 3 | H46: =$H$30*INDEX($E$31:$E$34,MATCH(D46,$D$31:$D$34,0))*(INDEX($B$31:$B$33,MATCH(C46,$A$31:$A$33,0))/G46/F46) -> 1.5 | I46: 10 | J46: 10
...

Sheet 文字概率
B1: 铲子 | C1: 刀 | D1: 枪 | E1: 棍 | F1: 弓 | G1: 悟 | H1: 空 | I1: 能 | J1: 净 | K1: 哪 | L1: 金 | M1: 木 | N1: 吒 | O1: 杨 | P1: 戬 | Q1: 王 | R1: 母 | S1: 阎 | T1: 玉 | U1: 帝 | V1: 嫦 | W1: 娥 | X1: 李 | Y1: 靖
A2: 1 | B2: =($F$49*$G$49)/SUMPRODUCT($F$26:$F$49,$G$26:$G$49) -> 0.086956522 | C2: =(F26*G26)/SUMPRODUCT($F$26:$F$49,$G$26:$G$49) -> 0.18306636 | D2: =(F27*G27)/SUMPRODUCT($F$26:$F$49,$G$26:$G$49) -> 0.16590389 | E2: =(F28*G28)/SUMPRODUCT($F$26:$F$49,$G$26:$G$49) -> 0.16018307 | F2: =(F29*G29)/SUMPRODUCT($F$26:$F$49,$G$26:$G$49) -> 0.17734554 | G2: =(F30*G30)/SUMPRODUCT($F$26:$F$49,$G$26:$G$49) -> 0.020594966 | H2: =(F31*G31)/SUMPRODUCT($F$26:$F$49,$G$26:$G$49) -> 0.0091533181 | I2: =(F32*G32)/SUMPRODUCT($F$26:$F$49,$G$26:$G$49) -> 0.0091533181 | J2: =(F33*G33)/SUMPRODUCT($F$26:$F$49,$G$26:$G$49) -> 0.0091533181 | K2: =(F34*G34)/SUMPRODUCT($F$26:$F$49,$G$26:$G$49) -> 0.018306636 | L2: =(F35*G35)/SUMPRODUCT($F$26:$F$49,$G$26:$G$49) -> 0.0091533181 | M2: =(F36*G36)/SUMPRODUCT($F$26:$F$49,$G$26:$G$49) -> 0.0091533181 | N2: =(F37*G37)/SUMPRODUCT($F$26:$F$49,$G$26:$G$49) -> 0.020594966 | O2: =(F38*G38)/SUMPRODUCT($F$26:$F$49,$G$26:$G$49) -> 0.018306636 | P2: =(F39*G39)/SUMPRODUCT($F$26:$F$49,$G$26:$G$49) -> 0.0091533181 | Q2: =(F40*G40)/SUMPRODUCT($F$26:$F$49,$G$26:$G$49) -> 0.020594966 | R2: =(F41*G41)/SUMPRODUCT($F$26:$F$49,$G$26:$G$49) -> 0.0091533181 | S2: =(F42*G42)/SUMPRODUCT($F$26:$F$49,$G$26:$G$49) -> 0.0091533181 | T2: =(F43*G43)/SUMPRODUCT($F$26:$F$49,$G$26:$G$49) -> 0.0091533181 | U2: =(F44*G44)/SUMPRODUCT($F$26:$F$49,$G$26:$G$49) -> 0.0091533181 | V2: =(F45*G45)/SUMPRODUCT($F$26:$F$49,$G$26:$G$49) -> 0.0091533181 | W2: =(F46*G46)/SUMPRODUCT($F$26:$F$49,$G$26:$G$49) -> 0.0091533181 | X2: =(F47*G47)/SUMPRODUCT($F$26:$F$49,$G$26:$G$49) -> 0.0091533181 | Y2: =(F48*G48)/SUMPRODUCT($F$26:$F$49,$G$26:$G$49) -> 0.0091533181
A3: 2 | B3: =($F$49*$H$49)/SUMPRODUCT($F$26:$F$49,$H$26:$H$49) -> 0.063985375 | C3: =($F$26*$H$26)/SUMPRODUCT($F$26:$F$49,$H$26:$H$49) -> 0.20109689 | D3: =($F$27*$H$27)/SUMPRODUCT($F$26:$F$49,$H$26:$H$49) -> 0.19195612 | E3: =($F$28*$H$28)/SUMPRODUCT($F$26:$F$49,$H$26:$H$49) -> 0.17367459 | F3: =($F$29*$H$29)/SUMPRODUCT($F$26:$F$49,$H$26:$H$49) -> 0.18281536 | G3: =($F$30*$H$30)/SUMPRODUCT($F$26:$F$49,$H$26:$H$49) -> 0.008226691 | H3: =($F$31*$H$31)/SUMPRODUCT($F$26:$F$49,$H$26:$H$49) -> 0.014625229 | I3: =($F$49*$H$49)/SUMPRODUCT($F$26:$F$49,$H$26:$H$49) -> 0.063985375 | J3: =($F$49*$H$49)/SUMPRODUCT($F$26:$F$49,$H$26:$H$49) -> 0.063985375 | K3: =($F$49*$H$49)/SUMPRODUCT($F$26:$F$49,$H$26:$H$49) -> 0.063985375 | L3: =($F$49*$H$49)/SUMPRODUCT($F$26:$F$49,$H$26:$H$49) -> 0.063985375 | M3: =($F$49*$H$49)/SUMPRODUCT($F$26:$F$49,$H$26:$H$49) -> 0.063985375 | N3: =($F$49*$H$49)/SUMPRODUCT($F$26:$F$49,$H$26:$H$49) -> 0.063985375 | O3: =($F$49*$H$49)/SUMPRODUCT($F$26:$F$49,$H$26:$H$49) -> 0.063985375 | P3: =($F$49*$H$49)/SUMPRODUCT($F$26:$F$49,$H$26:$H$49) -> 0.063985375 | ... Y3: =($F$49*$H$49)/SUMPRODUCT($F$26:$F$49,$H$26:$H$49) -> 0.063985375
A4: 3 | B4: =($F$49*$I$49)/SUMPRODUCT($F$26:$F$49,$I$26:$I$49) -> 0.064575646 | C4: =($F$26*$I$26)/SUMPRODUCT($F$26:$F$49,$I$26:$I$49) -> 0.20295203 | D4: =($F$27*$I$27)/SUMPRODUCT($F$26:$F$49,$I$26:$I$49) -> 0.19188192 | E4: =($F$28*$I$28)/SUMPRODUCT($F$26:$F$49,$I$26:$I$49) -> 0.1697417 | F4: =($F$29*$I$29)/SUMPRODUCT($F$26:$F$49,$I$26:$I$49) -> 0.18081181 | G4: =($F$30*$I$30)/SUMPRODUCT($F$26:$F$49,$I$26:$I$49) -> 0.016605166 | H4: =($F$49*$I$49)/SUMPRODUCT($F$26:$F$49,$I$26:$I$49) -> 0.064575646 | I4: =($F$49*$I$49)/SUMPRODUCT($F$26:$F$49,$I$26:$I$49) -> 0.064575646 | J4: =($F$49*$I$49)/SUMPRODUCT($F$26:$F$49,$I$26:$I$49) -> 0.064575646 | K4: =($F$49*$I$49)/SUMPRODUCT($F$26:$F$49,$I$26:$I$49) -> 0.064575646 | L4: =($F$49*$I$49)/SUMPRODUCT($F$26:$F$49,$I$26:$I$49) -> 0.064575646 | M4: =($F$49*$I$49)/SUMPRODUCT($F$26:$F$49,$I$26:$I$49) -> 0.064575646 | N4: =($F$49*$I$49)/SUMPRODUCT($F$26:$F$49,$I$26:$I$49) -> 0.064575646 | O4: =($F$49*$I$49)/SUMPRODUCT($F$26:$F$49,$I$26:$I$49) -> 0.064575646 | ... Y4: =($F$49*$I$49)/SUMPRODUCT($F$26:$F$49,$I$26:$I$49) -> 0.064575646
A5: 4 | B5: =($F$49*$J$49)/SUMPRODUCT($F$26:$F$49,$J$26:$J$49) -> 0.064695009 | C5: =($F$26*$J$26)/SUMPRODUCT($F$26:$F$49,$J$26:$J$49) -> 0.20332717 | D5: =($F$27*$J$27)/SUMPRODUCT($F$26:$F$49,$J$26:$J$49) -> 0.1922366 | E5: =($F$28*$J$28)/SUMPRODUCT($F$26:$F$49,$J$26:$J$49) -> 0.17005545 | F5: =($F$29*$J$29)/SUMPRODUCT($F$26:$F$49,$J$26:$J$49) -> 0.18114603 | G5: =($F$30*$J$30)/SUMPRODUCT($F$26:$F$49,$J$26:$J$49) -> 0.01663586 | H5: =($F$49*$J$49)/SUMPRODUCT($F$26:$F$49,$J$26:$J$49) -> 0.064695009 | I5: =($F$49*$J$49)/SUMPRODUCT($F$26:$F$49,$J$26:$J$49) -> 0.064695009 | J5: =($F$49*$J$49)/SUMPRODUCT($F$26:$F$49,$J$26:$J$49) -> 0.064695009 | K5: =($F$49*$J$49)/SUMPRODUCT($F$26:$F$49,$J$26:$J$49) -> 0.064695009 | L5: =($F$49*$J$49)/SUMPRODUCT($F$26:$F$49,$J$26:$J$49) -> 0.064695009 | M5: =($F$49*$J$49)/SUMPRODUCT($F$26:$F$49,$J$26:$J$49) -> 0.064695009 | N5: =($F$49*$J$49)/SUMPRODUCT($F$26:$F$49,$J$26:$J$49) -> 0.064695009 | O5: =($F$49*$J$49)/SUMPRODUCT($F$26:$F$49,$J$26:$J$49) -> 0.064695009 | ... Y5: =($F$49*$J$49)/SUMPRODUCT($F$26:$F$49,$J$26:$J$49) -> 0.064695009
A6: 5 | B6: =($F$49*$K$49)/SUMPRODUCT($F$26:$F$49,$K$26:$K$49) -> 0.064695009 | C6: =($F$26*$K$26)/SUMPRODUCT($F$26:$F$49,$K$26:$K$49) -> 0.20332717 | D6: =($F$27*$K$27)/SUMPRODUCT($F$26:$F$49,$K$26:$K$49) -> 0.1922366 | E6: =($F$28*$K$28)/SUMPRODUCT($F$26:$F$49,$K$26:$K$49) -> 0.17005545 | F6: =($F$29*$K$29)/SUMPRODUCT($F$26:$F$49,$K$26:$K$49) -> 0.18114603 | G6: =($F$30*$K$30)/SUMPRODUCT($F$26:$F$49,$K$26:$K$49) -> 0.0083179298 | H6: =($F$49*$K$49)/SUMPRODUCT($F$26:$F$49,$K$26:$K$49) -> 0.064695009 | I6: =($F$49*$K$49)/SUMPRODUCT($F$26:$F$49,$K$26:$K$49) -> 0.064695009 | J6: =($F$49*$K$49)/SUMPRODUCT($F$26:$F$49,$K$26:$K$49) -> 0.064695009 | K6: =($F$49*$K$49)/SUMPRODUCT($F$26:$F$49,$K$26:$K$49) -> 0.064695009 | L6: =($F$49*$K$49)/SUMPRODUCT($F$26:$F$49,$K$26:$K$49) -> 0.064695009 | M6: =($F$49*$K$49)/SUMPRODUCT($F$26:$F$49,$K$26:$K$49) -> 0.064695009 | N6: =($F$49*$K$49)/SUMPRODUCT($F$26:$F$49,$K$26:$K$49) -> 0.064695009 | O6: =($F$49*$K$49)/SUMPRODUCT($F$26:$F$49,$K$26:$K$49) -> 0.064695009 | ... Y6: =($F$49*$K$49)/SUMPRODUCT($F$26:$F$49,$K$26:$K$49) -> 0.064695009
A7: 6 | B7: =($F$49*$L$49)/SUMPRODUCT($F$26:$F$49,$L$26:$L$49) -> 0.064635272 | C7: =($F$26*$L$26)/SUMPRODUCT($F$26:$F$49,$L$26:$L$49) -> 0.20313943 | D7: =($F$27*$L$27)/SUMPRODUCT($F$26:$F$49,$L$26:$L$49) -> 0.1920591 | E7: =($F$28*$L$28)/SUMPRODUCT($F$26:$F$49,$L$26:$L$49) -> 0.16989843 | F7: =($F$29*$L$29)/SUMPRODUCT($F$26:$F$49,$L$26:$L$49) -> 0.18097876 | G7: =($F$30*$L$30)/SUMPRODUCT($F$26:$F$49,$L$26:$L$49) -> 0.016620499 | H7: =($F$49*$L$49)/SUMPRODUCT($F$26:$F$49,$L$26:$L$49) -> 0.064635272 | I7: =($F$49*$L$49)/SUMPRODUCT($F$26:$F$49,$L$26:$L$49) -> 0.064635272 | J7: =($F$49*$L$49)/SUMPRODUCT($F$26:$F$49,$L$26:$L$49) -> 0.064635272 | K7: =($F$49*$L$49)/SUMPRODUCT($F$26:$F$49,$L$26:$L$49) -> 0.064635272 | L7: =($F$49*$L$49)/SUMPRODUCT($F$26:$F$49,$L$26:$L$49) -> 0.064635272 | M7: =($F$49*$L$49)/SUMPRODUCT($F$26:$F$49,$L$26:$L$49) -> 0.064635272 | N7: =($F$49*$L$49)/SUMPRODUCT($F$26:$F$49,$L$26:$L$49) -> 0.064635272 | O7: =($F$49*$L$49)/SUMPRODUCT($F$26:$F$49,$L$26:$L$49) -> 0.064635272 | ... Y7: =($F$49*$L$49)/SUMPRODUCT($F$26:$F$49,$L$26:$L$49) -> 0.064635272
A8: 7 | B8: =($F$49*$M$49)/SUMPRODUCT($F$26:$F$49,$M$26:$M$49) -> 0.064695009 | C8: =($F$26*$M$26)/SUMPRODUCT($F$26:$F$49,$M$26:$M$49) -> 0.20332717 | D8: =($F$27*$M$27)/SUMPRODUCT($F$26:$F$49,$M$26:$M$49) -> 0.1922366 | E8: =($F$28*$M$28)/SUMPRODUCT($F$26:$F$49,$M$26:$M$49) -> 0.17005545 | F8: =($F$29*$M$29)/SUMPRODUCT($F$26:$F$49,$M$26:$M$49) -> 0.18114603 | G8: =($F$30*$M$30)/SUMPRODUCT($F$26:$F$49,$M$26:$M$49) -> 0.0083179298 | H8: =($F$49*$M$49)/SUMPRODUCT($F$26:$F$49,$M$26:$M$49) -> 0.064695009 | I8: =($F$49*$M$49)/SUMPRODUCT($F$26:$F$49,$M$26:$M$49) -> 0.064695009 | J8: =($F$49*$M$49)/SUMPRODUCT($F$26:$F$49,$M$26:$M$49) -> 0.064695009 | K8: =($F$49*$M$49)/SUMPRODUCT($F$26:$F$49,$M$26:$M$49) -> 0.064695009 | L8: =($F$49*$M$49)/SUMPRODUCT($F$26:$F$49,$M$26:$M$49) -> 0.064695009 | M8: =($F$49*$M$49)/SUMPRODUCT($F$26:$F$49,$M$26:$M$49) -> 0.064695009 | N8: =($F$49*$M$49)/SUMPRODUCT($F$26:$F$49,$M$26:$M$49) -> 0.064695009 | O8: =($F$49*$M$49)/SUMPRODUCT($F$26:$F$49,$M$26:$M$49) -> 0.064695009 | ... Y8: =($F$49*$M$49)/SUMPRODUCT($F$26:$F$49,$M$26:$M$49) -> 0.064695009
A9: 8 | B9: =($F$49*$N$49)/SUMPRODUCT($F$26:$F$49,$N$26:$N$49) -> 0.064575646 | C9: =($F$26*$N$26)/SUMPRODUCT($F$26:$F$49,$N$26:$N$49) -> 0.20295203 | D9: =($F$27*$N$27)/SUMPRODUCT($F$26:$F$49,$N$26:$N$49) -> 0.19188192 | E9: =($F$28*$N$28)/SUMPRODUCT($F$26:$F$49,$N$26:$N$49) -> 0.1697417 | F9: =($F$29*$N$29)/SUMPRODUCT($F$26:$F$49,$N$26:$N$49) -> 0.18081181 | G9: =($F$30*$N$30)/SUMPRODUCT($F$26:$F$49,$N$26:$N$49) -> 0.016605166 | H9: =($F$49*$N$49)/SUMPRODUCT($F$26:$F$49,$N$26:$N$49) -> 0.064575646 | I9: =($F$49*$N$49)/SUMPRODUCT($F$26:$F$49,$N$26:$N$49) -> 0.064575646 | J9: =($F$49*$N$49)/SUMPRODUCT($F$26:$F$49,$N$26:$N$49) -> 0.064575646 | K9: =($F$49*$N$49)/SUMPRODUCT($F$26:$F$49,$N$26:$N$49) -> 0.064575646 | L9: =($F$49*$N$49)/SUMPRODUCT($F$26:$F$49,$N$26:$N$49) -> 0.064575646 | M9: =($F$49*$N$49)/SUMPRODUCT($F$26:$F$49,$N$26:$N$49) -> 0.064575646 | N9: =($F$49*$N$49)/SUMPRODUCT($F$26:$F$49,$N$26:$N$49) -> 0.064575646 | O9: =($F$49*$N$49)/SUMPRODUCT($F$26:$F$49,$N$26:$N$49) -> 0.064575646 | ... Y9: =($F$49*$N$49)/SUMPRODUCT($F$26:$F$49,$N$26:$N$49) -> 0.064575646
A10: 9 | B10: =($F$49*$O$49)/SUMPRODUCT($F$26:$F$49,$O$26:$O$49) -> 0.064695009 | C10: =($F$26*$O$26)/SUMPRODUCT($F$26:$F$49,$O$26:$O$49) -> 0.20332717 | D10: =($F$27*$O$27)/SUMPRODUCT($F$26:$F$49,$O$26:$O$49) -> 0.1922366 | E10: =($F$28*$O$28)/SUMPRODUCT($F$26:$F$49,$O$26:$O$49) -> 0.17005545 | F10: =($F$29*$O$29)/SUMPRODUCT($F$26:$F$49,$O$26:$O$49) -> 0.18114603 | G10: =($F$30*$O$30)/SUMPRODUCT($F$26:$F$49,$O$26:$O$49) -> 0.01663586 | H10: =($F$49*$O$49)/SUMPRODUCT($F$26:$F$49,$O$26:$O$49) -> 0.064695009 | I10: =($F$49*$O$49)/SUMPRODUCT($F$26:$F$49,$O$26:$O$49) -> 0.064695009 | J10: =($F$49*$O$49)/SUMPRODUCT($F$26:$F$49,$O$26:$O$49) -> 0.064695009 | K10: =($F$49*$O$49)/SUMPRODUCT($F$26:$F$49,$O$26:$O$49) -> 0.064695009 | L10: =($F$49*$O$49)/SUMPRODUCT($F$26:$F$49,$O$26:$O$49) -> 0.064695009 | M10: =($F$49*$O$49)/SUMPRODUCT($F$26:$F$49,$O$26:$O$49) -> 0.064695009 | N10: =($F$49*$O$49)/SUMPRODUCT($F$26:$F$49,$O$26:$O$49) -> 0.064695009 | O10: =($F$49*$O$49)/SUMPRODUCT($F$26:$F$49,$O$26:$O$49) -> 0.064695009 | ... Y10: =($F$49*$O$49)/SUMPRODUCT($F$26:$F$49,$O$26:$O$49) -> 0.064695009
A11: 10 | B11: =($F$49*$P$49)/SUMPRODUCT($F$26:$F$49,$P$26:$P$49) -> 0.064695009 | C11: =($F$26*$P$26)/SUMPRODUCT($F$26:$F$49,$P$26:$P$49) -> 0.20332717 | D11: =($F$27*$P$27)/SUMPRODUCT($F$26:$F$49,$P$26:$P$49) -> 0.1922366 | E11: =($F$28*$P$28)/SUMPRODUCT($F$26:$F$49,$P$26:$P$49) -> 0.17005545 | F11: =($F$29*$P$29)/SUMPRODUCT($F$26:$F$49,$P$26:$P$49) -> 0.18114603 | G11: =($F$30*$P$30)/SUMPRODUCT($F$26:$F$49,$P$26:$P$49) -> 0.0083179298 | H11: =($F$49*$P$49)/SUMPRODUCT($F$26:$F$49,$P$26:$P$49) -> 0.064695009 | I11: =($F$49*$P$49)/SUMPRODUCT($F$26:$F$49,$P$26:$P$49) -> 0.064695009 | J11: =($F$49*$P$49)/SUMPRODUCT($F$26:$F$49,$P$26:$P$49) -> 0.064695009 | K11: =($F$49*$P$49)/SUMPRODUCT($F$26:$F$49,$P$26:$P$49) -> 0.064695009 | L11: =($F$49*$P$49)/SUMPRODUCT($F$26:$F$49,$P$26:$P$49) -> 0.064695009 | M11: =($F$49*$P$49)/SUMPRODUCT($F$26:$F$49,$P$26:$P$49) -> 0.064695009 | N11: =($F$49*$P$49)/SUMPRODUCT($F$26:$F$49,$P$26:$P$49) -> 0.064695009 | O11: =($F$49*$P$49)/SUMPRODUCT($F$26:$F$49,$P$26:$P$49) -> 0.064695009 | ... Y11: =($F$49*$P$49)/SUMPRODUCT($F$26:$F$49,$P$26:$P$49) -> 0.064695009
A12: 11 | B12: =($F$49*$Q$49)/SUMPRODUCT($F$26:$F$49,$Q$26:$Q$49) -> 0.068906115 | C12: =($F$26*$Q$26)/SUMPRODUCT($F$26:$F$49,$Q$26:$Q$49) -> 0.18949182 | D12: =($F$27*$Q$27)/SUMPRODUCT($F$26:$F$49,$Q$26:$Q$49) -> 0.1791559 | E12: =($F$28*$Q$28)/SUMPRODUCT($F$26:$F$49,$Q$26:$Q$49) -> 0.15848407 | F12: =($F$29*$Q$29)/SUMPRODUCT($F$26:$F$49,$Q$26:$Q$49) -> 0.16881998 | G12: =($F$30*$Q$30)/SUMPRODUCT($F$26:$F$49,$Q$26:$Q$49) -> 0.023255814 | H12: =($F$49*$Q$49)/SUMPRODUCT($F$26:$F$49,$Q$26:$Q$49) -> 0.068906115 | I12: =($F$49*$Q$49)/SUMPRODUCT($F$26:$F$49,$Q$26:$Q$49) -> 0.068906115 | J12: =($F$49*$Q$49)/SUMPRODUCT($F$26:$F$49,$Q$26:$Q$49) -> 0.068906115 | K12: =($F$49*$Q$49)/SUMPRODUCT($F$26:$F$49,$Q$26:$Q$49) -> 0.068906115 | L12: =($F$49*$Q$49)/SUMPRODUCT($F$26:$F$49,$Q$26:$Q$49) -> 0.068906115 | M12: =($F$49*$Q$49)/SUMPRODUCT($F$26:$F$49,$Q$26:$Q$49) -> 0.068906115 | N12: =($F$49*$Q$49)/SUMPRODUCT($F$26:$F$49,$Q$26:$Q$49) -> 0.068906115 | O12: =($F$49*$Q$49)/SUMPRODUCT($F$26:$F$49,$Q$26:$Q$49) -> 0.068906115 | ... Y12: =($F$49*$Q$49)/SUMPRODUCT($F$26:$F$49,$Q$26:$Q$49) -> 0.068906115
A13: 12 | B13: =($F$49*$R$49)/SUMPRODUCT($F$26:$F$49,$R$26:$R$49) -> 0.068551842 | C13: =($F$26*$R$26)/SUMPRODUCT($F$26:$F$49,$R$26:$R$49) -> 0.18851757 | D13: =($F$27*$R$27)/SUMPRODUCT($F$26:$F$49,$R$26:$R$49) -> 0.17823479 | E13: =($F$28*$R$28)/SUMPRODUCT($F$26:$F$49,$R$26:$R$49) -> 0.15766924 | F13: =($F$29*$R$29)/SUMPRODUCT($F$26:$F$49,$R$26:$R$49) -> 0.16795201 | G13: =($F$30*$R$30)/SUMPRODUCT($F$26:$F$49,$R$26:$R$49) -> 0.015424165 | H13: =($F$49*$R$49)/SUMPRODUCT($F$26:$F$49,$R$26:$R$49) -> 0.068551842 | I13: =($F$49*$R$49)/SUMPRODUCT($F$26:$F$49,$R$26:$R$49) -> 0.068551842 | J13: =($F$49*$R$49)/SUMPRODUCT($F$26:$F$49,$R$26:$R$49) -> 0.068551842 | K13: =($F$49*$R$49)/SUMPRODUCT($F$26:$F$49,$R$26:$R$49) -> 0.068551842 | L13: =($F$49*$R$49)/SUMPRODUCT($F$26:$F$49,$R$26:$R$49) -> 0.068551842 | M13: =($F$49*$R$49)/SUMPRODUCT($F$26:$F$49,$R$26:$R$49) -> 0.068551842 | N13: =($F$49*$R$49)/SUMPRODUCT($F$26:$F$49,$R$26:$R$49) -> 0.068551842 | O13: =($F$49*$R$49)/SUMPRODUCT($F$26:$F$49,$R$26:$R$49) -> 0.068551842 | ... Y13: =($F$49*$R$49)/SUMPRODUCT($F$26:$F$49,$R$26:$R$49) -> 0.068551842
A14: 13 | B14: =($F$49*$S$49)/SUMPRODUCT($F$26:$F$49,$S$26:$S$49) -> 0.068434559 | C14: =($F$26*$S$26)/SUMPRODUCT($F$26:$F$49,$S$26:$S$49) -> 0.18819504 | D14: =($F$27*$S$27)/SUMPRODUCT($F$26:$F$49,$S$26:$S$49) -> 0.17792985 | E14: =($F$28*$S$28)/SUMPRODUCT($F$26:$F$49,$S$26:$S$49) -> 0.15739949 | F14: =($F$29*$S$29)/SUMPRODUCT($F$26:$F$49,$S$26:$S$49) -> 0.16766467 | G14: =($F$30*$S$30)/SUMPRODUCT($F$26:$F$49,$S$26:$S$49) -> 0.023096664 | H14: =($F$49*$S$49)/SUMPRODUCT($F$26:$F$49,$S$26:$S$49) -> 0.068434559 | I14: =($F$49*$S$49)/SUMPRODUCT($F$26:$F$49,$S$26:$S$49) -> 0.068434559 | J14: =($F$49*$S$49)/SUMPRODUCT($F$26:$F$49,$S$26:$S$49) -> 0.068434559 | K14: =($F$49*$S$49)/SUMPRODUCT($F$26:$F$49,$S$26:$S$49) -> 0.068434559 | L14: =($F$49*$S$49)/SUMPRODUCT($F$26:$F$49,$S$26:$S$49) -> 0.068434559 | M14: =($F$49*$S$49)/SUMPRODUCT($F$26:$F$49,$S$26:$S$49) -> 0.068434559 | N14: =($F$49*$S$49)/SUMPRODUCT($F$26:$F$49,$S$26:$S$49) -> 0.068434559 | O14: =($F$49*$S$49)/SUMPRODUCT($F$26:$F$49,$S$26:$S$49) -> 0.068434559 | ... Y14: =($F$49*$S$49)/SUMPRODUCT($F$26:$F$49,$S$26:$S$49) -> 0.068434559
A15: 14 | B15: =($F$49*$T$49)/SUMPRODUCT($F$26:$F$49,$T$26:$T$49) -> 0.068551842 | C15: =($F$26*$T$26)/SUMPRODUCT($F$26:$F$49,$T$26:$T$49) -> 0.18851757 | D15: =($F$27*$T$27)/SUMPRODUCT($F$26:$F$49,$T$26:$T$49) -> 0.17823479 | E15: =($F$28*$T$28)/SUMPRODUCT($F$26:$F$49,$T$26:$T$49) -> 0.15766924 | F15: =($F$29*$T$29)/SUMPRODUCT($F$26:$F$49,$T$26:$T$49) -> 0.16795201 | G15: =($F$30*$T$30)/SUMPRODUCT($F$26:$F$49,$T$26:$T$49) -> 0.023136247 | H15: =($F$49*$T$49)/SUMPRODUCT($F$26:$F$49,$T$26:$T$49) -> 0.068551842 | I15: =($F$49*$T$49)/SUMPRODUCT($F$26:$F$49,$T$26:$T$49) -> 0.068551842 | J15: =($F$49*$T$49)/SUMPRODUCT($F$26:$F$49,$T$26:$T$49) -> 0.068551842 | K15: =($F$49*$T$49)/SUMPRODUCT($F$26:$F$49,$T$26:$T$49) -> 0.068551842 | L15: =($F$49*$T$49)/SUMPRODUCT($F$26:$F$49,$T$26:$T$49) -> 0.068551842 | M15: =($F$49*$T$49)/SUMPRODUCT($F$26:$F$49,$T$26:$T$49) -> 0.068551842 | N15: =($F$49*$T$49)/SUMPRODUCT($F$26:$F$49,$T$26:$T$49) -> 0.068551842 | O15: =($F$49*$T$49)/SUMPRODUCT($F$26:$F$49,$T$26:$T$49) -> 0.068551842 | ... Y15: =($F$49*$T$49)/SUMPRODUCT($F$26:$F$49,$T$26:$T$49) -> 0.068551842
A16: 15 | B16: =($F$49*$U$49)/SUMPRODUCT($F$26:$F$49,$U$26:$U$49) -> 0.068551842 | C16: =($F$26*$U$26)/SUMPRODUCT($F$26:$F$49,$U$26:$U$49) -> 0.18851757 | D16: =($F$27*$U$27)/SUMPRODUCT($F$26:$F$49,$U$26:$U$49) -> 0.17823479 | E16: =($F$28*$U$28)/SUMPRODUCT($F$26:$F$49,$U$26:$U$49) -> 0.15766924 | F16: =($F$29*$U$29)/SUMPRODUCT($F$26:$F$49,$U$26:$U$49) -> 0.16795201 | G16: =($F$30*$U$30)/SUMPRODUCT($F$26:$F$49,$U$26:$U$49) -> 0.015424165 | H16: =($F$49*$U$49)/SUMPRODUCT($F$26:$F$49,$U$26:$U$49) -> 0.068551842 | I16: =($F$49*$U$49)/SUMPRODUCT($F$26:$F$49,$U$26:$U$49) -> 0.068551842 | J16: =($F$49*$U$49)/SUMPRODUCT($F$26:$F$49,$U$26:$U$49) -> 0.068551842 | K16: =($F$49*$U$49)/SUMPRODUCT($F$26:$F$49,$U$26:$U$49) -> 0.068551842 | L16: =($F$49*$U$49)/SUMPRODUCT($F$26:$F$49,$U$26:$U$49) -> 0.068551842 | M16: =($F$49*$U$49)/SUMPRODUCT($F$26:$F$49,$U$26:$U$49) -> 0.068551842 | N16: =($F$49*$U$49)/SUMPRODUCT($F$26:$F$49,$U$26:$U$49) -> 0.068551842 | O16: =($F$49*$U$49)/SUMPRODUCT($F$26:$F$49,$U$26:$U$49) -> 0.068551842 | ... Y16: =($F$49*$U$49)/SUMPRODUCT($F$26:$F$49,$U$26:$U$49) -> 0.068551842
A17: 16 | B17: =($F$49*$V$49)/SUMPRODUCT($F$26:$F$49,$V$26:$V$49) -> 0.068493151 | C17: =($F$26*$V$26)/SUMPRODUCT($F$26:$F$49,$V$26:$V$49) -> 0.18835616 | D17: =($F$27*$V$27)/SUMPRODUCT($F$26:$F$49,$V$26:$V$49) -> 0.17808219 | E17: =($F$28*$V$28)/SUMPRODUCT($F$26:$F$49,$V$26:$V$49) -> 0.15753425 | F17: =($F$29*$V$29)/SUMPRODUCT($F$26:$F$49,$V$26:$V$49) -> 0.16780822 | G17: =($F$30*$V$30)/SUMPRODUCT($F$26:$F$49,$V$26:$V$49) -> 0.023116438 | H17: =($F$49*$V$49)/SUMPRODUCT($F$26:$F$49,$V$26:$V$49) -> 0.068493151 | I17: =($F$49*$V$49)/SUMPRODUCT($F$26:$F$49,$V$26:$V$49) -> 0.068493151 | J17: =($F$49*$V$49)/SUMPRODUCT($F$26:$F$49,$V$26:$V$49) -> 0.068493151 | K17: =($F$49*$V$49)/SUMPRODUCT($F$26:$F$49,$V$26:$V$49) -> 0.068493151 | L17: =($F$49*$V$49)/SUMPRODUCT($F$26:$F$49,$V$26:$V$49) -> 0.068493151 | M17: =($F$49*$V$49)/SUMPRODUCT($F$26:$F$49,$V$26:$V$49) -> 0.068493151 | N17: =($F$49*$V$49)/SUMPRODUCT($F$26:$F$49,$V$26:$V$49) -> 0.068493151 | O17: =($F$49*$V$49)/SUMPRODUCT($F$26:$F$49,$V$26:$V$49) -> 0.068493151 | ... Y17: =($F$49*$V$49)/SUMPRODUCT($F$26:$F$49,$V$26:$V$49) -> 0.068493151
A18: 17 | B18: =($F$49*$W$49)/SUMPRODUCT($F$26:$F$49,$W$26:$W$49) -> 0.068551842 | C18: =($F$26*$W$26)/SUMPRODUCT($F$26:$F$49,$W$26:$W$49) -> 0.18851757 | D18: =($F$27*$W$27)/SUMPRODUCT($F$26:$F$49,$W$26:$W$49) -> 0.17823479 | E18: =($F$28*$W$28)/SUMPRODUCT($F$26:$F$49,$W$26:$W$49) -> 0.15766924 | F18: =($F$29*$W$29)/SUMPRODUCT($F$26:$F$49,$W$26:$W$49) -> 0.16795201 | G18: =($F$30*$W$30)/SUMPRODUCT($F$26:$F$49,$W$26:$W$49) -> 0.015424165 | H18: =($F$49*$W$49)/SUMPRODUCT($F$26:$F$49,$W$26:$W$49) -> 0.068551842 | I18: =($F$49*$W$49)/SUMPRODUCT($F$26:$F$49,$W$26:$W$49) -> 0.068551842 | J18: =($F$49*$W$49)/SUMPRODUCT($F$26:$F$49,$W$26:$W$49) -> 0.068551842 | K18: =($F$49*$W$49)/SUMPRODUCT($F$26:$F$49,$W$26:$W$49) -> 0.068551842 | L18: =($F$49*$W$49)/SUMPRODUCT($F$26:$F$49,$W$26:$W$49) -> 0.068551842 | M18: =($F$49*$W$49)/SUMPRODUCT($F$26:$F$49,$W$26:$W$49) -> 0.068551842 | N18: =($F$49*$W$49)/SUMPRODUCT($F$26:$F$49,$W$26:$W$49) -> 0.068551842 | O18: =($F$49*$W$49)/SUMPRODUCT($F$26:$F$49,$W$26:$W$49) -> 0.068551842 | ... Y18: =($F$49*$W$49)/SUMPRODUCT($F$26:$F$49,$W$26:$W$49) -> 0.068551842
A19: 18 | B19: =($F$49*$X$49)/SUMPRODUCT($F$26:$F$49,$X$26:$X$49) -> 0.068434559 | C19: =($F$26*$X$26)/SUMPRODUCT($F$26:$F$49,$X$26:$X$49) -> 0.18819504 | D19: =($F$27*$X$27)/SUMPRODUCT($F$26:$F$49,$X$26:$X$49) -> 0.17792985 | E19: =($F$28*$X$28)/SUMPRODUCT($F$26:$F$49,$X$26:$X$49) -> 0.15739949 | F19: =($F$29*$X$29)/SUMPRODUCT($F$26:$F$49,$X$26:$X$49) -> 0.16766467 | G19: =($F$30*$X$30)/SUMPRODUCT($F$26:$F$49,$X$26:$X$49) -> 0.023096664 | H19: =($F$49*$X$49)/SUMPRODUCT($F$26:$F$49,$X$26:$X$49) -> 0.068434559 | I19: =($F$49*$X$49)/SUMPRODUCT($F$26:$F$49,$X$26:$X$49) -> 0.068434559 | J19: =($F$49*$X$49)/SUMPRODUCT($F$26:$F$49,$X$26:$X$49) -> 0.068434559 | K19: =($F$49*$X$49)/SUMPRODUCT($F$26:$F$49,$X$26:$X$49) -> 0.068434559 | L19: =($F$49*$X$49)/SUMPRODUCT($F$26:$F$49,$X$26:$X$49) -> 0.068434559 | M19: =($F$49*$X$49)/SUMPRODUCT($F$26:$F$49,$X$26:$X$49) -> 0.068434559 | N19: =($F$49*$X$49)/SUMPRODUCT($F$26:$F$49,$X$26:$X$49) -> 0.068434559 | O19: =($F$49*$X$49)/SUMPRODUCT($F$26:$F$49,$X$26:$X$49) -> 0.068434559 | ... Y19: =($F$49*$X$49)/SUMPRODUCT($F$26:$F$49,$X$26:$X$49) -> 0.068434559
A20: 19 | B20: =($F$49*$Y$49)/SUMPRODUCT($F$26:$F$49,$Y$26:$Y$49) -> 0.068551842 | C20: =($F$26*$Y$26)/SUMPRODUCT($F$26:$F$49,$Y$26:$Y$49) -> 0.18851757 | D20: =($F$27*$Y$27)/SUMPRODUCT($F$26:$F$49,$Y$26:$Y$49) -> 0.17823479 | E20: =($F$28*$Y$28)/SUMPRODUCT($F$26:$F$49,$Y$26:$Y$49) -> 0.15766924 | F20: =($F$29*$Y$29)/SUMPRODUCT($F$26:$F$49,$Y$26:$Y$49) -> 0.16795201 | G20: =($F$30*$Y$30)/SUMPRODUCT($F$26:$F$49,$Y$26:$Y$49) -> 0.023136247 | H20: =($F$49*$Y$49)/SUMPRODUCT($F$26:$F$49,$Y$26:$Y$49) -> 0.068551842 | I20: =($F$49*$Y$49)/SUMPRODUCT($F$26:$F$49,$Y$26:$Y$49) -> 0.068551842 | J20: =($F$49*$Y$49)/SUMPRODUCT($F$26:$F$49,$Y$26:$Y$49) -> 0.068551842 | K20: =($F$49*$Y$49)/SUMPRODUCT($F$26:$F$49,$Y$26:$Y$49) -> 0.068551842 | L20: =($F$49*$Y$49)/SUMPRODUCT($F$26:$F$49,$Y$26:$Y$49) -> 0.068551842 | M20: =($F$49*$Y$49)/SUMPRODUCT($F$26:$F$49,$Y$26:$Y$49) -> 0.068551842 | N20: =($F$49*$Y$49)/SUMPRODUCT($F$26:$F$49,$Y$26:$Y$49) -> 0.068551842 | O20: =($F$49*$Y$49)/SUMPRODUCT($F$26:$F$49,$Y$26:$Y$49) -> 0.068551842 | ... Y20: =($F$49*$Y$49)/SUMPRODUCT($F$26:$F$49,$Y$26:$Y$49) -> 0.068551842
A21: 20 | B21: =($F$49*$Z$49)/SUMPRODUCT($F$26:$F$49,$Z$26:$Z$49) -> 0.068551842 | C21: =($F$26*$Z$26)/SUMPRODUCT($F$26:$F$49,$Z$26:$Z$49) -> 0.18851757 | D21: =($F$27*$Z$27)/SUMPRODUCT($F$26:$F$49,$Z$26:$Z$49) -> 0.17823479 | E21: =($F$28*$Z$28)/SUMPRODUCT($F$26:$F$49,$Z$26:$Z$49) -> 0.15766924 | F21: =($F$29*$Z$29)/SUMPRODUCT($F$26:$F$49,$Z$26:$Z$49) -> 0.16795201 | G21: =($F$30*$Z$30)/SUMPRODUCT($F$26:$F$49,$Z$26:$Z$49) -> 0.015424165 | H21: =($F$49*$Z$49)/SUMPRODUCT($F$26:$F$49,$Z$26:$Z$49) -> 0.068551842 | I21: =($F$49*$Z$49)/SUMPRODUCT($F$26:$F$49,$Z$26:$Z$49) -> 0.068551842 | J21: =($F$49*$Z$49)/SUMPRODUCT($F$26:$F$49,$Z$26:$Z$49) -> 0.068551842 | K21: =($F$49*$Z$49)/SUMPRODUCT($F$26:$F$49,$Z$26:$Z$49) -> 0.068551842 | L21: =($F$49*$Z$49)/SUMPRODUCT($F$26:$F$49,$Z$26:$Z$49) -> 0.068551842 | M21: =($F$49*$Z$49)/SUMPRODUCT($F$26:$F$49,$Z$26:$Z$49) -> 0.068551842 | N21: =($F$49*$Z$49)/SUMPRODUCT($F$26:$F$49,$Z$26:$Z$49) -> 0.068551842 | O21: =($F$49*$Z$49)/SUMPRODUCT($F$26:$F$49,$Z$26:$Z$49) -> 0.068551842 | ... Y21: =($F$49*$Z$49)/SUMPRODUCT($F$26:$F$49,$Z$26:$Z$49) -> 0.068551842
B22: =SUM(B2:F2) -> 0.77345538 | C22: =SUM(C2:F2) -> 0.68649886
B23: =SUM(B12:F12) -> 0.76485788 | C23: =SUM(C12:F12) -> 0.69595177
B24: =SUM(B3:F3) -> 0.81352834 | C24: =SUM(C3:F3) -> 0.74954296
B25: =SUM(B13:F13) -> 0.76092545 | C25: =SUM(C13:F13) -> 0.69237361 | F25: 权重 | G25: 1 | H25: 2 | I25: 3 | J25: 4 | K25: 5 | L25: 6 | M25: 7 | N25: 8 | O25: 9 | P25: 10 | Q25: 11 | R25: 12 | S25: 13 | T25: 14 | U25: 15 | V25: 16 | W25: 17 | X25: 18 | Y25: 19 | Z25: 20
A26: 1 | B26: 枪 | C26: 1 | E26: 枪 | F26: 1 | G26: 160 | H26: 220 | I26: 220 | J26: 220 | K26: 220 | L26: 220 | M26: 220 | N26: 220 | O26: 220 | P26: 220 | Q26: 220 | R26: 220 | S26: 220 | T26: 220 | U26: 220 | V26: 220 | W26: 220 | X26: 220 | Y26: 220 | Z26: 220
A27: 2 | B27: 棍 | C27: 1 | E27: 棍 | F27: 1 | G27: 145 | H27: 210 | I27: 208 | J27: 208 | K27: 208 | L27: 208 | M27: 208 | N27: 208 | O27: 208 | P27: 208 | Q27: 208 | R27: 208 | S27: 208 | T27: 208 | U27: 208 | V27: 208 | W27: 208 | X27: 208 | Y27: 208 | Z27: 208
A28: 3 | B28: 弓 | C28: 1 | E28: 弓 | F28: 1 | G28: 140 | H28: 190 | I28: 184 | J28: 184 | K28: 184 | L28: 184 | M28: 184 | N28: 184 | O28: 184 | P28: 184 | Q28: 184 | R28: 184 | S28: 184 | T28: 184 | U28: 184 | V28: 184 | W28: 184 | X28: 184 | Y28: 184 | Z28: 184
A29: 4 | B29: 营 | C29: 1 | E29: 营 | F29: 1 | G29: 155 | H29: 200 | I29: 196 | J29: 196 | K29: 196 | L29: 196 | M29: 196 | N29: 196 | O29: 196 | P29: 196 | Q29: 196 | R29: 196 | S29: 196 | T29: 196 | U29: 196 | V29: 196 | W29: 196 | X29: 196 | Y29: 196 | Z29: 196
A30: 11 | B30: 悟 | C30: 2 | E30: 悟 | F30: 9 | G30: 2 | H30: 1 | I30: 2 | J30: 2 | K30: 1 | L30: 2 | M30: 1 | N30: 2 | O30: 2 | P30: 1 | Q30: =G30+1 -> 3 | R30: =H30+1 -> 2 | S30: =I30+1 -> 3 | T30: =J30+1 -> 3 | U30: =K30+1 -> 2 | V30: =L30+1 -> 3 | W30: =M30+1 -> 2 | X30: =N30+1 -> 3 | ... Z30: =P30+1 -> 2
A31: 12 | B31: 空 | C31: 2 | E31: 空 | F31: 8 | G31: 1 | H31: 2 | I31: 1 | J31: 1 | K31: 1 | L31: 1 | M31: 2 | N31: 1 | O31: 1 | P31: 1 | Q31: =G31+1 -> 2 | R31: =H31+1 -> 3 | S31: =I31+1 -> 2 | T31: =J31+1 -> 2 | U31: =K31+1 -> 2 | V31: =L31+1 -> 2 | W31: =M31+1 -> 3 | X31: =N31+1 -> 2 | ... Z31: =P31+1 -> 2
A32: 13 | B32: 能 | C32: 2 | E32: 能 | F32: 8 | G32: 1 | H32: 1 | I32: 1 | J32: 1 | K32: 1 | L32: 1 | M32: 1 | N32: 1 | O32: 1 | P32: 1 | Q32: =G32 -> 1 | R32: =H32 -> 1 | S32: =I32 -> 1 | T32: =J32 -> 1 | U32: =K32 -> 1 | V32: =L32 -> 1 | W32: =M32 -> 1 | X32: =N32 -> 1 | ... Z32: =P32 -> 1
A33: 14 | B33: 净 | C33: 2 | E33: 净 | F33: 8 | G33: 1 | H33: 1 | I33: 1 | J33: 1 | K33: 1 | L33: 1 | M33: 1 | N33: 1 | O33: 1 | P33: 1 | Q33: =G33 -> 1 | R33: =H33 -> 1 | S33: =I33 -> 1 | T33: =J33 -> 1 | U33: =K33 -> 1 | V33: =L33 -> 1 | W33: =M33 -> 1 | X33: =N33 -> 1 | ... Z33: =P33 -> 1
A34: 15 | B34: 哪 | C34: 2 | E34: 哪 | F34: 8 | G34: 2 | H34: 2 | I34: 1 | J34: 2 | K34: 2 | L34: 2 | M34: 2 | N34: 1 | O34: 2 | P34: 2 | Q34: =G34+1 -> 3 | R34: =H34+1 -> 3 | S34: =I34+1 -> 2 | T34: =J34+1 -> 3 | U34: =K34+1 -> 3 | V34: =L34+1 -> 3 | W34: =M34+1 -> 3 | X34: =N34+1 -> 2 | ... Z34: =P34+1 -> 3
A35: 16 | B35: 金 | C35: 2 | E35: 金 | F35: 8 | G35: 1 | H35: 1 | I35: 1 | J35: 1 | K35: 1 | L35: 1 | M35: 1 | N35: 1 | O35: 1 | P35: 1 | Q35: =G35 -> 1 | R35: =H35 -> 1 | S35: =I35 -> 1 | T35: =J35 -> 1 | U35: =K35 -> 1 | V35: =L35 -> 1 | W35: =M35 -> 1 | X35: =N35 -> 1 | ... Z35: =P35 -> 1
A36: 17 | B36: 木 | C36: 2 | E36: 木 | F36: 8 | G36: 1 | H36: 1 | I36: 1 | J36: 1 | K36: 1 | L36: 1 | M36: 1 | N36: 1 | O36: 1 | P36: 1 | Q36: =G36 -> 1 | R36: =H36 -> 1 | S36: =I36 -> 1 | T36: =J36 -> 1 | U36: =K36 -> 1 | V36: =L36 -> 1 | W36: =M36 -> 1 | X36: =N36 -> 1 | ... Z36: =P36 -> 1
A37: 18 | B37: 吒 | C37: 2 | E37: 吒 | F37: 9 | G37: 2 | H37: 2 | I37: 2 | J37: 1 | K37: 1 | L37: 1 | M37: 2 | N37: 2 | O37: 1 | P37: 1 | Q37: =G37+1 -> 3 | R37: =H37+1 -> 3 | S37: =I37+1 -> 3 | T37: =J37+1 -> 2 | U37: =K37+1 -> 2 | V37: =L37+1 -> 2 | W37: =M37+1 -> 3 | X37: =N37+1 -> 3 | ... Z37: =P37+1 -> 2
A38: 19 | B38: 杨 | C38: 2 | E38: 杨 | F38: 8 | G38: 2 | H38: 1 | I38: 1 | J38: 2 | K38: 1 | L38: 2 | M38: 1 | N38: 1 | O38: 2 | P38: 1 | Q38: =G38 -> 2 | R38: =H38 -> 1 | S38: =I38 -> 1 | T38: =J38 -> 2 | U38: =K38 -> 1 | V38: =L38 -> 2 | W38: =M38 -> 1 | X38: =N38 -> 1 | ... Z38: =P38 -> 1
A39: 20 | B39: 戬 | C39: 2 | E39: 戬 | F39: 8 | G39: 1 | H39: 1 | I39: 1 | J39: 1 | K39: 2 | L39: 1 | M39: 1 | N39: 1 | O39: 1 | P39: 2 | Q39: =G39+1 -> 2 | R39: =H39+1 -> 2 | S39: =I39+1 -> 2 | T39: =J39+1 -> 2 | U39: =K39+1 -> 3 | V39: =L39+1 -> 2 | W39: =M39+1 -> 2 | X39: =N39+1 -> 2 | ... Z39: =P39+1 -> 3
A40: 21 | B40: 王 | C40: 2 | E40: 王 | F40: 9 | G40: 2 | H40: 1 | I40: 2 | J40: 1 | K40: 2 | L40: 2 | M40: 1 | N40: 2 | O40: 1 | P40: 2 | Q40: =G40+1 -> 3 | R40: =H40+1 -> 2 | S40: =I40+1 -> 3 | T40: =J40+1 -> 2 | U40: =K40+1 -> 3 | V40: =L40+1 -> 3 | W40: =M40+1 -> 2 | X40: =N40+1 -> 3 | ... Z40: =P40+1 -> 3
...

Sheet 怪物配置
A1: 花果山
A2: 1 | B2: 101 | C2: 10 | D2: 1.6 | E2: =_xlfn.TEXTJOIN(",",TRUE,A2:D2) -> 1,101,10,1.6 | G2: 配置
A3: 2 | B3: =B2 -> 101 | C3: 11 | D3: =D2 -> 1.6 | E3: =_xlfn.TEXTJOIN(",",TRUE,A3:D3) -> 2,101,11,1.6 | F3: 1 | G3: =_xlfn.TEXTJOIN("|",TRUE,E2:E26) -> 1,101,10,1.6|2,101,11,1.6|3,101,12,1.6|4,101,13,1.6|5,101,15,1.6|6,101,16,1.6|7,101,18,1.6|8,101,19,1.6|9,101,21,1.6|10,101,24,1.6|11,101,26,1.6|12,101,29,1.6|13,101,30,1.6|14,101,35,1.6|15,101,38,1.6|16,101,42,1.6|17,101,45,1.6|18,101,50,1.6|19,101,50,1.6|20,101,50,1.6|21,101,50,1.6|22,101,50,1.6|23,101,50,1.6|24,101,50,1.6|25,101,50,1.6
A4: 3 | B4: =B3 -> 101 | C4: 12 | D4: =D3 -> 1.6 | E4: =_xlfn.TEXTJOIN(",",TRUE,A4:D4) -> 3,101,12,1.6 | F4: 2 | G4: =_xlfn.TEXTJOIN("|",TRUE,E29:E53) -> 1,201,10,1.6|2,201,11,1.6|3,201,12,1.6|4,201,13,1.6|5,201,15,1.6|6,201,16,1.6|7,201,18,1.6|8,201,19,1.6|9,201,21,1.6|10,201,24,1.6|11,201,26,1.6|12,201,29,1.6|13,201,30,1.6|14,201,35,1.6|15,201,38,1.6|16,201,42,1.6|17,201,45,1.6|18,201,50,1.6|19,201,50,1.6|20,201,50,1.6|21,201,50,1.6|22,201,50,1.6|23,201,50,1.6|24,201,50,1.6|25,201,50,1.6
A5: 4 | B5: =B4 -> 101 | C5: 13 | D5: =D4 -> 1.6 | E5: =_xlfn.TEXTJOIN(",",TRUE,A5:D5) -> 4,101,13,1.6 | F5: 3 | G5: =_xlfn.TEXTJOIN("|",TRUE,E56:E80) -> 1,301,10,1.6|2,301,11,1.6|3,301,12,1.6|4,301,13,1.6|5,301,15,1.6|6,301,16,1.6|7,301,18,1.6|8,301,19,1.6|9,301,21,1.6|10,301,24,1.6|11,301,26,1.6|12,301,29,1.6|13,301,30,1.6|14,301,35,1.6|15,301,38,1.6|16,301,42,1.6|17,301,45,1.6|18,301,50,1.6|19,301,50,1.6|20,301,50,1.6|21,301,50,1.6|22,301,50,1.6|23,301,50,1.6|24,301,50,1.6|25,301,50,1.6
A6: 5 | B6: =B5 -> 101 | C6: 15 | D6: =D5 -> 1.6 | E6: =_xlfn.TEXTJOIN(",",TRUE,A6:D6) -> 5,101,15,1.6 | F6: 4 | G6: =_xlfn.TEXTJOIN("|",TRUE,E83:E107) -> 1,401,10,1.6|2,401,11,1.6|3,401,12,1.6|4,401,13,1.6|5,401,15,1.6|6,401,16,1.6|7,401,18,1.6|8,401,19,1.6|9,401,21,1.6|10,401,24,1.6|11,401,26,1.6|12,401,29,1.6|13,401,30,1.6|14,401,35,1.6|15,401,38,1.6|16,401,42,1.6|17,401,45,1.6|18,401,50,1.6|19,401,50,1.6|20,401,50,1.6|21,401,50,1.6|22,401,50,1.6|23,401,50,1.6|24,401,50,1.6|25,401,50,1.6
A7: 6 | B7: =B6 -> 101 | C7: 16 | D7: =D6 -> 1.6 | E7: =_xlfn.TEXTJOIN(",",TRUE,A7:D7) -> 6,101,16,1.6 | F7: 5 | G7: =_xlfn.TEXTJOIN("|",TRUE,E110:E134) -> 1,501,10,1.6|2,501,11,1.6|3,501,12,1.6|4,501,13,1.6|5,501,15,1.6|6,501,16,1.6|7,501,18,1.6|8,501,19,1.6|9,501,21,1.6|10,501,24,1.6|11,501,26,1.6|12,501,29,1.6|13,501,30,1.6|14,501,35,1.6|15,501,38,1.6|16,501,42,1.6|17,501,45,1.6|18,501,50,1.6|19,501,50,1.6|20,501,50,1.6|21,501,50,1.6|22,501,50,1.6|23,501,50,1.6|24,501,50,1.6|25,501,50,1.6
A8: 7 | B8: =B7 -> 101 | C8: 18 | D8: =D7 -> 1.6 | E8: =_xlfn.TEXTJOIN(",",TRUE,A8:D8) -> 7,101,18,1.6 | F8: 6 | G8: =_xlfn.TEXTJOIN("|",TRUE,E137:E161) -> 1,601,10,1.6|2,601,11,1.6|3,601,12,1.6|4,601,13,1.6|5,601,15,1.6|6,601,16,1.6|7,601,18,1.6|8,601,19,1.6|9,601,21,1.6|10,601,24,1.6|11,601,26,1.6|12,601,29,1.6|13,601,30,1.6|14,601,35,1.6|15,601,38,1.6|16,601,42,1.6|17,601,45,1.6|18,601,50,1.6|19,601,50,1.6|20,601,50,1.6|21,601,50,1.6|22,601,50,1.6|23,601,50,1.6|24,601,50,1.6|25,601,50,1.6
A9: 8 | B9: =B8 -> 101 | C9: 19 | D9: =D8 -> 1.6 | E9: =_xlfn.TEXTJOIN(",",TRUE,A9:D9) -> 8,101,19,1.6 | F9: 7 | G9: =_xlfn.TEXTJOIN("|",TRUE,E164:E188) -> 1,701,10,1.6|2,701,11,1.6|3,701,12,1.6|4,701,13,1.6|5,701,15,1.6|6,701,16,1.6|7,701,18,1.6|8,701,19,1.6|9,701,21,1.6|10,701,24,1.6|11,701,26,1.6|12,701,29,1.6|13,701,30,1.6|14,701,35,1.6|15,701,38,1.6|16,701,42,1.6|17,701,45,1.6|18,701,50,1.6|19,701,50,1.6|20,701,50,1.6|21,701,50,1.6|22,701,50,1.6|23,701,50,1.6|24,701,50,1.6|25,701,50,1.6
A10: 9 | B10: =B9 -> 101 | C10: 21 | D10: =D9 -> 1.6 | E10: =_xlfn.TEXTJOIN(",",TRUE,A10:D10) -> 9,101,21,1.6
A11: 10 | B11: =B10 -> 101 | C11: 24 | D11: =D10 -> 1.6 | E11: =_xlfn.TEXTJOIN(",",TRUE,A11:D11) -> 10,101,24,1.6
A12: 11 | B12: =B11 -> 101 | C12: 26 | D12: =D11 -> 1.6 | E12: =_xlfn.TEXTJOIN(",",TRUE,A12:D12) -> 11,101,26,1.6
A13: 12 | B13: =B12 -> 101 | C13: 29 | D13: =D12 -> 1.6 | E13: =_xlfn.TEXTJOIN(",",TRUE,A13:D13) -> 12,101,29,1.6
A14: 13 | B14: =B13 -> 101 | C14: 30 | D14: =D13 -> 1.6 | E14: =_xlfn.TEXTJOIN(",",TRUE,A14:D14) -> 13,101,30,1.6
A15: 14 | B15: =B14 -> 101 | C15: 35 | D15: =D14 -> 1.6 | E15: =_xlfn.TEXTJOIN(",",TRUE,A15:D15) -> 14,101,35,1.6
A16: 15 | B16: =B15 -> 101 | C16: 38 | D16: =D15 -> 1.6 | E16: =_xlfn.TEXTJOIN(",",TRUE,A16:D16) -> 15,101,38,1.6
A17: 16 | B17: =B16 -> 101 | C17: 42 | D17: =D16 -> 1.6 | E17: =_xlfn.TEXTJOIN(",",TRUE,A17:D17) -> 16,101,42,1.6
A18: 17 | B18: =B17 -> 101 | C18: 45 | D18: =D17 -> 1.6 | E18: =_xlfn.TEXTJOIN(",",TRUE,A18:D18) -> 17,101,45,1.6
A19: 18 | B19: =B18 -> 101 | C19: 50 | D19: =D18 -> 1.6 | E19: =_xlfn.TEXTJOIN(",",TRUE,A19:D19) -> 18,101,50,1.6
A20: 19 | B20: =B19 -> 101 | C20: 50 | D20: =D19 -> 1.6 | E20: =_xlfn.TEXTJOIN(",",TRUE,A20:D20) -> 19,101,50,1.6
A21: 20 | B21: =B20 -> 101 | C21: 50 | D21: =D20 -> 1.6 | E21: =_xlfn.TEXTJOIN(",",TRUE,A21:D21) -> 20,101,50,1.6
... A26: 25 | B26: =B25 -> 101 | C26: 50 | D26: =D25 -> 1.6 | E26: =_xlfn.TEXTJOIN(",",TRUE,A26:D26) -> 25,101,50,1.6
C27: =SUM(C2:C21) -> 554
A28: 龙宫
A29: 1 | B29: 201 | C29: =C2 -> 10 | D29: =D2 -> 1.6 | E29: =_xlfn.TEXTJOIN(",",TRUE,A29:D29) -> 1,201,10,1.6
A30: 2 | B30: =B29 -> 201 | C30: =C3 -> 11 | D30: =D3 -> 1.6 | E30: =_xlfn.TEXTJOIN(",",TRUE,A30:D30) -> 2,201,11,1.6
A31: 3 | B31: =B30 -> 201 | C31: =C4 -> 12 | D31: =D4 -> 1.6 | E31: =_xlfn.TEXTJOIN(",",TRUE,A31:D31) -> 3,201,12,1.6
A32: 4 | B32: =B31 -> 201 | C32: =C5 -> 13 | D32: =D5 -> 1.6 | E32: =_xlfn.TEXTJOIN(",",TRUE,A32:D32) -> 4,201,13,1.6
A33: 5 | B33: =B32 -> 201 | C33: =C6 -> 15 | D33: =D6 -> 1.6 | E33: =_xlfn.TEXTJOIN(",",TRUE,A33:D33) -> 5,201,15,1.6
A34: 6 | B34: =B33 -> 201 | C34: =C7 -> 16 | D34: =D7 -> 1.6 | E34: =_xlfn.TEXTJOIN(",",TRUE,A34:D34) -> 6,201,16,1.6
A35: 7 | B35: =B34 -> 201 | C35: =C8 -> 18 | D35: =D8 -> 1.6 | E35: =_xlfn.TEXTJOIN(",",TRUE,A35:D35) -> 7,201,18,1.6
A36: 8 | B36: =B35 -> 201 | C36: =C9 -> 19 | D36: =D9 -> 1.6 | E36: =_xlfn.TEXTJOIN(",",TRUE,A36:D36) -> 8,201,19,1.6
A37: 9 | B37: =B36 -> 201 | C37: =C10 -> 21 | D37: =D10 -> 1.6 | E37: =_xlfn.TEXTJOIN(",",TRUE,A37:D37) -> 9,201,21,1.6
A38: 10 | B38: =B37 -> 201 | C38: =C11 -> 24 | D38: =D11 -> 1.6 | E38: =_xlfn.TEXTJOIN(",",TRUE,A38:D38) -> 10,201,24,1.6
A39: 11 | B39: =B38 -> 201 | C39: =C12 -> 26 | D39: =D12 -> 1.6 | E39: =_xlfn.TEXTJOIN(",",TRUE,A39:D39) -> 11,201,26,1.6
A40: 12 | B40: =B39 -> 201 | C40: =C13 -> 29 | D40: =D13 -> 1.6 | E40: =_xlfn.TEXTJOIN(",",TRUE,A40:D40) -> 12,201,29,1.6
A41: 13 | B41: =B40 -> 201 | C41: =C14 -> 30 | D41: =D14 -> 1.6 | E41: =_xlfn.TEXTJOIN(",",TRUE,A41:D41) -> 13,201,30,1.6
... A53: 25 | B53: =B52 -> 201 | C53: =C26 -> 50 | D53: =D26 -> 1.6 | E53: =_xlfn.TEXTJOIN(",",TRUE,A53:D53) -> 25,201,50,1.6
A55: 地府
A56: 1 | B56: 301 | C56: =C29 -> 10 | D56: =D29 -> 1.6 | E56: =_xlfn.TEXTJOIN(",",TRUE,A56:D56) -> 1,301,10,1.6
...

Sheet 怪物难度
A1: 波次 | B1: 0 | C1: 1 | D1: 2 | E1: 3 | F1: 4 | G1: 5 | H1: 6 | I1: 7 | J1: 8 | K1: 9 | L1: 10 | M1: 11 | N1: 12
A2: 1 | B2: =AJ32 -> 9 | C2: =ROUND($B$2*($O$2^C1),0) -> 9 | D2: =ROUND($B$2*($O$2^D1),0) -> 9 | E2: =ROUND($B$2*($O$2^E1),0) -> 9 | F2: =ROUND($B$2*($O$2^F1),0) -> 9 | G2: =ROUND($B$2*($O$2^G1),0) -> 9 | H2: =ROUND($B$2*($O$2^H1),0) -> 9 | I2: =ROUND($B$2*($O$2^I1),0) -> 9 | J2: =ROUND($B$2*($O$2^J1),0) -> 9 | ... M2: =ROUND($B$2*($O$2^M1),0) -> 9 | N2: =AJ120 -> 9 | O2: 1
A3: 2 | B3: =AJ33 -> 22 | C3: =ROUND($B$3*($O$3^C1),0) -> 22 | D3: =ROUND($B$3*($O$3^D1),0) -> 22 | E3: =ROUND($B$3*($O$3^E1),0) -> 23 | F3: =ROUND($B$3*($O$3^F1),0) -> 23 | G3: =ROUND($B$3*($O$3^G1),0) -> 23 | H3: =ROUND($B$3*($O$3^H1),0) -> 23 | I3: =ROUND($B$3*($O$3^I1),0) -> 24 | J3: =ROUND($B$3*($O$3^J1),0) -> 24 | ... M3: =ROUND($B$3*($O$3^M1),0) -> 25 | N3: =AJ121 -> 22 | O3: 1.01
A4: 3 | B4: =AJ34 -> 36 | C4: =ROUND($B$4*($O$4^C1),0) -> 36 | D4: =ROUND($B$4*($O$4^D1),0) -> 37 | E4: =ROUND($B$4*($O$4^E1),0) -> 37 | F4: =ROUND($B$4*($O$4^F1),0) -> 37 | G4: =ROUND($B$4*($O$4^G1),0) -> 38 | H4: =ROUND($B$4*($O$4^H1),0) -> 38 | I4: =ROUND($B$4*($O$4^I1),0) -> 39 | J4: =ROUND($B$4*($O$4^J1),0) -> 39 | ... M4: =ROUND($B$4*($O$4^M1),0) -> 40 | N4: =AJ122 -> 36 | O4: 1.01
A5: 4 | B5: =AJ35 -> 52 | C5: =ROUND($B$5*($O$5^C1),0) -> 53 | D5: =ROUND($B$5*($O$5^D1),0) -> 53 | E5: =ROUND($B$5*($O$5^E1),0) -> 54 | F5: =ROUND($B$5*($O$5^F1),0) -> 54 | G5: =ROUND($B$5*($O$5^G1),0) -> 55 | H5: =ROUND($B$5*($O$5^H1),0) -> 55 | I5: =ROUND($B$5*($O$5^I1),0) -> 56 | J5: =ROUND($B$5*($O$5^J1),0) -> 56 | ... M5: =ROUND($B$5*($O$5^M1),0) -> 58 | N5: =AJ123 -> 52 | O5: 1.01
A6: 5 | B6: =AJ36 -> 99 | C6: =ROUND($B$6*($O$6^C1),0) -> 100 | D6: =ROUND($B$6*($O$6^D1),0) -> 101 | E6: =ROUND($B$6*($O$6^E1),0) -> 102 | F6: =ROUND($B$6*($O$6^F1),0) -> 103 | G6: =ROUND($B$6*($O$6^G1),0) -> 104 | H6: =ROUND($B$6*($O$6^H1),0) -> 105 | I6: =ROUND($B$6*($O$6^I1),0) -> 106 | J6: =ROUND($B$6*($O$6^J1),0) -> 107 | ... M6: =ROUND($B$6*($O$6^M1),0) -> 110 | N6: =AJ124 -> 99 | O6: 1.01
A7: 6 | B7: =AJ37 -> 128 | C7: =ROUND($B$7*($O$7^C1),0) -> 129 | D7: =ROUND($B$7*($O$7^D1),0) -> 131 | E7: =ROUND($B$7*($O$7^E1),0) -> 132 | F7: =ROUND($B$7*($O$7^F1),0) -> 133 | G7: =ROUND($B$7*($O$7^G1),0) -> 135 | H7: =ROUND($B$7*($O$7^H1),0) -> 136 | I7: =ROUND($B$7*($O$7^I1),0) -> 137 | J7: =ROUND($B$7*($O$7^J1),0) -> 139 | ... M7: =ROUND($B$7*($O$7^M1),0) -> 143 | N7: =AJ125 -> 137 | O7: 1.01
A8: 7 | B8: =AJ38 -> 168 | C8: =ROUND($B$8*($O$8^C1),0) -> 170 | D8: =ROUND($B$8*($O$8^D1),0) -> 171 | E8: =ROUND($B$8*($O$8^E1),0) -> 173 | F8: =ROUND($B$8*($O$8^F1),0) -> 175 | G8: =ROUND($B$8*($O$8^G1),0) -> 177 | H8: =ROUND($B$8*($O$8^H1),0) -> 178 | I8: =ROUND($B$8*($O$8^I1),0) -> 180 | J8: =ROUND($B$8*($O$8^J1),0) -> 182 | ... M8: =ROUND($B$8*($O$8^M1),0) -> 187 | N8: =AJ126 -> 178 | O8: 1.01
A9: 8 | B9: =AJ39 -> 218 | C9: =ROUND($B$9*($O$9^C1),0) -> 225 | D9: =ROUND($B$9*($O$9^D1),0) -> 231 | E9: =ROUND($B$9*($O$9^E1),0) -> 238 | F9: =ROUND($B$9*($O$9^F1),0) -> 245 | G9: =ROUND($B$9*($O$9^G1),0) -> 253 | H9: =ROUND($B$9*($O$9^H1),0) -> 260 | I9: =ROUND($B$9*($O$9^I1),0) -> 268 | J9: =ROUND($B$9*($O$9^J1),0) -> 276 | ... M9: =ROUND($B$9*($O$9^M1),0) -> 302 | N9: =AJ127 -> 344 | O9: 1.03
A10: 9 | B10: =AJ40 -> 267 | C10: =ROUND($B$10*($O$10^C1),0) -> 275 | D10: =ROUND($B$10*($O$10^D1),0) -> 283 | E10: =ROUND($B$10*($O$10^E1),0) -> 292 | F10: =ROUND($B$10*($O$10^F1),0) -> 301 | G10: =ROUND($B$10*($O$10^G1),0) -> 310 | H10: =ROUND($B$10*($O$10^H1),0) -> 319 | I10: =ROUND($B$10*($O$10^I1),0) -> 328 | J10: =ROUND($B$10*($O$10^J1),0) -> 338 | ... M10: =ROUND($B$10*($O$10^M1),0) -> 370 | N10: =AJ128 -> 409 | O10: 1.03
A11: 10 | B11: =AJ41 -> 389 | C11: =ROUND($B$11*($O$11^C1),0) -> 393 | D11: =ROUND($B$11*($O$11^D1),0) -> 397 | E11: =ROUND($B$11*($O$11^E1),0) -> 401 | F11: =ROUND($B$11*($O$11^F1),0) -> 405 | G11: =ROUND($B$11*($O$11^G1),0) -> 409 | H11: =ROUND($B$11*($O$11^H1),0) -> 413 | I11: =ROUND($B$11*($O$11^I1),0) -> 417 | J11: =ROUND($B$11*($O$11^J1),0) -> 421 | ... M11: =ROUND($B$11*($O$11^M1),0) -> 434 | N11: =AJ129 -> 448 | O11: 1.01
A12: 11 | B12: =AJ42 -> 516 | C12: =ROUND($B$12*($O$12^C1),0) -> 523 | D12: =ROUND($B$12*($O$12^D1),0) -> 530 | E12: =ROUND($B$12*($O$12^E1),0) -> 536 | F12: =ROUND($B$12*($O$12^F1),0) -> 543 | G12: =ROUND($B$12*($O$12^G1),0) -> 550 | H12: =ROUND($B$12*($O$12^H1),0) -> 558 | I12: =ROUND($B$12*($O$12^I1),0) -> 565 | J12: =ROUND($B$12*($O$12^J1),0) -> 572 | ... M12: =ROUND($B$12*($O$12^M1),0) -> 595 | N12: =AJ130 -> 602 | O12: 1.013
A13: 12 | B13: =AJ43 -> 758 | C13: =ROUND($B$13*($O$13^C1),0) -> 777 | D13: =ROUND($B$13*($O$13^D1),0) -> 796 | E13: =ROUND($B$13*($O$13^E1),0) -> 816 | F13: =ROUND($B$13*($O$13^F1),0) -> 837 | G13: =ROUND($B$13*($O$13^G1),0) -> 858 | H13: =ROUND($B$13*($O$13^H1),0) -> 879 | I13: =ROUND($B$13*($O$13^I1),0) -> 901 | J13: =ROUND($B$13*($O$13^J1),0) -> 924 | ... M13: =ROUND($B$13*($O$13^M1),0) -> 995 | N13: =AJ131 -> 1059 | O13: 1.025
A14: 13 | B14: =AJ44 -> 925 | C14: =ROUND($B$14*($O$14^C1),0) -> 948 | D14: =ROUND($B$14*($O$14^D1),0) -> 972 | E14: =ROUND($B$14*($O$14^E1),0) -> 996 | F14: =ROUND($B$14*($O$14^F1),0) -> 1021 | G14: =ROUND($B$14*($O$14^G1),0) -> 1047 | H14: =ROUND($B$14*($O$14^H1),0) -> 1073 | I14: =ROUND($B$14*($O$14^I1),0) -> 1100 | J14: =ROUND($B$14*($O$14^J1),0) -> 1127 | ... M14: =ROUND($B$14*($O$14^M1),0) -> 1214 | N14: =AJ132 -> 1274 | O14: 1.025
A15: 14 | B15: =AJ45 -> 1078 | C15: =ROUND($B$15*($O$15^C1),0) -> 1110 | D15: =ROUND($B$15*($O$15^D1),0) -> 1144 | E15: =ROUND($B$15*($O$15^E1),0) -> 1178 | F15: =ROUND($B$15*($O$15^F1),0) -> 1213 | G15: =ROUND($B$15*($O$15^G1),0) -> 1250 | H15: =ROUND($B$15*($O$15^H1),0) -> 1287 | I15: =ROUND($B$15*($O$15^I1),0) -> 1326 | J15: =ROUND($B$15*($O$15^J1),0) -> 1366 | ... M15: =ROUND($B$15*($O$15^M1),0) -> 1492 | N15: =AJ133 -> 1678 | O15: 1.03
A16: 15 | B16: =AJ46 -> 1787 | C16: =ROUND($B$16*($O$16^C1),0) -> 1841 | D16: =ROUND($B$16*($O$16^D1),0) -> 1896 | E16: =ROUND($B$16*($O$16^E1),0) -> 1953 | F16: =ROUND($B$16*($O$16^F1),0) -> 2011 | G16: =ROUND($B$16*($O$16^G1),0) -> 2072 | H16: =ROUND($B$16*($O$16^H1),0) -> 2134 | I16: =ROUND($B$16*($O$16^I1),0) -> 2198 | J16: =ROUND($B$16*($O$16^J1),0) -> 2264 | ... M16: =ROUND($B$16*($O$16^M1),0) -> 2474 | N16: =AJ134 -> 2396 | O16: 1.03
A17: 16 | B17: =AJ47 -> 1782 | C17: =ROUND($B$17*($O$17^C1),0) -> 1835 | D17: =ROUND($B$17*($O$17^D1),0) -> 1891 | E17: =ROUND($B$17*($O$17^E1),0) -> 1947 | F17: =ROUND($B$17*($O$17^F1),0) -> 2006 | G17: =ROUND($B$17*($O$17^G1),0) -> 2066 | H17: =ROUND($B$17*($O$17^H1),0) -> 2128 | I17: =ROUND($B$17*($O$17^I1),0) -> 2192 | J17: =ROUND($B$17*($O$17^J1),0) -> 2257 | ... M17: =ROUND($B$17*($O$17^M1),0) -> 2467 | N17: =AJ135 -> 2694 | O17: 1.03
A18: 17 | B18: =AJ48 -> 2245 | C18: =ROUND($B$18*($O$18^C1),0) -> 2312 | D18: =ROUND($B$18*($O$18^D1),0) -> 2382 | E18: =ROUND($B$18*($O$18^E1),0) -> 2453 | F18: =ROUND($B$18*($O$18^F1),0) -> 2527 | G18: =ROUND($B$18*($O$18^G1),0) -> 2603 | H18: =ROUND($B$18*($O$18^H1),0) -> 2681 | I18: =ROUND($B$18*($O$18^I1),0) -> 2761 | J18: =ROUND($B$18*($O$18^J1),0) -> 2844 | ... M18: =ROUND($B$18*($O$18^M1),0) -> 3108 | N18: =AJ136 -> 3367 | O18: 1.03
A19: 18 | B19: =AJ49 -> 3165 | C19: =ROUND($B$19*($O$19^C1),0) -> 3260 | D19: =ROUND($B$19*($O$19^D1),0) -> 3358 | E19: =ROUND($B$19*($O$19^E1),0) -> 3458 | F19: =ROUND($B$19*($O$19^F1),0) -> 3562 | G19: =ROUND($B$19*($O$19^G1),0) -> 3669 | H19: =ROUND($B$19*($O$19^H1),0) -> 3779 | I19: =ROUND($B$19*($O$19^I1),0) -> 3893 | J19: =ROUND($B$19*($O$19^J1),0) -> 4009 | ... M19: =ROUND($B$19*($O$19^M1),0) -> 4381 | N19: =AJ137 -> 4607 | O19: 1.03
A20: 19 | B20: =AJ50 -> 3965 | C20: =ROUND($B$20*($O$20^C1),0) -> 4108 | D20: =ROUND($B$20*($O$20^D1),0) -> 4256 | E20: =ROUND($B$20*($O$20^E1),0) -> 4409 | F20: =ROUND($B$20*($O$20^F1),0) -> 4568 | G20: =ROUND($B$20*($O$20^G1),0) -> 4732 | H20: =ROUND($B$20*($O$20^H1),0) -> 4902 | I20: =ROUND($B$20*($O$20^I1),0) -> 5079 | J20: =ROUND($B$20*($O$20^J1),0) -> 5262 | ... M20: =ROUND($B$20*($O$20^M1),0) -> 5851 | N20: =AJ138 -> 6208 | O20: 1.036
A21: 20 | B21: =AJ51 -> 5089 | C21: =ROUND($B$21*($O$21^C1),0) -> 5216 | D21: =ROUND($B$21*($O$21^D1),0) -> 5347 | E21: =ROUND($B$21*($O$21^E1),0) -> 5480 | F21: =ROUND($B$21*($O$21^F1),0) -> 5617 | G21: =ROUND($B$21*($O$21^G1),0) -> 5758 | H21: =ROUND($B$21*($O$21^H1),0) -> 5902 | I21: =ROUND($B$21*($O$21^I1),0) -> 6049 | J21: =ROUND($B$21*($O$21^J1),0) -> 6200 | ... M21: =ROUND($B$21*($O$21^M1),0) -> 6677 | N21: =AJ139 -> 6851 | O21: 1.025
A22: 21 | B22: =AJ52 -> 6331 | C22: =ROUND($B$22*($O$22^C1),0) -> 6489 | D22: =ROUND($B$22*($O$22^D1),0) -> 6652 | E22: =ROUND($B$22*($O$22^E1),0) -> 6818 | F22: =ROUND($B$22*($O$22^F1),0) -> 6988 | G22: =ROUND($B$22*($O$22^G1),0) -> 7163 | H22: =ROUND($B$22*($O$22^H1),0) -> 7342 | I22: =ROUND($B$22*($O$22^I1),0) -> 7526 | J22: =ROUND($B$22*($O$22^J1),0) -> 7714 | ... M22: =ROUND($B$22*($O$22^M1),0) -> 8307 | N22: =AJ140 -> 8662 | O22: 1.025
A23: 22 | B23: =AJ53 -> 8969 | C23: =ROUND($B$23*($O$23^C1),0) -> 9148 | D23: =ROUND($B$23*($O$23^D1),0) -> 9331 | E23: =ROUND($B$23*($O$23^E1),0) -> 9518 | F23: =ROUND($B$23*($O$23^F1),0) -> 9708 | G23: =ROUND($B$23*($O$23^G1),0) -> 9903 | H23: =ROUND($B$23*($O$23^H1),0) -> 10101 | I23: =ROUND($B$23*($O$23^I1),0) -> 10303 | J23: =ROUND($B$23*($O$23^J1),0) -> 10509 | ... M23: =ROUND($B$23*($O$23^M1),0) -> 11152 | N23: =AJ141 -> 11507 | O23: 1.02
A24: 23 | B24: =AJ54 -> 12768 | C24: =ROUND($B$24*($O$24^C1),0) -> 13023 | D24: =ROUND($B$24*($O$24^D1),0) -> 13284 | E24: =ROUND($B$24*($O$24^E1),0) -> 13550 | F24: =ROUND($B$24*($O$24^F1),0) -> 13820 | G24: =ROUND($B$24*($O$24^G1),0) -> 14097 | H24: =ROUND($B$24*($O$24^H1),0) -> 14379 | I24: =ROUND($B$24*($O$24^I1),0) -> 14666 | J24: =ROUND($B$24*($O$24^J1),0) -> 14960 | ... M24: =ROUND($B$24*($O$24^M1),0) -> 15875 | N24: =AJ142 -> 16427 | O24: 1.02
