Workbook

Sheet 角色
A1: 角色 | B1: 表格已配置，数字自身技能已实现基础逻辑，表现需要等资源再过一轮,宝石技能中有一部分是之前的功能，技能表中标红的是需要新实现的功能
B2: 金系 | C2: 技能 | D2: 武器 | E2: 数字自身技能 | F2: 宝石技能1 | G2: 宝石技能2 | H2: 宝石技能3
A3: 1 | B3: 1级 | C3: 1 | D3: 刀剑 | E3: 劈砍 | F3: 直线剑气 | G3: 剑阵 | H3: 自动发射飞剑攻击 | N3: 100001
A4: 2 | B4: 2级 | C4: 1 | D4: 刀剑 | N4: 100002
A5: 4 | B5: 3级 | C5: 1 | D5: 刀剑 | N5: 100003
A6: 8 | B6: 4级 | C6: 2 | D6: 刀剑 | E6: 扇形攻击 | N6: 100004
A7: 16 | B7: 5级 | C7: 2 | D7: 刀剑 | N7: 100005
A8: 32 | B8: 6级 | C8: 2 | D8: 刀剑
A9: 64 | B9: 7级 | C9: 3 | D9: 刀剑 | E9: 扇形二连击
A10: 128 | B10: 8级 | C10: 3 | D10: 刀剑
A11: 256 | B11: 9级 | C11: 3 | D11: 刀剑
A12: 512 | B12: 10级 | C12: 4 | D12: 刀剑 | E12: 连击带击退
A13: 1024 | B13: 11级 | C13: 4 | D13: 刀剑
A14: 2048 | B14: 12级 | C14: 5 | D14: 刀剑 | E14: 扇形3连击
A15: 4096 | B15: 13级 | C15: 5 | D15: 刀剑
A16: 8192 | B16: 14级 | C16: 5 | D16: 刀剑
B17: 木系 | C17: 技能
A18: 1 | B18: 1级 | C18: 1 | D18: 棍 | E18: 抡一圈 | F18: 悟空专属技能效果 | G18: 原地旋转大风车 | H18: 丢出旋转的棍子攻击
A19: 2 | B19: 2级 | C19: 1 | D19: 棍
A20: 4 | B20: 3级 | C20: 1 | D20: 棍
A21: 8 | B21: 4级 | C21: 2 | D21: 棍 | E21: 抡2圈
A22: 16 | B22: 5级 | C22: 2 | D22: 棍
A23: 32 | B23: 6级 | C23: 2 | D23: 棍
A24: 64 | B24: 7级 | C24: 3 | D24: 棍 | E24: 概率眩晕
A25: 128 | B25: 8级 | C25: 3 | D25: 棍
A26: 256 | B26: 9级 | C26: 3 | D26: 棍
A27: 512 | B27: 10级 | C27: 4 | D27: 棍 | E27: 携带青龙影子，扩大攻击范围
A28: 1024 | B28: 11级 | C28: 4 | D28: 棍
A29: 2048 | B29: 12级 | C29: 5 | D29: 棍 | E29: 额外飞出龙影攻击
A30: 4096 | B30: 13级 | C30: 5 | D30: 棍
A31: 8192 | B31: 14级 | C31: 5 | D31: 棍
B32: 水系 | C32: 技能
A33: 1 | B33: 1级 | C33: 1 | D33: 法杖 | E33: 水球术 | F33: 暴风雪，范围持续伤害 | G33: 分裂攻击 | H33: 锁定多个目标，发射冰锥，概率冰冻
A34: 2 | B34: 2级 | C34: 1 | D34: 法杖 | F34: 范围减速
A35: 4 | B35: 3级 | C35: 1 | D35: 法杖
A36: 8 | B36: 4级 | C36: 2 | D36: 法杖 | E36: 连发
A37: 16 | B37: 5级 | C37: 2 | D37: 法杖
A38: 32 | B38: 6级 | C38: 2 | D38: 法杖
A39: 64 | B39: 7级 | C39: 3 | D39: 法杖 | E39: 三连发
A40: 128 | B40: 8级 | C40: 3 | D40: 法杖
A41: 256 | B41: 9级 | C41: 3 | D41: 法杖
A42: 512 | B42: 10级 | C42: 4 | D42: 法杖 | E42: 4连发
A43: 1024 | B43: 11级 | C43: 4 | D43: 法杖
A44: 2048 | B44: 12级 | C44: 5 | D44: 法杖 | E44: 5连发
A45: 4096 | B45: 13级 | C45: 5 | D45: 法杖
A46: 8192 | B46: 14级 | C46: 5 | D46: 法杖
B47: 火系 | C47: 技能
A48: 1 | B48: 1级 | C48: 1 | D48: 弓 | E48: 单体直线 | F48: 点燃目标 | G48: 直线火龙 | H48: 漫天箭雨
A49: 2 | B49: 2级 | C49: 1 | D49: 弓
A50: 4 | B50: 3级 | C50: 1 | D50: 弓
A51: 8 | B51: 4级 | C51: 2 | D51: 弓 | E51: 2散射
A52: 16 | B52: 5级 | C52: 2 | D52: 弓
A53: 32 | B53: 6级 | C53: 2 | D53: 弓
A54: 64 | B54: 7级 | C54: 3 | D54: 弓 | E54: 3散射
A55: 128 | B55: 8级 | C55: 3 | D55: 弓
A56: 256 | B56: 9级 | C56: 3 | D56: 弓
A57: 512 | B57: 10级 | C57: 4 | D57: 弓 | E57: 穿透效果
A58: 1024 | B58: 11级 | C58: 4 | D58: 弓
A59: 2048 | B59: 12级 | C59: 5 | D59: 弓 | E59: 5连散射
A60: 4096 | B60: 13级 | C60: 5 | D60: 弓
A61: 8192 | B61: 14级 | C61: 5 | D61: 弓
B62: 土系 | C62: 技能
A63: 1 | B63: 1级 | C63: 1 | D63: 长枪 | E63: 直线戳攻击 | F63: 飞枪冲锋 | G63: 击杀爆炸 | H63: 攻击距离+1，伤害增加
A64: 2 | B64: 2级 | C64: 1 | D64: 长枪
A65: 4 | B65: 3级 | C65: 1 | D65: 长枪
A66: 8 | B66: 4级 | C66: 2 | D66: 长枪 | E66: 2段连击
A67: 16 | B67: 5级 | C67: 2 | D67: 长枪
A68: 32 | B68: 6级 | C68: 2 | D68: 长枪
A69: 64 | B69: 7级 | C69: 3 | D69: 长枪 | E69: 三连击
A70: 128 | B70: 8级 | C70: 3 | D70: 长枪
A71: 256 | B71: 9级 | C71: 3 | D71: 长枪
A72: 512 | B72: 10级 | C72: 4 | D72: 长枪 | E72: 三连击加眩晕效果
A73: 1024 | B73: 11级 | C73: 4 | D73: 长枪
A74: 2048 | B74: 12级 | C74: 5 | D74: 长枪 | E74: 添加一段横扫，并击退
A75: s | B75: 13级 | C75: 5 | D75: 长枪
A76: 8192 | B76: 14级 | C76: 5 | D76: 长枪

Sheet 宝石功能
A1: 宝石
B2: 通用型 | C2: 描述 | E2: 说明：
A3: 攻击1级 | C3: 攻击力增加10% | E3: 1、宝石分为通用类型和属性专属类型，每个类型数字可最多装配4个通用类型宝石，最多1个属性专属宝石
A4: 攻击2级 | C4: 攻击力增加20% | E4: 2、通用类型给数字角色添加属性百分比加成，分别如下
A5: 攻击3级 | C5: 攻击力增加30% | F5: 攻击力加成
A6: 攻击4级 | C6: 攻击力增加40% | F6: 暴击率加成
A7: 攻击5级 | C7: 攻击力增加50% | F7: 暴击伤害加成
A8: 暴击1级 | C8: 暴击率+10% | F8: 攻击速度加成
A9: 暴击2级 | C9: 暴击率+20% | F9: 伤害加成
A10: 暴击3级 | C10: 暴击率+30% | E10: 3、属性类专属宝石，给数字角色添加额外技能，根据宝石不同而不同
A11: 暴击4级 | C11: 暴击率+40% | E11: 4、宝石等级最高5级，和品质一一对应
A12: 暴击5级 | C12: 暴击率+50% | E12: 5、高等级宝石需要用低等级宝石合成，每3个低等级宝石可合成1个高一等级宝石，每种宝石可合成宝石以及对应消耗在之前的武器表中已配置
A13: 爆伤1级 | C13: 暴击伤害+20% | E13: 6、宝石和道具的对应关系，程序自己定就行，直接宝石表格合到道具表也可以
A14: 爆伤2级 | C14: 暴击伤害+40%
A15: 爆伤3级 | C15: 暴击伤害+60%
A16: 爆伤4级 | C16: 暴击伤害+80%
A17: 爆伤5级 | C17: 暴击伤害+100%
A18: 攻速1级 | C18: 攻击速度+10%
A19: 攻速2级 | C19: 攻击速度+20%
A20: 攻速3级 | C20: 攻击速度+30%
A21: 攻速4级 | C21: 攻击速度+40%
A22: 攻速5级 | C22: 攻击速度+50%
B23: 金系
A24: 1级 | B24: 普通
A25: 2级 | B25: 技能1
A26: 2级 | B26: 技能2
A27: 2级 | B27: 技能3
A28: 3级 | B28: 技能1
A29: 3级 | B29: 技能2
A30: 3级 | B30: 技能3
A31: 4级 | B31: 技能1
A32: 4级 | B32: 技能2
A33: 4级 | B33: 技能3
A34: 5级 | B34: 技能1
A35: 5级 | B35: 技能2
A36: 5级 | B36: 技能3
B37: 木系
A38: 1级 | B38: 普通
A39: 2级 | B39: 技能1
A40: 2级 | B40: 技能2
A41: 2级 | B41: 技能3
A42: 3级 | B42: 技能1
A43: 3级 | B43: 技能2
A44: 3级 | B44: 技能3
A45: 4级 | B45: 技能1
A46: 4级 | B46: 技能2
A47: 4级 | B47: 技能3
A48: 5级 | B48: 技能1
A49: 5级 | B49: 技能2
A50: 5级 | B50: 技能3
B51: 水系
A52: 1级 | B52: 普通
A53: 2级 | B53: 技能1
A54: 2级 | B54: 技能2
A55: 2级 | B55: 技能3
A56: 3级 | B56: 技能1
A57: 3级 | B57: 技能2
A58: 3级 | B58: 技能3
A59: 4级 | B59: 技能1
A60: 4级 | B60: 技能2
A61: 4级 | B61: 技能3
A62: 5级 | B62: 技能1
A63: 5级 | B63: 技能2
A64: 5级 | B64: 技能3
B65: 火系
A66: 1级 | B66: 普通
A67: 2级 | B67: 技能1
A68: 2级 | B68: 技能2
A69: 2级 | B69: 技能3
A70: 3级 | B70: 技能1
A71: 3级 | B71: 技能2
A72: 3级 | B72: 技能3
A73: 4级 | B73: 技能1
A74: 4级 | B74: 技能2
A75: 4级 | B75: 技能3
A76: 5级 | B76: 技能1
A77: 5级 | B77: 技能2
A78: 5级 | B78: 技能3
B79: 土系
A80: 1级 | B80: 普通
A81: 2级 | B81: 技能1
A82: 2级 | B82: 技能2
A83: 2级 | B83: 技能3
A84: 3级 | B84: 技能1
A85: 3级 | B85: 技能2
A86: 3级 | B86: 技能3
A87: 4级 | B87: 技能1
A88: 4级 | B88: 技能2
A89: 4级 | B89: 技能3
A90: 5级 | B90: 技能1
A91: 5级 | B91: 技能2
A92: 5级 | B92: 技能3

Sheet 地图及需求
A1: 序号 | B1: 说明 | C1: 小怪 | D1: BOSS | E1: BOSS技能
A2: 金系地图 | B2: 掉落通用宝石和金系专属宝石 | C2: 被污染的金色宝石，拟人化，带数值显示 | D2: 巨剑 | E2: 释放剑气，击倒直线范围数字
A3: 木系地图 | B3: 掉落通用宝石和木系专属宝石 | C3: 被污染的绿色宝石，拟人化，带数值显示 | D3: 巨树 | E3: 召唤一群小树冲锋
A4: 水系地图 | B4: 掉落通用宝石和水系专属宝石 | C4: 被污染的蓝色宝石，拟人化，带数值显示 | D4: 巨鲲 | E4: 提升友军移动速度
A5: 火系地图 | B5: 掉落通用宝石和火系专属宝石 | C5: 被污染的红色宝石，拟人化，带数值显示 | D5: 火焰鸟 | E5: 烧毁一个数字，非最大值
A6: 土系地图 | B6: 掉落通用宝石和土系专属宝石 | C6: 被污染的黄色宝石，拟人化，带数值显示 | D6: 熔岩巨兽 | E6: 猛踩地面，将周围数字镇晕
B8: 说明
B9: 已完水、木、土系地图，缺金、火地图及对应怪物以及土系boss
B10: 动画还没开始

Sheet buff技能
A1: 序号 | B1: 说明
A2: 1 | B2: boss出现几率翻倍
A3: 2 | B3: 每次刷新有一定几率刷出倍率符
A4: 3 | B4: 所有友军攻速+50%
A5: 4 | B5: 击杀怪物获得金钱+20%
A6: 5 | B6: 刷出的数字，一定几率*2
A7: 6 | B7: 宝石掉落几率+50%
A8: 7 | B8: 我方攻速+50%，对方攻速+30%
A9: 8 | B9: Π的血量翻倍
A10: 9 | B10: 我方Π血量+5，对方+3
A11: 10
A12: 11
A13: 12
A14: 13
A15: 14
A16: 15
A17: 16
B18: 说明：
B19: 当前版本只做被动技能
B20: 资源及功能未开始，还需要设计一些

Sheet UI
A1: 说明：
A2: 基本沿用adoulike项目那一套，只做被动道具的话，建议用V2版本
A3: 主界面需要重新设计
A4: 宝石界面需要出资源
A5: 战斗界面需要补充被网住的数字状态，需要补充广告图标
A6: 其他比如排行榜之类的功能基本不变，需要匹配对应风格重新出一版
A7: 原型图链接
A8: https://www.xiaopiu.com/h5/byId?type=project&id=6ab3384bba525297f9c5e507

Sheet 排行榜段位
A1: 序号 | B1: 段位名 | C1: · | D1: 配置 | F1: 说明：
A2: 1 | B2: 幼儿园小班 | C2: 上 | D2: =_xlfn.CONCAT(B2,$C$1,C2) -> 幼儿园小班·上 | F2: AI功能需求还未出，需要补充一波
A3: 2 | B3: 幼儿园小班 | C3: 下 | D3: =_xlfn.CONCAT(B3,$C$1,C3) -> 幼儿园小班·下
A4: 3 | B4: 幼儿园中班 | C4: 上 | D4: =_xlfn.CONCAT(B4,$C$1,C4) -> 幼儿园中班·上
A5: 4 | B5: 幼儿园中班 | C5: 下 | D5: =_xlfn.CONCAT(B5,$C$1,C5) -> 幼儿园中班·下
A6: 5 | B6: 幼儿园大班 | C6: 上 | D6: =_xlfn.CONCAT(B6,$C$1,C6) -> 幼儿园大班·上
A7: 6 | B7: 幼儿园大班 | C7: 下 | D7: =_xlfn.CONCAT(B7,$C$1,C7) -> 幼儿园大班·下
A8: 7 | B8: 小学一年级 | C8: 上 | D8: =_xlfn.CONCAT(B8,$C$1,C8) -> 小学一年级·上
A9: 8 | B9: 小学一年级 | C9: 下 | D9: =_xlfn.CONCAT(B9,$C$1,C9) -> 小学一年级·下
A10: 10 | B10: 小学二年级 | C10: 上 | D10: =_xlfn.CONCAT(B10,$C$1,C10) -> 小学二年级·上
A11: 11 | B11: 小学二年级 | C11: 下 | D11: =_xlfn.CONCAT(B11,$C$1,C11) -> 小学二年级·下
A12: 12 | B12: 小学三年级 | C12: 上 | D12: =_xlfn.CONCAT(B12,$C$1,C12) -> 小学三年级·上
A13: 13 | B13: 小学三年级 | C13: 下 | D13: =_xlfn.CONCAT(B13,$C$1,C13) -> 小学三年级·下
A14: 14 | B14: 小学四年级 | C14: 上 | D14: =_xlfn.CONCAT(B14,$C$1,C14) -> 小学四年级·上
... A55: 55 | B55: 博士五年级 | C55: 下 | D55: =_xlfn.CONCAT(B55,$C$1,C55) -> 博士五年级·下
A56: 56 | B56: 讲师初阶 | D56: =_xlfn.CONCAT(B56,C56) -> 讲师初阶
A57: 57 | B57: 讲师初阶 | D57: =_xlfn.CONCAT(B57,C57) -> 讲师初阶
A58: 58 | B58: 讲师中阶 | D58: =_xlfn.CONCAT(B58,C58) -> 讲师中阶
A59: 59 | B59: 讲师中阶 | D59: =_xlfn.CONCAT(B59,C59) -> 讲师中阶
A60: 60 | B60: 讲师高阶 | D60: =_xlfn.CONCAT(B60,C60) -> 讲师高阶
A61: 61 | B61: 讲师高阶 | D61: =_xlfn.CONCAT(B61,C61) -> 讲师高阶
A62: 62 | B62: 教授 | D62: =_xlfn.CONCAT(B62,C62) -> 教授

Sheet 部分配置（与需求无关）
A1: 关卡 | B1: 格子 | C1: 类型 | D1: 等级 | E1: 权重
A2: 1 | B2: 1 | C2: 0 | D2: 2 | E2: 5 | F2: =IF(E2="","",_xlfn.TEXTJOIN(",",TRUE,C2:E2)) -> 0,2,5
A3: 1 | B3: 1 | C3: 1 | D3: 2 | F3: =IF(E3="","",_xlfn.TEXTJOIN(",",TRUE,C3:E3))
A4: 1 | B4: 1 | C4: 2 | D4: 2 | F4: =IF(E4="","",_xlfn.TEXTJOIN(",",TRUE,C4:E4))
A5: 1 | B5: 1 | C5: 3 | D5: 2 | F5: =IF(E5="","",_xlfn.TEXTJOIN(",",TRUE,C5:E5))
A6: 1 | B6: 1 | C6: 4 | D6: 2 | F6: =IF(E6="","",_xlfn.TEXTJOIN(",",TRUE,C6:E6))
A7: 1 | B7: 1 | C7: 5 | D7: 2 | F7: =IF(E7="","",_xlfn.TEXTJOIN(",",TRUE,C7:E7)) | G7: =_xlfn.TEXTJOIN("|",TRUE,F2:F7) -> 0,2,5
A8: 1 | B8: =B2+1 -> 2 | C8: 0 | D8: 5 | E8: 5 | F8: =IF(E8="","",_xlfn.TEXTJOIN(",",TRUE,C8:E8)) -> 0,5,5
A9: 1 | B9: =B3+1 -> 2 | C9: 1 | D9: 5 | F9: =IF(E9="","",_xlfn.TEXTJOIN(",",TRUE,C9:E9))
A10: 1 | B10: =B4+1 -> 2 | C10: 2 | D10: 5 | F10: =IF(E10="","",_xlfn.TEXTJOIN(",",TRUE,C10:E10))
A11: 1 | B11: =B5+1 -> 2 | C11: 3 | D11: 5 | F11: =IF(E11="","",_xlfn.TEXTJOIN(",",TRUE,C11:E11))
A12: 1 | B12: =B6+1 -> 2 | C12: 4 | D12: 5 | F12: =IF(E12="","",_xlfn.TEXTJOIN(",",TRUE,C12:E12))
A13: 1 | B13: =B7+1 -> 2 | C13: 5 | D13: 5 | F13: =IF(E13="","",_xlfn.TEXTJOIN(",",TRUE,C13:E13)) | G13: =_xlfn.TEXTJOIN("|",TRUE,F8:F13) -> 0,5,5
A14: 1 | B14: =B8+1 -> 3 | C14: 0 | D14: 6 | E14: 5 | F14: =IF(E14="","",_xlfn.TEXTJOIN(",",TRUE,C14:E14)) -> 0,6,5
A15: 1 | B15: =B9+1 -> 3 | C15: 1 | D15: 6 | E15: 1 | F15: =IF(E15="","",_xlfn.TEXTJOIN(",",TRUE,C15:E15)) -> 1,6,1
A16: 1 | B16: =B10+1 -> 3 | C16: 2 | D16: 6 | E16: 1 | F16: =IF(E16="","",_xlfn.TEXTJOIN(",",TRUE,C16:E16)) -> 2,6,1
A17: 1 | B17: =B11+1 -> 3 | C17: 3 | D17: 6 | E17: 1 | F17: =IF(E17="","",_xlfn.TEXTJOIN(",",TRUE,C17:E17)) -> 3,6,1
A18: 1 | B18: =B12+1 -> 3 | C18: 4 | D18: 6 | E18: 1 | F18: =IF(E18="","",_xlfn.TEXTJOIN(",",TRUE,C18:E18)) -> 4,6,1
A19: 1 | B19: =B13+1 -> 3 | C19: 5 | D19: 6 | E19: 1 | F19: =IF(E19="","",_xlfn.TEXTJOIN(",",TRUE,C19:E19)) -> 5,6,1 | G19: =_xlfn.TEXTJOIN("|",TRUE,F14:F19) -> 0,6,5|1,6,1|2,6,1|3,6,1|4,6,1|5,6,1
A20: 1 | B20: =B14+1 -> 4 | C20: 0 | D20: 7 | E20: 5 | F20: =IF(E20="","",_xlfn.TEXTJOIN(",",TRUE,C20:E20)) -> 0,7,5
A21: 1 | B21: =B15+1 -> 4 | C21: 1 | D21: 7 | E21: 1 | F21: =IF(E21="","",_xlfn.TEXTJOIN(",",TRUE,C21:E21)) -> 1,7,1
A22: 1 | B22: =B16+1 -> 4 | C22: 2 | D22: 7 | E22: 1 | F22: =IF(E22="","",_xlfn.TEXTJOIN(",",TRUE,C22:E22)) -> 2,7,1
A23: 1 | B23: =B17+1 -> 4 | C23: 3 | D23: 7 | E23: 1 | F23: =IF(E23="","",_xlfn.TEXTJOIN(",",TRUE,C23:E23)) -> 3,7,1
A24: 1 | B24: =B18+1 -> 4 | C24: 4 | D24: 7 | E24: 1 | F24: =IF(E24="","",_xlfn.TEXTJOIN(",",TRUE,C24:E24)) -> 4,7,1
A25: 1 | B25: =B19+1 -> 4 | C25: 5 | D25: 7 | E25: 1 | F25: =IF(E25="","",_xlfn.TEXTJOIN(",",TRUE,C25:E25)) -> 5,7,1 | G25: =_xlfn.TEXTJOIN("|",TRUE,F20:F25) -> 0,7,5|1,7,1|2,7,1|3,7,1|4,7,1|5,7,1
A26: 1 | B26: =B20+1 -> 5 | C26: 0 | D26: 8 | E26: 5 | F26: =IF(E26="","",_xlfn.TEXTJOIN(",",TRUE,C26:E26)) -> 0,8,5
A27: 1 | B27: =B21+1 -> 5 | C27: 1 | D27: 8 | E27: 1 | F27: =IF(E27="","",_xlfn.TEXTJOIN(",",TRUE,C27:E27)) -> 1,8,1
A28: 1 | B28: =B22+1 -> 5 | C28: 2 | D28: 8 | E28: 1 | F28: =IF(E28="","",_xlfn.TEXTJOIN(",",TRUE,C28:E28)) -> 2,8,1
A29: 1 | B29: =B23+1 -> 5 | C29: 3 | D29: 8 | E29: 1 | F29: =IF(E29="","",_xlfn.TEXTJOIN(",",TRUE,C29:E29)) -> 3,8,1
A30: 1 | B30: =B24+1 -> 5 | C30: 4 | D30: 8 | E30: 1 | F30: =IF(E30="","",_xlfn.TEXTJOIN(",",TRUE,C30:E30)) -> 4,8,1
A31: 1 | B31: =B25+1 -> 5 | C31: 5 | D31: 8 | E31: 1 | F31: =IF(E31="","",_xlfn.TEXTJOIN(",",TRUE,C31:E31)) -> 5,8,1 | G31: =_xlfn.TEXTJOIN("|",TRUE,F26:F31) -> 0,8,5|1,8,1|2,8,1|3,8,1|4,8,1|5,8,1
A32: 1 | B32: =B26+1 -> 6 | C32: 0 | D32: 9 | E32: 5 | F32: =IF(E32="","",_xlfn.TEXTJOIN(",",TRUE,C32:E32)) -> 0,9,5
A33: 1 | B33: =B27+1 -> 6 | C33: 1 | D33: 9 | E33: 1 | F33: =IF(E33="","",_xlfn.TEXTJOIN(",",TRUE,C33:E33)) -> 1,9,1
A34: 1 | B34: =B28+1 -> 6 | C34: 2 | D34: 9 | E34: 1 | F34: =IF(E34="","",_xlfn.TEXTJOIN(",",TRUE,C34:E34)) -> 2,9,1
A35: 1 | B35: =B29+1 -> 6 | C35: 3 | D35: 9 | E35: 1 | F35: =IF(E35="","",_xlfn.TEXTJOIN(",",TRUE,C35:E35)) -> 3,9,1
A36: 1 | B36: =B30+1 -> 6 | C36: 4 | D36: 9 | E36: 1 | F36: =IF(E36="","",_xlfn.TEXTJOIN(",",TRUE,C36:E36)) -> 4,9,1
A37: 1 | B37: =B31+1 -> 6 | C37: 5 | D37: 9 | E37: 1 | F37: =IF(E37="","",_xlfn.TEXTJOIN(",",TRUE,C37:E37)) -> 5,9,1 | G37: =_xlfn.TEXTJOIN("|",TRUE,F32:F37) -> 0,9,5|1,9,1|2,9,1|3,9,1|4,9,1|5,9,1
A42: 关卡配置 | B42: =G7 -> 0,2,5 | C42: =G13 -> 0,5,5 | D42: =G19 -> 0,6,5|1,6,1|2,6,1|3,6,1|4,6,1|5,6,1 | E42: =G25 -> 0,7,5|1,7,1|2,7,1|3,7,1|4,7,1|5,7,1 | F42: =G31 -> 0,8,5|1,8,1|2,8,1|3,8,1|4,8,1|5,8,1 | G42: =G37 -> 0,9,5|1,9,1|2,9,1|3,9,1|4,9,1|5,9,1
B50: 普通宝石 | C50: 技能宝石
B51: 10 | C51: 0.33
B52: 15 | C52: 0.5
B53: 20 | C53: 1
B54: 25 | C54: 1.5
B55: 30 | C55: 2
A59: 段位 | B59: 胜率
A60: 1 | B60: 0.7
A61: 2 | B61: 0.75
A62: 3 | B62: 0.8
A63: 4 | B63: 0.8
A64: 5 | B64: 0.8
A65: 6 | B65: 0.8
A66: 7 | B66: 0.8
A67: 8 | B67: 0.8
A68: 9 | B68: 0.8
A69: 10 | B69: 0.9
A70: 11 | B70: 0.9
A71: 12 | B71: 0.9
A72: 13 | B72: 0.9

Sheet 怪物配置
A1: 关卡表
C2: monster | D2: boss | E2: bosspro
C3: string | D3: string | E3: string
C4: 怪物 波次，怪物id，数量，间隔时间 | D4: boss | E4: boss出现几率
A5: 1 | C5: =_xlfn.TEXTJOIN("|",TRUE,$E$19:$E$43) -> 1,1001,10,1.6|2,1001,10,1.6|3,1001,10,1.6|4,1001,10,1.6|5,1002,15,1.6|6,1002,15,1.6|7,1002,15,1.6|8,1002,15,1.6|9,1002,15,1.6|10,1003,20,1.6|11,1003,20,1.6|12,1003,20,1.6|13,1003,20,1.6|14,1003,20,1.6|15,1003,25,1.6|16,1003,25,1.6|17,1003,25,1.6|18,1003,25,1.6|19,1003,25,1.6|20,1003,30,1.6|21,1003,30,1.6|22,1003,30,1.6|23,1003,30,1.6|24,1003,30,1.6|25,1003,40,1.6 | D5: =_xlfn.TEXTJOIN(",",TRUE,$G$19:$G$43) -> 5|1101,10|1102,15|1103,20|1104,25|1105 | E5: 1200
A6: 2 | C6: =_xlfn.TEXTJOIN("|",TRUE,$E$50:$E$74) -> 1,2001,10,1.6|2,2001,10,1.6|3,2001,10,1.6|4,2001,10,1.6|5,2002,15,1.6|6,2002,15,1.6|7,2002,15,1.6|8,2002,15,1.6|9,2002,15,1.6|10,2003,20,1.6|11,2003,20,1.6|12,2003,20,1.6|13,2003,20,1.6|14,2003,20,1.6|15,2003,25,1.6|16,2003,25,1.6|17,2003,25,1.6|18,2003,25,1.6|19,2003,25,1.6|20,2003,30,1.6|21,2003,30,1.6|22,2003,30,1.6|23,2003,30,1.6|24,2003,30,1.6|25,2003,40,1.6 | D6: =_xlfn.TEXTJOIN(",",TRUE,$G$49:$G$74) -> 5|2101,10|2102,15|2103,20|2104,25|2105 | E6: 1200
A7: 3 | C7: =_xlfn.TEXTJOIN("|",TRUE,$E$81:$E$105) -> 1,3001,10,1.6|2,3001,10,1.6|3,3001,10,1.6|4,3001,10,1.6|5,3002,15,1.6|6,3002,15,1.6|7,3002,15,1.6|8,3002,15,1.6|9,3002,15,1.6|10,3003,20,1.6|11,3003,20,1.6|12,3003,20,1.6|13,3003,20,1.6|14,3003,20,1.6|15,3003,25,1.6|16,3003,25,1.6|17,3003,25,1.6|18,3003,25,1.6|19,3003,25,1.6|20,3003,30,1.6|21,3003,30,1.6|22,3003,30,1.6|23,3003,30,1.6|24,3003,30,1.6|25,3003,40,1.6 | D7: =_xlfn.TEXTJOIN(",",TRUE,$G$80:$G$105) -> 5|3101,10|3102,15|3103,20|3104,25|3105 | E7: 1200
A8: 4 | C8: =_xlfn.TEXTJOIN("|",TRUE,$E$112:$E$136) -> 1,4001,10,1.6|2,4001,10,1.6|3,4001,10,1.6|4,4001,10,1.6|5,4002,15,1.6|6,4002,15,1.6|7,4002,15,1.6|8,4002,15,1.6|9,4002,15,1.6|10,4003,20,1.6|11,4003,20,1.6|12,4003,20,1.6|13,4003,20,1.6|14,4003,20,1.6|15,4003,25,1.6|16,4003,25,1.6|17,4003,25,1.6|18,4003,25,1.6|19,4003,25,1.6|20,4003,30,1.6|21,4003,30,1.6|22,4003,30,1.6|23,4003,30,1.6|24,4003,30,1.6|25,4003,40,1.6 | D8: =_xlfn.TEXTJOIN(",",TRUE,$G$111:$G$136) -> 5|4101,10|4102,15|4103,20|4104,25|4105 | E8: 1200
A9: 5 | C9: =_xlfn.TEXTJOIN("|",TRUE,$E$143:$E$167) -> 1,5001,10,1.6|2,5001,10,1.6|3,5001,10,1.6|4,5001,10,1.6|5,5002,15,1.6|6,5002,15,1.6|7,5002,15,1.6|8,5002,15,1.6|9,5002,15,1.6|10,5003,20,1.6|11,5003,20,1.6|12,5003,20,1.6|13,5003,20,1.6|14,5003,20,1.6|15,5003,25,1.6|16,5003,25,1.6|17,5003,25,1.6|18,5003,25,1.6|19,5003,25,1.6|20,5003,30,1.6|21,5003,30,1.6|22,5003,30,1.6|23,5003,30,1.6|24,5003,30,1.6|25,5003,40,1.6 | D9: =_xlfn.TEXTJOIN(",",TRUE,$G$142:$G$167) -> 5|5101,10|5102,15|5103,20|5104,25|5105 | E9: 1200
A14: 怪物id | B14: 1001
B15: 1002
B16: 1003
B17: 1101
A18: 波次 | B18: 数量 | C18: 怪物id | D18: 间隔时间
A19: 1 | B19: =血量配置!B10 -> 10 | C19: =IF(B19<15,$B$14,IF(B19>15,$B$16,$B$15)) -> 1001 | D19: 1.6 | E19: =_xlfn.TEXTJOIN(",",TRUE,A19,C19,B19,D19) -> 1,1001,10,1.6 | F19: =IF(MOD(A19,5)=0,1,"") | G19: =IF(F19="","",A19&"|"&$B$17)
A20: 2 | B20: =血量配置!B11 -> 10 | C20: =IF(B20<15,$B$14,IF(B20>15,$B$16,$B$15)) -> 1001 | D20: 1.6 | E20: =_xlfn.TEXTJOIN(",",TRUE,A20,C20,B20,D20) -> 2,1001,10,1.6 | F20: =IF(MOD(A20,5)=0,1,"") | G20: =IF(F20="","",A20&"|"&$B$17)
A21: 3 | B21: =血量配置!B12 -> 10 | C21: =IF(B21<15,$B$14,IF(B21>15,$B$16,$B$15)) -> 1001 | D21: 1.6 | E21: =_xlfn.TEXTJOIN(",",TRUE,A21,C21,B21,D21) -> 3,1001,10,1.6 | F21: =IF(MOD(A21,5)=0,1,"") | G21: =IF(F21="","",A21&"|"&$B$17)
A22: 4 | B22: =血量配置!B13 -> 10 | C22: =IF(B22<15,$B$14,IF(B22>15,$B$16,$B$15)) -> 1001 | D22: 1.6 | E22: =_xlfn.TEXTJOIN(",",TRUE,A22,C22,B22,D22) -> 4,1001,10,1.6 | F22: =IF(MOD(A22,5)=0,1,"") | G22: =IF(F22="","",A22&"|"&$B$17)
A23: 5 | B23: =血量配置!B14 -> 15 | C23: =IF(B23<15,$B$14,IF(B23>15,$B$16,$B$15)) -> 1002 | D23: 1.6 | E23: =_xlfn.TEXTJOIN(",",TRUE,A23,C23,B23,D23) -> 5,1002,15,1.6 | F23: =IF(MOD(A23,5)=0,1,"") -> 1 | G23: =IF(F23="","",A23&"|"&$B$17) -> 5|1101
A24: 6 | B24: =血量配置!B15 -> 15 | C24: =IF(B24<15,$B$14,IF(B24>15,$B$16,$B$15)) -> 1002 | D24: 1.6 | E24: =_xlfn.TEXTJOIN(",",TRUE,A24,C24,B24,D24) -> 6,1002,15,1.6 | F24: =IF(MOD(A24,5)=0,1,"") | G24: =IF(F24="","",A24&"|"&$B$17)
A25: 7 | B25: =血量配置!B16 -> 15 | C25: =IF(B25<15,$B$14,IF(B25>15,$B$16,$B$15)) -> 1002 | D25: 1.6 | E25: =_xlfn.TEXTJOIN(",",TRUE,A25,C25,B25,D25) -> 7,1002,15,1.6 | F25: =IF(MOD(A25,5)=0,1,"") | G25: =IF(F25="","",A25&"|"&$B$17)
A26: 8 | B26: =血量配置!B17 -> 15 | C26: =IF(B26<15,$B$14,IF(B26>15,$B$16,$B$15)) -> 1002 | D26: 1.6 | E26: =_xlfn.TEXTJOIN(",",TRUE,A26,C26,B26,D26) -> 8,1002,15,1.6 | F26: =IF(MOD(A26,5)=0,1,"") | G26: =IF(F26="","",A26&"|"&$B$17)
A27: 9 | B27: =血量配置!B18 -> 15 | C27: =IF(B27<15,$B$14,IF(B27>15,$B$16,$B$15)) -> 1002 | D27: 1.6 | E27: =_xlfn.TEXTJOIN(",",TRUE,A27,C27,B27,D27) -> 9,1002,15,1.6 | F27: =IF(MOD(A27,5)=0,1,"") | G27: =IF(F27="","",A27&"|"&$B$17)
A28: 10 | B28: =血量配置!B19 -> 20 | C28: =IF(B28<15,$B$14,IF(B28>15,$B$16,$B$15)) -> 1003 | D28: 1.6 | E28: =_xlfn.TEXTJOIN(",",TRUE,A28,C28,B28,D28) -> 10,1003,20,1.6 | F28: =IF(MOD(A28,5)=0,1,"") -> 1 | G28: =IF(F28="","",A28&"|"&$B$17+1) -> 10|1102
A29: 11 | B29: =血量配置!B20 -> 20 | C29: =IF(B29<15,$B$14,IF(B29>15,$B$16,$B$15)) -> 1003 | D29: 1.6 | E29: =_xlfn.TEXTJOIN(",",TRUE,A29,C29,B29,D29) -> 11,1003,20,1.6 | F29: =IF(MOD(A29,5)=0,1,"") | G29: =IF(F29="","",A29&"|"&$B$17)
A30: 12 | B30: =血量配置!B21 -> 20 | C30: =IF(B30<15,$B$14,IF(B30>15,$B$16,$B$15)) -> 1003 | D30: 1.6 | E30: =_xlfn.TEXTJOIN(",",TRUE,A30,C30,B30,D30) -> 12,1003,20,1.6 | F30: =IF(MOD(A30,5)=0,1,"") | G30: =IF(F30="","",A30&"|"&$B$17)
A31: 13 | B31: =血量配置!B22 -> 20 | C31: =IF(B31<15,$B$14,IF(B31>15,$B$16,$B$15)) -> 1003 | D31: 1.6 | E31: =_xlfn.TEXTJOIN(",",TRUE,A31,C31,B31,D31) -> 13,1003,20,1.6 | F31: =IF(MOD(A31,5)=0,1,"") | G31: =IF(F31="","",A31&"|"&$B$17)
A32: 14 | B32: =血量配置!B23 -> 20 | C32: =IF(B32<15,$B$14,IF(B32>15,$B$16,$B$15)) -> 1003 | D32: 1.6 | E32: =_xlfn.TEXTJOIN(",",TRUE,A32,C32,B32,D32) -> 14,1003,20,1.6 | F32: =IF(MOD(A32,5)=0,1,"") | G32: =IF(F32="","",A32&"|"&$B$17)
A33: 15 | B33: =血量配置!B24 -> 25 | C33: =IF(B33<15,$B$14,IF(B33>15,$B$16,$B$15)) -> 1003 | D33: 1.6 | E33: =_xlfn.TEXTJOIN(",",TRUE,A33,C33,B33,D33) -> 15,1003,25,1.6 | F33: =IF(MOD(A33,5)=0,1,"") -> 1 | G33: =IF(F33="","",A33&"|"&$B$17+2) -> 15|1103
A34: 16 | B34: =血量配置!B25 -> 25 | C34: =IF(B34<15,$B$14,IF(B34>15,$B$16,$B$15)) -> 1003 | D34: 1.6 | E34: =_xlfn.TEXTJOIN(",",TRUE,A34,C34,B34,D34) -> 16,1003,25,1.6 | F34: =IF(MOD(A34,5)=0,1,"") | G34: =IF(F34="","",A34&"|"&$B$17)
A35: 17 | B35: =血量配置!B26 -> 25 | C35: =IF(B35<15,$B$14,IF(B35>15,$B$16,$B$15)) -> 1003 | D35: 1.6 | E35: =_xlfn.TEXTJOIN(",",TRUE,A35,C35,B35,D35) -> 17,1003,25,1.6 | F35: =IF(MOD(A35,5)=0,1,"") | G35: =IF(F35="","",A35&"|"&$B$17)
A36: 18 | B36: =血量配置!B27 -> 25 | C36: =IF(B36<15,$B$14,IF(B36>15,$B$16,$B$15)) -> 1003 | D36: 1.6 | E36: =_xlfn.TEXTJOIN(",",TRUE,A36,C36,B36,D36) -> 18,1003,25,1.6 | F36: =IF(MOD(A36,5)=0,1,"") | G36: =IF(F36="","",A36&"|"&$B$17)
A37: 19 | B37: =血量配置!B28 -> 25 | C37: =IF(B37<15,$B$14,IF(B37>15,$B$16,$B$15)) -> 1003 | D37: 1.6 | E37: =_xlfn.TEXTJOIN(",",TRUE,A37,C37,B37,D37) -> 19,1003,25,1.6 | F37: =IF(MOD(A37,5)=0,1,"") | G37: =IF(F37="","",A37&"|"&$B$17)
A38: 20 | B38: =血量配置!B29 -> 30 | C38: =IF(B38<15,$B$14,IF(B38>15,$B$16,$B$15)) -> 1003 | D38: 1.6 | E38: =_xlfn.TEXTJOIN(",",TRUE,A38,C38,B38,D38) -> 20,1003,30,1.6 | F38: =IF(MOD(A38,5)=0,1,"") -> 1 | G38: =IF(F38="","",A38&"|"&$B$17+3) -> 20|1104
A39: 21 | B39: =血量配置!B30 -> 30 | C39: =IF(B39<15,$B$14,IF(B39>15,$B$16,$B$15)) -> 1003 | D39: 1.6 | E39: =_xlfn.TEXTJOIN(",",TRUE,A39,C39,B39,D39) -> 21,1003,30,1.6 | F39: =IF(MOD(A39,5)=0,1,"") | G39: =IF(F39="","",A39&"|"&$B$17)
A40: 22 | B40: =血量配置!B31 -> 30 | C40: =IF(B40<15,$B$14,IF(B40>15,$B$16,$B$15)) -> 1003 | D40: 1.6 | E40: =_xlfn.TEXTJOIN(",",TRUE,A40,C40,B40,D40) -> 22,1003,30,1.6 | F40: =IF(MOD(A40,5)=0,1,"") | G40: =IF(F40="","",A40&"|"&$B$17)
A41: 23 | B41: =血量配置!B32 -> 30 | C41: =IF(B41<15,$B$14,IF(B41>15,$B$16,$B$15)) -> 1003 | D41: 1.6 | E41: =_xlfn.TEXTJOIN(",",TRUE,A41,C41,B41,D41) -> 23,1003,30,1.6 | F41: =IF(MOD(A41,5)=0,1,"") | G41: =IF(F41="","",A41&"|"&$B$17)
A42: 24 | B42: =血量配置!B33 -> 30 | C42: =IF(B42<15,$B$14,IF(B42>15,$B$16,$B$15)) -> 1003 | D42: 1.6 | E42: =_xlfn.TEXTJOIN(",",TRUE,A42,C42,B42,D42) -> 24,1003,30,1.6 | F42: =IF(MOD(A42,5)=0,1,"") | G42: =IF(F42="","",A42&"|"&$B$17)
A43: 25 | B43: =血量配置!B34 -> 40 | C43: =IF(B43<15,$B$14,IF(B43>15,$B$16,$B$15)) -> 1003 | D43: 1.6 | E43: =_xlfn.TEXTJOIN(",",TRUE,A43,C43,B43,D43) -> 25,1003,40,1.6 | F43: =IF(MOD(A43,5)=0,1,"") -> 1 | G43: =IF(F43="","",A43&"|"&$B$17+4) -> 25|1105
A45: 怪物id | B45: 2001
B46: 2002
B47: 2003
B48: 2101
A49: 波次 | B49: 数量 | C49: 怪物id | D49: 间隔时间
A50: 1 | B50: =B19 -> 10 | C50: =IF(B50<15,$B$45,IF(B50>15,$B$47,$B$46)) -> 2001 | D50: 1.6 | E50: =_xlfn.TEXTJOIN(",",TRUE,A50,C50,B50,D50) -> 1,2001,10,1.6 | F50: =IF(MOD(A50,5)=0,1,"") | G50: =IF(F50="","",A50&"|"&$B$48)
A51: 2 | B51: =B20 -> 10 | C51: =IF(B51<15,$B$45,IF(B51>15,$B$47,$B$46)) -> 2001 | D51: 1.6 | E51: =_xlfn.TEXTJOIN(",",TRUE,A51,C51,B51,D51) -> 2,2001,10,1.6 | F51: =IF(MOD(A51,5)=0,1,"") | G51: =IF(F51="","",A51&"|"&$B$48)
A52: 3 | B52: =B21 -> 10 | C52: =IF(B52<15,$B$45,IF(B52>15,$B$47,$B$46)) -> 2001 | D52: 1.6 | E52: =_xlfn.TEXTJOIN(",",TRUE,A52,C52,B52,D52) -> 3,2001,10,1.6 | F52: =IF(MOD(A52,5)=0,1,"") | G52: =IF(F52="","",A52&"|"&$B$48)
A53: 4 | B53: =B22 -> 10 | C53: =IF(B53<15,$B$45,IF(B53>15,$B$47,$B$46)) -> 2001 | D53: 1.6 | E53: =_xlfn.TEXTJOIN(",",TRUE,A53,C53,B53,D53) -> 4,2001,10,1.6 | F53: =IF(MOD(A53,5)=0,1,"") | G53: =IF(F53="","",A53&"|"&$B$48)
A54: 5 | B54: =B23 -> 15 | C54: =IF(B54<15,$B$45,IF(B54>15,$B$47,$B$46)) -> 2002 | D54: 1.6 | E54: =_xlfn.TEXTJOIN(",",TRUE,A54,C54,B54,D54) -> 5,2002,15,1.6 | F54: =IF(MOD(A54,5)=0,1,"") -> 1 | G54: =IF(F54="","",A54&"|"&$B$48) -> 5|2101
A55: 6 | B55: =B24 -> 15 | C55: =IF(B55<15,$B$45,IF(B55>15,$B$47,$B$46)) -> 2002 | D55: 1.6 | E55: =_xlfn.TEXTJOIN(",",TRUE,A55,C55,B55,D55) -> 6,2002,15,1.6 | F55: =IF(MOD(A55,5)=0,1,"") | G55: =IF(F55="","",A55&"|"&$B$48)
A56: 7 | B56: =B25 -> 15 | C56: =IF(B56<15,$B$45,IF(B56>15,$B$47,$B$46)) -> 2002 | D56: 1.6 | E56: =_xlfn.TEXTJOIN(",",TRUE,A56,C56,B56,D56) -> 7,2002,15,1.6 | F56: =IF(MOD(A56,5)=0,1,"") | G56: =IF(F56="","",A56&"|"&$B$48)
A57: 8 | B57: =B26 -> 15 | C57: =IF(B57<15,$B$45,IF(B57>15,$B$47,$B$46)) -> 2002 | D57: 1.6 | E57: =_xlfn.TEXTJOIN(",",TRUE,A57,C57,B57,D57) -> 8,2002,15,1.6 | F57: =IF(MOD(A57,5)=0,1,"") | G57: =IF(F57="","",A57&"|"&$B$48)
A58: 9 | B58: =B27 -> 15 | C58: =IF(B58<15,$B$45,IF(B58>15,$B$47,$B$46)) -> 2002 | D58: 1.6 | E58: =_xlfn.TEXTJOIN(",",TRUE,A58,C58,B58,D58) -> 9,2002,15,1.6 | F58: =IF(MOD(A58,5)=0,1,"") | G58: =IF(F58="","",A58&"|"&$B$48)
A59: 10 | B59: =B28 -> 20 | C59: =IF(B59<15,$B$45,IF(B59>15,$B$47,$B$46)) -> 2003 | D59: 1.6 | E59: =_xlfn.TEXTJOIN(",",TRUE,A59,C59,B59,D59) -> 10,2003,20,1.6 | F59: =IF(MOD(A59,5)=0,1,"") -> 1 | G59: =IF(F59="","",A59&"|"&$B$48+1) -> 10|2102
A60: 11 | B60: =B29 -> 20 | C60: =IF(B60<15,$B$45,IF(B60>15,$B$47,$B$46)) -> 2003 | D60: 1.6 | E60: =_xlfn.TEXTJOIN(",",TRUE,A60,C60,B60,D60) -> 11,2003,20,1.6 | F60: =IF(MOD(A60,5)=0,1,"") | G60: =IF(F60="","",A60&"|"&$B$48)
A61: 12 | B61: =B30 -> 20 | C61: =IF(B61<15,$B$45,IF(B61>15,$B$47,$B$46)) -> 2003 | D61: 1.6 | E61: =_xlfn.TEXTJOIN(",",TRUE,A61,C61,B61,D61) -> 12,2003,20,1.6 | F61: =IF(MOD(A61,5)=0,1,"") | G61: =IF(F61="","",A61&"|"&$B$48)
A62: 13 | B62: =B31 -> 20 | C62: =IF(B62<15,$B$45,IF(B62>15,$B$47,$B$46)) -> 2003 | D62: 1.6 | E62: =_xlfn.TEXTJOIN(",",TRUE,A62,C62,B62,D62) -> 13,2003,20,1.6 | F62: =IF(MOD(A62,5)=0,1,"") | G62: =IF(F62="","",A62&"|"&$B$48)
A63: 14 | B63: =B32 -> 20 | C63: =IF(B63<15,$B$45,IF(B63>15,$B$47,$B$46)) -> 2003 | D63: 1.6 | E63: =_xlfn.TEXTJOIN(",",TRUE,A63,C63,B63,D63) -> 14,2003,20,1.6 | F63: =IF(MOD(A63,5)=0,1,"") | G63: =IF(F63="","",A63&"|"&$B$48)
A64: 15 | B64: =B33 -> 25 | C64: =IF(B64<15,$B$45,IF(B64>15,$B$47,$B$46)) -> 2003 | D64: 1.6 | E64: =_xlfn.TEXTJOIN(",",TRUE,A64,C64,B64,D64) -> 15,2003,25,1.6 | F64: =IF(MOD(A64,5)=0,1,"") -> 1 | G64: =IF(F64="","",A64&"|"&$B$48+2) -> 15|2103
A65: 16 | B65: =B34 -> 25 | C65: =IF(B65<15,$B$45,IF(B65>15,$B$47,$B$46)) -> 2003 | D65: 1.6 | E65: =_xlfn.TEXTJOIN(",",TRUE,A65,C65,B65,D65) -> 16,2003,25,1.6 | F65: =IF(MOD(A65,5)=0,1,"") | G65: =IF(F65="","",A65&"|"&$B$48)
A66: 17 | B66: =B35 -> 25 | C66: =IF(B66<15,$B$45,IF(B66>15,$B$47,$B$46)) -> 2003 | D66: 1.6 | E66: =_xlfn.TEXTJOIN(",",TRUE,A66,C66,B66,D66) -> 17,2003,25,1.6 | F66: =IF(MOD(A66,5)=0,1,"") | G66: =IF(F66="","",A66&"|"&$B$48)
A67: 18 | B67: =B36 -> 25 | C67: =IF(B67<15,$B$45,IF(B67>15,$B$47,$B$46)) -> 2003 | D67: 1.6 | E67: =_xlfn.TEXTJOIN(",",TRUE,A67,C67,B67,D67) -> 18,2003,25,1.6 | F67: =IF(MOD(A67,5)=0,1,"") | G67: =IF(F67="","",A67&"|"&$B$48)
A68: 19 | B68: =B37 -> 25 | C68: =IF(B68<15,$B$45,IF(B68>15,$B$47,$B$46)) -> 2003 | D68: 1.6 | E68: =_xlfn.TEXTJOIN(",",TRUE,A68,C68,B68,D68) -> 19,2003,25,1.6 | F68: =IF(MOD(A68,5)=0,1,"") | G68: =IF(F68="","",A68&"|"&$B$48)
A69: 20 | B69: =B38 -> 30 | C69: =IF(B69<15,$B$45,IF(B69>15,$B$47,$B$46)) -> 2003 | D69: 1.6 | E69: =_xlfn.TEXTJOIN(",",TRUE,A69,C69,B69,D69) -> 20,2003,30,1.6 | F69: =IF(MOD(A69,5)=0,1,"") -> 1 | G69: =IF(F69="","",A69&"|"&$B$48+3) -> 20|2104
A70: 21 | B70: =B39 -> 30 | C70: =IF(B70<15,$B$45,IF(B70>15,$B$47,$B$46)) -> 2003 | D70: 1.6 | E70: =_xlfn.TEXTJOIN(",",TRUE,A70,C70,B70,D70) -> 21,2003,30,1.6 | F70: =IF(MOD(A70,5)=0,1,"") | G70: =IF(F70="","",A70&"|"&$B$48)
A71: 22 | B71: =B40 -> 30 | C71: =IF(B71<15,$B$45,IF(B71>15,$B$47,$B$46)) -> 2003 | D71: 1.6 | E71: =_xlfn.TEXTJOIN(",",TRUE,A71,C71,B71,D71) -> 22,2003,30,1.6 | F71: =IF(MOD(A71,5)=0,1,"") | G71: =IF(F71="","",A71&"|"&$B$48)
A72: 23 | B72: =B41 -> 30 | C72: =IF(B72<15,$B$45,IF(B72>15,$B$47,$B$46)) -> 2003 | D72: 1.6 | E72: =_xlfn.TEXTJOIN(",",TRUE,A72,C72,B72,D72) -> 23,2003,30,1.6 | F72: =IF(MOD(A72,5)=0,1,"") | G72: =IF(F72="","",A72&"|"&$B$48)
A73: 24 | B73: =B42 -> 30 | C73: =IF(B73<15,$B$45,IF(B73>15,$B$47,$B$46)) -> 2003 | D73: 1.6 | E73: =_xlfn.TEXTJOIN(",",TRUE,A73,C73,B73,D73) -> 24,2003,30,1.6 | F73: =IF(MOD(A73,5)=0,1,"") | G73: =IF(F73="","",A73&"|"&$B$48)
A74: 25 | B74: =B43 -> 40 | C74: =IF(B74<15,$B$45,IF(B74>15,$B$47,$B$46)) -> 2003 | D74: 1.6 | E74: =_xlfn.TEXTJOIN(",",TRUE,A74,C74,B74,D74) -> 25,2003,40,1.6 | F74: =IF(MOD(A74,5)=0,1,"") -> 1 | G74: =IF(F74="","",A74&"|"&$B$48+4) -> 25|2105
A76: 怪物id | B76: 3001
B77: 3002
B78: 3003
B79: 3101
A80: 波次 | B80: 数量 | C80: 怪物id | D80: 间隔时间
A81: 1 | B81: =B50 -> 10 | C81: =IF(B81<15,$B$76,IF(B81>15,$B$78,$B$77)) -> 3001 | D81: 1.6 | E81: =_xlfn.TEXTJOIN(",",TRUE,A81,C81,B81,D81) -> 1,3001,10,1.6 | F81: =IF(MOD(A81,5)=0,1,"") | G81: =IF(F81="","",A81&"|"&$B$79)
A82: 2 | B82: =B51 -> 10 | C82: =IF(B82<15,$B$76,IF(B82>15,$B$78,$B$77)) -> 3001 | D82: 1.6 | E82: =_xlfn.TEXTJOIN(",",TRUE,A82,C82,B82,D82) -> 2,3001,10,1.6 | F82: =IF(MOD(A82,5)=0,1,"") | G82: =IF(F82="","",A82&"|"&$B$79)
A83: 3 | B83: =B52 -> 10 | C83: =IF(B83<15,$B$76,IF(B83>15,$B$78,$B$77)) -> 3001 | D83: 1.6 | E83: =_xlfn.TEXTJOIN(",",TRUE,A83,C83,B83,D83) -> 3,3001,10,1.6 | F83: =IF(MOD(A83,5)=0,1,"") | G83: =IF(F83="","",A83&"|"&$B$79)
A84: 4 | B84: =B53 -> 10 | C84: =IF(B84<15,$B$76,IF(B84>15,$B$78,$B$77)) -> 3001 | D84: 1.6 | E84: =_xlfn.TEXTJOIN(",",TRUE,A84,C84,B84,D84) -> 4,3001,10,1.6 | F84: =IF(MOD(A84,5)=0,1,"") | G84: =IF(F84="","",A84&"|"&$B$79)
A85: 5 | B85: =B54 -> 15 | C85: =IF(B85<15,$B$76,IF(B85>15,$B$78,$B$77)) -> 3002 | D85: 1.6 | E85: =_xlfn.TEXTJOIN(",",TRUE,A85,C85,B85,D85) -> 5,3002,15,1.6 | F85: =IF(MOD(A85,5)=0,1,"") -> 1 | G85: =IF(F85="","",A85&"|"&$B$79) -> 5|3101
A86: 6 | B86: =B55 -> 15 | C86: =IF(B86<15,$B$76,IF(B86>15,$B$78,$B$77)) -> 3002 | D86: 1.6 | E86: =_xlfn.TEXTJOIN(",",TRUE,A86,C86,B86,D86) -> 6,3002,15,1.6 | F86: =IF(MOD(A86,5)=0,1,"") | G86: =IF(F86="","",A86&"|"&$B$79)
A87: 7 | B87: =B56 -> 15 | C87: =IF(B87<15,$B$76,IF(B87>15,$B$78,$B$77)) -> 3002 | D87: 1.6 | E87: =_xlfn.TEXTJOIN(",",TRUE,A87,C87,B87,D87) -> 7,3002,15,1.6 | F87: =IF(MOD(A87,5)=0,1,"") | G87: =IF(F87="","",A87&"|"&$B$79)
A88: 8 | B88: =B57 -> 15 | C88: =IF(B88<15,$B$76,IF(B88>15,$B$78,$B$77)) -> 3002 | D88: 1.6 | E88: =_xlfn.TEXTJOIN(",",TRUE,A88,C88,B88,D88) -> 8,3002,15,1.6 | F88: =IF(MOD(A88,5)=0,1,"") | G88: =IF(F88="","",A88&"|"&$B$79)
A89: 9 | B89: =B58 -> 15 | C89: =IF(B89<15,$B$76,IF(B89>15,$B$78,$B$77)) -> 3002 | D89: 1.6 | E89: =_xlfn.TEXTJOIN(",",TRUE,A89,C89,B89,D89) -> 9,3002,15,1.6 | F89: =IF(MOD(A89,5)=0,1,"") | G89: =IF(F89="","",A89&"|"&$B$79)
A90: 10 | B90: =B59 -> 20 | C90: =IF(B90<15,$B$76,IF(B90>15,$B$78,$B$77)) -> 3003 | D90: 1.6 | E90: =_xlfn.TEXTJOIN(",",TRUE,A90,C90,B90,D90) -> 10,3003,20,1.6 | F90: =IF(MOD(A90,5)=0,1,"") -> 1 | G90: =IF(F90="","",A90&"|"&$B$79+1) -> 10|3102
A91: 11 | B91: =B60 -> 20 | C91: =IF(B91<15,$B$76,IF(B91>15,$B$78,$B$77)) -> 3003 | D91: 1.6 | E91: =_xlfn.TEXTJOIN(",",TRUE,A91,C91,B91,D91) -> 11,3003,20,1.6 | F91: =IF(MOD(A91,5)=0,1,"") | G91: =IF(F91="","",A91&"|"&$B$79)
A92: 12 | B92: =B61 -> 20 | C92: =IF(B92<15,$B$76,IF(B92>15,$B$78,$B$77)) -> 3003 | D92: 1.6 | E92: =_xlfn.TEXTJOIN(",",TRUE,A92,C92,B92,D92) -> 12,3003,20,1.6 | F92: =IF(MOD(A92,5)=0,1,"") | G92: =IF(F92="","",A92&"|"&$B$79)
A93: 13 | B93: =B62 -> 20 | C93: =IF(B93<15,$B$76,IF(B93>15,$B$78,$B$77)) -> 3003 | D93: 1.6 | E93: =_xlfn.TEXTJOIN(",",TRUE,A93,C93,B93,D93) -> 13,3003,20,1.6 | F93: =IF(MOD(A93,5)=0,1,"") | G93: =IF(F93="","",A93&"|"&$B$79)
A94: 14 | B94: =B63 -> 20 | C94: =IF(B94<15,$B$76,IF(B94>15,$B$78,$B$77)) -> 3003 | D94: 1.6 | E94: =_xlfn.TEXTJOIN(",",TRUE,A94,C94,B94,D94) -> 14,3003,20,1.6 | F94: =IF(MOD(A94,5)=0,1,"") | G94: =IF(F94="","",A94&"|"&$B$79)
A95: 15 | B95: =B64 -> 25 | C95: =IF(B95<15,$B$76,IF(B95>15,$B$78,$B$77)) -> 3003 | D95: 1.6 | E95: =_xlfn.TEXTJOIN(",",TRUE,A95,C95,B95,D95) -> 15,3003,25,1.6 | F95: =IF(MOD(A95,5)=0,1,"") -> 1 | G95: =IF(F95="","",A95&"|"&$B$79+2) -> 15|3103
A96: 16 | B96: =B65 -> 25 | C96: =IF(B96<15,$B$76,IF(B96>15,$B$78,$B$77)) -> 3003 | D96: 1.6 | E96: =_xlfn.TEXTJOIN(",",TRUE,A96,C96,B96,D96) -> 16,3003,25,1.6 | F96: =IF(MOD(A96,5)=0,1,"") | G96: =IF(F96="","",A96&"|"&$B$79)
A97: 17 | B97: =B66 -> 25 | C97: =IF(B97<15,$B$76,IF(B97>15,$B$78,$B$77)) -> 3003 | D97: 1.6 | E97: =_xlfn.TEXTJOIN(",",TRUE,A97,C97,B97,D97) -> 17,3003,25,1.6 | F97: =IF(MOD(A97,5)=0,1,"") | G97: =IF(F97="","",A97&"|"&$B$79)
A98: 18 | B98: =B67 -> 25 | C98: =IF(B98<15,$B$76,IF(B98>15,$B$78,$B$77)) -> 3003 | D98: 1.6 | E98: =_xlfn.TEXTJOIN(",",TRUE,A98,C98,B98,D98) -> 18,3003,25,1.6 | F98: =IF(MOD(A98,5)=0,1,"") | G98: =IF(F98="","",A98&"|"&$B$79)
A99: 19 | B99: =B68 -> 25 | C99: =IF(B99<15,$B$76,IF(B99>15,$B$78,$B$77)) -> 3003 | D99: 1.6 | E99: =_xlfn.TEXTJOIN(",",TRUE,A99,C99,B99,D99) -> 19,3003,25,1.6 | F99: =IF(MOD(A99,5)=0,1,"") | G99: =IF(F99="","",A99&"|"&$B$79)
A100: 20 | B100: =B69 -> 30 | C100: =IF(B100<15,$B$76,IF(B100>15,$B$78,$B$77)) -> 3003 | D100: 1.6 | E100: =_xlfn.TEXTJOIN(",",TRUE,A100,C100,B100,D100) -> 20,3003,30,1.6 | F100: =IF(MOD(A100,5)=0,1,"") -> 1 | G100: =IF(F100="","",A100&"|"&$B$79+3) -> 20|3104
A101: 21 | B101: =B70 -> 30 | C101: =IF(B101<15,$B$76,IF(B101>15,$B$78,$B$77)) -> 3003 | D101: 1.6 | E101: =_xlfn.TEXTJOIN(",",TRUE,A101,C101,B101,D101) -> 21,3003,30,1.6 | F101: =IF(MOD(A101,5)=0,1,"") | G101: =IF(F101="","",A101&"|"&$B$79)
A102: 22 | B102: =B71 -> 30 | C102: =IF(B102<15,$B$76,IF(B102>15,$B$78,$B$77)) -> 3003 | D102: 1.6 | E102: =_xlfn.TEXTJOIN(",",TRUE,A102,C102,B102,D102) -> 22,3003,30,1.6 | F102: =IF(MOD(A102,5)=0,1,"") | G102: =IF(F102="","",A102&"|"&$B$79)
A103: 23 | B103: =B72 -> 30 | C103: =IF(B103<15,$B$76,IF(B103>15,$B$78,$B$77)) -> 3003 | D103: 1.6 | E103: =_xlfn.TEXTJOIN(",",TRUE,A103,C103,B103,D103) -> 23,3003,30,1.6 | F103: =IF(MOD(A103,5)=0,1,"") | G103: =IF(F103="","",A103&"|"&$B$79)
A104: 24 | B104: =B73 -> 30 | C104: =IF(B104<15,$B$76,IF(B104>15,$B$78,$B$77)) -> 3003 | D104: 1.6 | E104: =_xlfn.TEXTJOIN(",",TRUE,A104,C104,B104,D104) -> 24,3003,30,1.6 | F104: =IF(MOD(A104,5)=0,1,"") | G104: =IF(F104="","",A104&"|"&$B$79)
A105: 25 | B105: =B74 -> 40 | C105: =IF(B105<15,$B$76,IF(B105>15,$B$78,$B$77)) -> 3003 | D105: 1.6 | E105: =_xlfn.TEXTJOIN(",",TRUE,A105,C105,B105,D105) -> 25,3003,40,1.6 | F105: =IF(MOD(A105,5)=0,1,"") -> 1 | G105: =IF(F105="","",A105&"|"&$B$79+4) -> 25|3105
A107: 怪物id | B107: 4001
...

Sheet 血量配置
A1: 类型 | B1: 类型名称 | C1: 攻击距离 | D1: 系数 | E1: 攻击数量 | F1: 技能系数 | G1: 冷却时间 | J1: 冷却时间 | K1: 技能等级 | L1: 技能伤害 | M1: 倍数 | N1: 对应等级 | P1: 技能三选1 | Q1: 品质 | R1: 倍数
A2: 1 | B2: 刀 | C2: 1 | D2: 1 | E2: 1 | F2: =D2/E2 -> 1 | G2: 0.8 | J2: 25 | K2: 1 | L2: =J2*(M2-1) -> 2.5 | M2: 1.1 | N2: 1 | P2: 1 | Q2: 绿 | R2: 0.25
A3: 2 | B3: 枪 | C3: 2 | D3: 1.5 | E3: 2 | F3: =D3/E3 -> 0.75 | G3: 1 | J3: 20 | K3: 2 | L3: =J3*(M3-1) -> 3 | M3: 1.15 | N3: 4 | P3: 2 | Q3: 蓝 | R3: 0.5
A4: 3 | B4: 棍 | C4: 1.5 | D4: 1.8 | E4: 3 | F4: =D4/E4 -> 0.6 | G4: 1 | J4: 16 | K4: 3 | L4: =J4*(M4-1) -> 3.2 | M4: 1.2 | N4: 7 | P4: 3 | Q4: 紫 | R4: 1
A5: 4 | B5: 弓 | C5: 3 | D5: 0.7 | E5: 1 | F5: =D5/E5 -> 0.7 | G5: 0.8 | J5: 14.4 | K5: 4 | L5: =J5*(M5-1) -> 3.6 | M5: 1.25 | N5: 10 | P5: 4 | Q5: 橙 | R5: 4
A6: 5 | B6: 杖 | C6: 2.5 | D6: 0.8 | E6: 1 | F6: =D6/E6 -> 0.8 | G6: 1 | J6: 11.5 | K6: 5 | L6: =J6*(M6-1) -> 4.025 | M6: 1.35 | N6: 13 | P6: 5
E7: 1级概率 | F7: 2级概率 | G7: 3级概率 | H7: 4级概率 | J7: 波次结算 | K7: 蓝 | L7: 紫 | M7: 橙
A8: 初始金币 | B8: 125 | C8: 单次消耗 | D8: 50 | E8: 80 | F8: 10 | G8: 5 | H8: 4 | J8: 70 | N8: 1.33
A9: 波次 | B9: 怪物数量 | C9: 金币数量 | E9: 数量 | F9: 单系数量 | G9: 三选一数量 | H9: 技能倍数 | I9: 秒伤计算 | J9: 攻击时间 | K9: 刷怪时间 | L9: 总血量 | M9: 计算血量 | N9: 血量系数 | O9: 1 | P9: 2 | Q9: 3 | R9: 4 | S9: 5 | T9: 6 | U9: 7 | V9: 8 | W9: 9 | X9: 10 | Y9: 11 | Z9: 12 | AA9: 13 | AB9: 14 | AC9: 15 | AD9: 16 | AE9: 17 | AF9: 18 | AG9: 19 | AH9: 20 | AI9: 秒伤计算 | AJ9: 总血量 | AK9: 计算血量 | AL9: 宝石加成
A10: 1 | B10: 10 | C10: =B8 -> 125 | D10: =ROUNDDOWN(C10/$D$8,0)*5 -> 10 | E10: =ROUNDDOWN(D10*$F$8/100,0)*1+ROUNDDOWN(D10*$G$8/100,0)*3+ROUNDDOWN(D10*$H$8/100,0)*7+1 -> 2 | F10: =IF(ROUND((D10+E10)/5,0)>64,64,ROUND((D10+E10)/5,0)) -> 2 | G10: 0 | H10: 1 | I10: =INDEX($R$56:$R$119,MATCH(F10,$A$56:$A$119,0))*5*H10 -> 11 | J10: 10 | K10: 10 | L10: =I10*(J10+K10) -> 220 | M10: =L10/B10 -> 22 | N10: 0.2 | O10: =ROUND(M10*N10,0) -> 4 | P10: =ROUND($O$10*$N$8^(P9-1),0) -> 5 | Q10: =ROUND($O$10*$N$8^(Q9-1),0) -> 7 | R10: =ROUND($O$10*$N$8^(R9-1),0) -> 9 | S10: =ROUND($O$10*$N$8^(S9-1),0) -> 13 | T10: =ROUND($O$10*$N$8^(T9-1),0) -> 17 | U10: =ROUND($O$10*$N$8^(U9-1),0) -> 22 | V10: =ROUND($O$10*$N$8^(V9-1),0) -> 29 | W10: =ROUND($O$10*$N$8^(W9-1),0) -> 39 | ... AG10: =ROUND($O$10*$N$8^(AG9-1),0) -> 678 | AH10: =ROUND(AK10*AL10*N10,0) -> 1519 | AI10: =INDEX($R$454:$R$517,MATCH(F10,$A$56:$A$119,0))*5*H10 -> 576 | AJ10: =AI10*(J10+K10) -> 11520 | AK10: =AJ10/B10 -> 1152 | AL10: =1.3*1.3*1.3*3 -> 6.591
A11: 2 | B11: 10 | C11: =C10+$J$8 -> 195 | D11: =ROUNDDOWN(C11/$D$8,0)*5 -> 15 | E11: =ROUNDDOWN(D11*$F$8/100,0)*1+ROUNDDOWN(D11*$G$8/100,0)*3+ROUNDDOWN(D11*$H$8/100,0)*7+3 -> 4 | F11: =IF(ROUND((D11+E11)/5,0)>64,64,ROUND((D11+E11)/5,0)) -> 4 | G11: 0 | H11: 1 | I11: =INDEX($R$56:$R$119,MATCH(F11,$A$56:$A$119,0))*5*H11 -> 22 | J11: 10 | K11: 10 | L11: =I11*(J11+K11) -> 440 | M11: =L11/B11 -> 44 | N11: 0.25 | O11: =ROUND(M11*N11,0) -> 11 | P11: =ROUND($O$11*$N$8^(P9-1),0) -> 15 | Q11: =ROUND($O$11*$N$8^(Q9-1),0) -> 19 | R11: =ROUND($O$11*$N$8^(R9-1),0) -> 26 | S11: =ROUND($O$11*$N$8^(S9-1),0) -> 34 | T11: =ROUND($O$11*$N$8^(T9-1),0) -> 46 | U11: =ROUND($O$11*$N$8^(U9-1),0) -> 61 | V11: =ROUND($O$11*$N$8^(V9-1),0) -> 81 | W11: =ROUND($O$11*$N$8^(W9-1),0) -> 108 | ... AG11: =ROUND($O$11*$N$8^(AG9-1),0) -> 1865 | AH11: =ROUND(AK11*AL11*N11,0) -> 2847 | AI11: =INDEX($R$454:$R$517,MATCH(F11,$A$56:$A$119,0))*5*H11 -> 864 | AJ11: =AI11*(J11+K11) -> 17280 | AK11: =AJ11/B11 -> 1728 | AL11: =1.3*1.3*1.3*3 -> 6.591
A12: 3 | B12: 10 | C12: =C11+$J$8 -> 265 | D12: =ROUNDDOWN(C12/$D$8,0)*5 -> 25 | E12: =ROUNDDOWN(D12*$F$8/100,0)*1+ROUNDDOWN(D12*$G$8/100,0)*3+ROUNDDOWN(D12*$H$8/100,0)*7+5 -> 17 | F12: =IF(ROUND((D12+E12)/5,0)>64,64,ROUND((D12+E12)/5,0)) -> 8 | G12: 1 | H12: 1.5 | I12: =INDEX($R$56:$R$119,MATCH(F12,$A$56:$A$119,0))*5*H12 -> 103.5 | J12: 10 | K12: 10 | L12: =I12*(J12+K12) -> 2070 | M12: =L12/B12 -> 207 | N12: 0.3 | O12: =ROUND(M12*N12,0) -> 62 | P12: =ROUND($O$12*$N$8^(P9-1),0) -> 82 | Q12: =ROUND($O$12*$N$8^(Q9-1),0) -> 110 | R12: =ROUND($O$12*$N$8^(R9-1),0) -> 146 | S12: =ROUND($O$12*$N$8^(S9-1),0) -> 194 | T12: =ROUND($O$12*$N$8^(T9-1),0) -> 258 | U12: =ROUND($O$12*$N$8^(U9-1),0) -> 343 | V12: =ROUND($O$12*$N$8^(V9-1),0) -> 456 | W12: =ROUND($O$12*$N$8^(W9-1),0) -> 607 | ... AG12: =ROUND($O$12*$N$8^(AG9-1),0) -> 10513 | AH12: =ROUND(AK12*AL12*N12,0) -> 10677 | AI12: =INDEX($R$454:$R$517,MATCH(F12,$A$56:$A$119,0))*5*H12 -> 2700 | AJ12: =AI12*(J12+K12) -> 54000 | AK12: =AJ12/B12 -> 5400 | AL12: =1.3*1.3*1.3*3 -> 6.591
A13: 4 | B13: 10 | C13: =C12+$J$8 -> 335 | D13: =ROUNDDOWN(C13/$D$8,0)*5 -> 30 | E13: =ROUNDDOWN(D13*$F$8/100,0)*1+ROUNDDOWN(D13*$G$8/100,0)*3+ROUNDDOWN(D13*$H$8/100,0)*7+7 -> 20 | F13: =IF(ROUND((D13+E13)/5,0)>64,64,ROUND((D13+E13)/5,0)) -> 10 | G13: 1 | H13: 1.5 | I13: =INDEX($R$56:$R$119,MATCH(F13,$A$56:$A$119,0))*5*H13 -> 120 | J13: 10 | K13: 10 | L13: =I13*(J13+K13) -> 2400 | M13: =L13/B13 -> 240 | N13: 0.35 | O13: =ROUND(M13*N13,0) -> 84 | P13: =ROUND($O$13*$N$8^(P9-1),0) -> 112 | Q13: =ROUND($O$13*$N$8^(Q9-1),0) -> 149 | R13: =ROUND($O$13*$N$8^(R9-1),0) -> 198 | S13: =ROUND($O$13*$N$8^(S9-1),0) -> 263 | T13: =ROUND($O$13*$N$8^(T9-1),0) -> 350 | U13: =ROUND($O$13*$N$8^(U9-1),0) -> 465 | V13: =ROUND($O$13*$N$8^(V9-1),0) -> 618 | W13: =ROUND($O$13*$N$8^(W9-1),0) -> 822 | ... AG13: =ROUND($O$13*$N$8^(AG9-1),0) -> 14243 | AH13: =ROUND(AK13*AL13*N13,0) -> 16443 | AI13: =INDEX($R$454:$R$517,MATCH(F13,$A$56:$A$119,0))*5*H13 -> 3564 | AJ13: =AI13*(J13+K13) -> 71280 | AK13: =AJ13/B13 -> 7128 | AL13: =1.3*1.3*1.3*3 -> 6.591
A14: 5 | B14: 15 | C14: =C13+$J$8 -> 405 | D14: =ROUNDDOWN(C14/$D$8,0)*5 -> 40 | E14: =ROUNDDOWN(D14*$F$8/100,0)*1+ROUNDDOWN(D14*$G$8/100,0)*3+ROUNDDOWN(D14*$H$8/100,0)*7+9 -> 26 | F14: =IF(ROUND((D14+E14)/5,0)>64,64,ROUND((D14+E14)/5,0)) -> 13 | G14: 1 | H14: 1.5 | I14: =INDEX($R$56:$R$119,MATCH(F14,$A$56:$A$119,0))*5*H14 -> 144.75 | J14: 10 | K14: 15 | L14: =I14*(J14+K14) -> 3618.75 | M14: =L14/B14 -> 241.25 | N14: 0.45 | O14: =ROUND(M14*N14,0) -> 109 | P14: =ROUND($O$14*$N$8^(P9-1),0) -> 145 | Q14: =ROUND($O$14*$N$8^(Q9-1),0) -> 193 | R14: =ROUND($O$14*$N$8^(R9-1),0) -> 256 | S14: =ROUND($O$14*$N$8^(S9-1),0) -> 341 | T14: =ROUND($O$14*$N$8^(T9-1),0) -> 454 | U14: =ROUND($O$14*$N$8^(U9-1),0) -> 603 | V14: =ROUND($O$14*$N$8^(V9-1),0) -> 802 | W14: =ROUND($O$14*$N$8^(W9-1),0) -> 1067 | ... AG14: =ROUND($O$14*$N$8^(AG9-1),0) -> 18482 | AH14: =ROUND(AK14*AL14*N14,0) -> 22556 | AI14: =INDEX($R$454:$R$517,MATCH(F14,$A$56:$A$119,0))*5*H14 -> 4563 | AJ14: =AI14*(J14+K14) -> 114075 | AK14: =AJ14/B14 -> 7605 | AL14: =1.3*1.3*1.3*3 -> 6.591
A15: 6 | B15: 15 | C15: =C14+$J$8 -> 475 | D15: =ROUNDDOWN(C15/$D$8,0)*5 -> 45 | E15: =ROUNDDOWN(D15*$F$8/100,0)*1+ROUNDDOWN(D15*$G$8/100,0)*3+ROUNDDOWN(D15*$H$8/100,0)*7+11 -> 28 | F15: =IF(ROUND((D15+E15)/5,0)>64,64,ROUND((D15+E15)/5,0)) -> 15 | G15: 2 | H15: 2.25 | I15: =INDEX($R$56:$R$119,MATCH(F15,$A$56:$A$119,0))*5*H15 -> 241.875 | J15: 10 | K15: 15 | L15: =I15*(J15+K15) -> 6046.875 | M15: =L15/B15 -> 403.125 | N15: 0.52 | O15: =ROUND(M15*N15,0) -> 210 | P15: =ROUND($O$15*$N$8^(P9-1),0) -> 279 | Q15: =ROUND($O$15*$N$8^(Q9-1),0) -> 371 | R15: =ROUND($O$15*$N$8^(R9-1),0) -> 494 | S15: =ROUND($O$15*$N$8^(S9-1),0) -> 657 | T15: =ROUND($O$15*$N$8^(T9-1),0) -> 874 | U15: =ROUND($O$15*$N$8^(U9-1),0) -> 1162 | V15: =ROUND($O$15*$N$8^(V9-1),0) -> 1546 | W15: =ROUND($O$15*$N$8^(W9-1),0) -> 2056 | ... AG15: =ROUND($O$15*$N$8^(AG9-1),0) -> 35608 | AH15: =ROUND(AK15*AL15*N15,0) -> 46500 | AI15: =INDEX($R$454:$R$517,MATCH(F15,$A$56:$A$119,0))*5*H15 -> 8140.5 | AJ15: =AI15*(J15+K15) -> 203512.5 | AK15: =AJ15/B15 -> 13567.5 | AL15: =1.3*1.3*1.3*3 -> 6.591
A16: 7 | B16: 15 | C16: =C15+$J$8 -> 545 | D16: =ROUNDDOWN(C16/$D$8,0)*5 -> 50 | E16: =ROUNDDOWN(D16*$F$8/100,0)*1+ROUNDDOWN(D16*$G$8/100,0)*3+ROUNDDOWN(D16*$H$8/100,0)*7+13 -> 38 | F16: =IF(ROUND((D16+E16)/5,0)>64,64,ROUND((D16+E16)/5,0)) -> 18 | G16: 2 | H16: 2.25 | I16: =INDEX($R$56:$R$119,MATCH(F16,$A$56:$A$119,0))*5*H16 -> 257.625 | J16: 10 | K16: 15 | L16: =I16*(J16+K16) -> 6440.625 | M16: =L16/B16 -> 429.375 | N16: 0.59 | O16: =ROUND(M16*N16,0) -> 253 | P16: =ROUND($O$16*$N$8^(P9-1),0) -> 336 | Q16: =ROUND($O$16*$N$8^(Q9-1),0) -> 448 | R16: =ROUND($O$16*$N$8^(R9-1),0) -> 595 | S16: =ROUND($O$16*$N$8^(S9-1),0) -> 792 | T16: =ROUND($O$16*$N$8^(T9-1),0) -> 1053 | U16: =ROUND($O$16*$N$8^(U9-1),0) -> 1400 | V16: =ROUND($O$16*$N$8^(V9-1),0) -> 1862 | W16: =ROUND($O$16*$N$8^(W9-1),0) -> 2477 | ... AG16: =ROUND($O$16*$N$8^(AG9-1),0) -> 42899 | AH16: =ROUND(AK16*AL16*N16,0) -> 47773 | AI16: =INDEX($R$454:$R$517,MATCH(F16,$A$56:$A$119,0))*5*H16 -> 7371 | AJ16: =AI16*(J16+K16) -> 184275 | AK16: =AJ16/B16 -> 12285 | AL16: =1.3*1.3*1.3*3 -> 6.591
A17: 8 | B17: 15 | C17: =C16+$J$8 -> 615 | D17: =ROUNDDOWN(C17/$D$8,0)*5 -> 60 | E17: =ROUNDDOWN(D17*$F$8/100,0)*1+ROUNDDOWN(D17*$G$8/100,0)*3+ROUNDDOWN(D17*$H$8/100,0)*7+15 -> 44 | F17: =IF(ROUND((D17+E17)/5,0)>64,64,ROUND((D17+E17)/5,0)) -> 21 | G17: 2 | H17: 2.25 | I17: =INDEX($R$56:$R$119,MATCH(F17,$A$56:$A$119,0))*5*H17 -> 294.75 | J17: 10 | K17: 15 | L17: =I17*(J17+K17) -> 7368.75 | M17: =L17/B17 -> 491.25 | N17: 0.66 | O17: =ROUND(M17*N17,0) -> 324 | P17: =ROUND($O$17*$N$8^(P9-1),0) -> 431 | Q17: =ROUND($O$17*$N$8^(Q9-1),0) -> 573 | R17: =ROUND($O$17*$N$8^(R9-1),0) -> 762 | S17: =ROUND($O$17*$N$8^(S9-1),0) -> 1014 | T17: =ROUND($O$17*$N$8^(T9-1),0) -> 1348 | U17: =ROUND($O$17*$N$8^(U9-1),0) -> 1793 | V17: =ROUND($O$17*$N$8^(V9-1),0) -> 2385 | W17: =ROUND($O$17*$N$8^(W9-1),0) -> 3172 | ... AG17: =ROUND($O$17*$N$8^(AG9-1),0) -> 54938 | AH17: =ROUND(AK17*AL17*N17,0) -> 64305 | AI17: =INDEX($R$454:$R$517,MATCH(F17,$A$56:$A$119,0))*5*H17 -> 8869.5 | AJ17: =AI17*(J17+K17) -> 221737.5 | AK17: =AJ17/B17 -> 14782.5 | AL17: =1.3*1.3*1.3*3 -> 6.591
A18: 9 | B18: 15 | C18: =C17+$J$8 -> 685 | D18: =ROUNDDOWN(C18/$D$8,0)*5 -> 65 | E18: =ROUNDDOWN(D18*$F$8/100,0)*1+ROUNDDOWN(D18*$G$8/100,0)*3+ROUNDDOWN(D18*$H$8/100,0)*7+15 -> 44 | F18: =IF(ROUND((D18+E18)/5,0)>64,64,ROUND((D18+E18)/5,0)) -> 22 | G18: 2 | H18: 2.25 | I18: =INDEX($R$56:$R$119,MATCH(F18,$A$56:$A$119,0))*5*H18 -> 307.125 | J18: 10 | K18: 15 | L18: =I18*(J18+K18) -> 7678.125 | M18: =L18/B18 -> 511.875 | N18: 0.73 | O18: =ROUND(M18*N18,0) -> 374 | P18: =ROUND($O$18*$N$8^(P9-1),0) -> 497 | Q18: =ROUND($O$18*$N$8^(Q9-1),0) -> 662 | R18: =ROUND($O$18*$N$8^(R9-1),0) -> 880 | S18: =ROUND($O$18*$N$8^(S9-1),0) -> 1170 | T18: =ROUND($O$18*$N$8^(T9-1),0) -> 1556 | U18: =ROUND($O$18*$N$8^(U9-1),0) -> 2070 | V18: =ROUND($O$18*$N$8^(V9-1),0) -> 2753 | W18: =ROUND($O$18*$N$8^(W9-1),0) -> 3662 | ... AG18: =ROUND($O$18*$N$8^(AG9-1),0) -> 63416 | AH18: =ROUND(AK18*AL18*N18,0) -> 74697 | AI18: =INDEX($R$454:$R$517,MATCH(F18,$A$56:$A$119,0))*5*H18 -> 9315 | AJ18: =AI18*(J18+K18) -> 232875 | AK18: =AJ18/B18 -> 15525 | AL18: =1.3*1.3*1.3*3 -> 6.591
A19: 10 | B19: 20 | C19: =C18+$J$8 -> 755 | D19: =ROUNDDOWN(C19/$D$8,0)*5 -> 75 | E19: =ROUNDDOWN(D19*$F$8/100,0)*1+ROUNDDOWN(D19*$G$8/100,0)*3+ROUNDDOWN(D19*$H$8/100,0)*7+15 -> 52 | F19: =IF(ROUND((D19+E19)/5,0)>64,64,ROUND((D19+E19)/5,0)) -> 25 | G19: 3 | H19: 3.75 | I19: =INDEX($R$56:$R$119,MATCH(F19,$A$56:$A$119,0))*5*H19 -> 667.5 | J19: 10 | K19: 20 | L19: =I19*(J19+K19) -> 20025 | M19: =L19/B19 -> 1001.25 | N19: 0.83 | O19: =ROUND(M19*N19,0) -> 831 | P19: =ROUND($O$19*$N$8^(P9-1),0) -> 1105 | Q19: =ROUND($O$19*$N$8^(Q9-1),0) -> 1470 | R19: =ROUND($O$19*$N$8^(R9-1),0) -> 1955 | S19: =ROUND($O$19*$N$8^(S9-1),0) -> 2600 | T19: =ROUND($O$19*$N$8^(T9-1),0) -> 3458 | U19: =ROUND($O$19*$N$8^(U9-1),0) -> 4600 | V19: =ROUND($O$19*$N$8^(V9-1),0) -> 6117 | W19: =ROUND($O$19*$N$8^(W9-1),0) -> 8136 | ... AG19: =ROUND($O$19*$N$8^(AG9-1),0) -> 140906 | AH19: =ROUND(AK19*AL19*N19,0) -> 150105 | AI19: =INDEX($R$454:$R$517,MATCH(F19,$A$56:$A$119,0))*5*H19 -> 18292.5 | AJ19: =AI19*(J19+K19) -> 548775 | AK19: =AJ19/B19 -> 27438.75 | AL19: =1.3*1.3*1.3*3 -> 6.591
A20: 11 | B20: 20 | C20: =C19+$J$8 -> 825 | D20: =ROUNDDOWN(C20/$D$8,0)*5 -> 80 | E20: =ROUNDDOWN(D20*$F$8/100,0)*1+ROUNDDOWN(D20*$G$8/100,0)*3+ROUNDDOWN(D20*$H$8/100,0)*7+15 -> 56 | F20: =IF(ROUND((D20+E20)/5,0)>64,64,ROUND((D20+E20)/5,0)) -> 27 | G20: 3 | H20: 3.75 | I20: =INDEX($R$56:$R$119,MATCH(F20,$A$56:$A$119,0))*5*H20 -> 708.75 | J20: 10 | K20: 20 | L20: =I20*(J20+K20) -> 21262.5 | M20: =L20/B20 -> 1063.125 | N20: 0.93 | O20: =ROUND(M20*N20,0) -> 989 | P20: =ROUND($O$20*$N$8^(P9-1),0) -> 1315 | Q20: =ROUND($O$20*$N$8^(Q9-1),0) -> 1749 | R20: =ROUND($O$20*$N$8^(R9-1),0) -> 2327 | S20: =ROUND($O$20*$N$8^(S9-1),0) -> 3095 | T20: =ROUND($O$20*$N$8^(T9-1),0) -> 4116 | U20: =ROUND($O$20*$N$8^(U9-1),0) -> 5474 | V20: =ROUND($O$20*$N$8^(V9-1),0) -> 7280 | W20: =ROUND($O$20*$N$8^(W9-1),0) -> 9683 | ... AG20: =ROUND($O$20*$N$8^(AG9-1),0) -> 167697 | AH20: =ROUND(AK20*AL20*N20,0) -> 188049 | AI20: =INDEX($R$454:$R$517,MATCH(F20,$A$56:$A$119,0))*5*H20 -> 20452.5 | AJ20: =AI20*(J20+K20) -> 613575 | AK20: =AJ20/B20 -> 30678.75 | AL20: =1.3*1.3*1.3*3 -> 6.591
A21: 12 | B21: 20 | C21: =C20+$J$8 -> 895 | D21: =ROUNDDOWN(C21/$D$8,0)*5 -> 85 | E21: =ROUNDDOWN(D21*$F$8/100,0)*1+ROUNDDOWN(D21*$G$8/100,0)*3+ROUNDDOWN(D21*$H$8/100,0)*7+15 -> 56 | F21: =IF(ROUND((D21+E21)/5,0)>64,64,ROUND((D21+E21)/5,0)) -> 28 | G21: 3 | H21: 3.75 | I21: =INDEX($R$56:$R$119,MATCH(F21,$A$56:$A$119,0))*5*H21 -> 729.375 | J21: 10 | K21: 20 | L21: =I21*(J21+K21) -> 21881.25 | M21: =L21/B21 -> 1094.0625 | N21: 1.03 | O21: =ROUND(M21*N21,0) -> 1127 | P21: =ROUND($O$21*$N$8^(P9-1),0) -> 1499 | Q21: =ROUND($O$21*$N$8^(Q9-1),0) -> 1994 | R21: =ROUND($O$21*$N$8^(R9-1),0) -> 2651 | S21: =ROUND($O$21*$N$8^(S9-1),0) -> 3526 | T21: =ROUND($O$21*$N$8^(T9-1),0) -> 4690 | U21: =ROUND($O$21*$N$8^(U9-1),0) -> 6238 | V21: =ROUND($O$21*$N$8^(V9-1),0) -> 8296 | W21: =ROUND($O$21*$N$8^(W9-1),0) -> 11034 | ... AG21: =ROUND($O$21*$N$8^(AG9-1),0) -> 191097 | AH21: =ROUND(AK21*AL21*N21,0) -> 204833 | AI21: =INDEX($R$454:$R$517,MATCH(F21,$A$56:$A$119,0))*5*H21 -> 20115 | AJ21: =AI21*(J21+K21) -> 603450 | AK21: =AJ21/B21 -> 30172.5 | AL21: =1.3*1.3*1.3*3 -> 6.591
A22: 13 | B22: 20 | C22: =C21+$J$8 -> 965 | D22: =ROUNDDOWN(C22/$D$8,0)*5 -> 95 | E22: =ROUNDDOWN(D22*$F$8/100,0)*1+ROUNDDOWN(D22*$G$8/100,0)*3+ROUNDDOWN(D22*$H$8/100,0)*7+15 -> 57 | F22: =IF(ROUND((D22+E22)/5,0)>64,64,ROUND((D22+E22)/5,0)) -> 30 | G22: 3 | H22: 3.75 | I22: =INDEX($R$56:$R$119,MATCH(F22,$A$56:$A$119,0))*5*H22 -> 770.625 | J22: 10 | K22: 20 | L22: =I22*(J22+K22) -> 23118.75 | M22: =L22/B22 -> 1155.9375 | N22: 1.13 | O22: =ROUND(M22*N22,0) -> 1306 | P22: =ROUND($O$22*$N$8^(P9-1),0) -> 1737 | Q22: =ROUND($O$22*$N$8^(Q9-1),0) -> 2310 | R22: =ROUND($O$22*$N$8^(R9-1),0) -> 3073 | S22: =ROUND($O$22*$N$8^(S9-1),0) -> 4086 | T22: =ROUND($O$22*$N$8^(T9-1),0) -> 5435 | U22: =ROUND($O$22*$N$8^(U9-1),0) -> 7229 | V22: =ROUND($O$22*$N$8^(V9-1),0) -> 9614 | W22: =ROUND($O$22*$N$8^(W9-1),0) -> 12787 | ... AG22: =ROUND($O$22*$N$8^(AG9-1),0) -> 221448 | AH22: =ROUND(AK22*AL22*N22,0) -> 248851 | AI22: =INDEX($R$454:$R$517,MATCH(F22,$A$56:$A$119,0))*5*H22 -> 22275 | AJ22: =AI22*(J22+K22) -> 668250 | AK22: =AJ22/B22 -> 33412.5 | AL22: =1.3*1.3*1.3*3 -> 6.591
A23: 14 | B23: 20 | C23: =C22+$J$8 -> 1035 | D23: =ROUNDDOWN(C23/$D$8,0)*5 -> 100 | E23: =ROUNDDOWN(D23*$F$8/100,0)*1+ROUNDDOWN(D23*$G$8/100,0)*3+ROUNDDOWN(D23*$H$8/100,0)*7+15 -> 68 | F23: =IF(ROUND((D23+E23)/5,0)>64,64,ROUND((D23+E23)/5,0)) -> 34 | G23: 3 | H23: 3.75 | I23: =INDEX($R$56:$R$119,MATCH(F23,$A$56:$A$119,0))*5*H23 -> 645 | J23: 10 | K23: 20 | L23: =I23*(J23+K23) -> 19350 | M23: =L23/B23 -> 967.5 | N23: 1.23 | O23: =ROUND(M23*N23,0) -> 1190 | P23: =ROUND($O$23*$N$8^(P9-1),0) -> 1583 | Q23: =ROUND($O$23*$N$8^(Q9-1),0) -> 2105 | R23: =ROUND($O$23*$N$8^(R9-1),0) -> 2800 | S23: =ROUND($O$23*$N$8^(S9-1),0) -> 3724 | T23: =ROUND($O$23*$N$8^(T9-1),0) -> 4952 | U23: =ROUND($O$23*$N$8^(U9-1),0) -> 6587 | V23: =ROUND($O$23*$N$8^(V9-1),0) -> 8760 | W23: =ROUND($O$23*$N$8^(W9-1),0) -> 11651 | ... AG23: =ROUND($O$23*$N$8^(AG9-1),0) -> 201779 | AH23: =ROUND(AK23*AL23*N23,0) -> 257124 | AI23: =INDEX($R$454:$R$517,MATCH(F23,$A$56:$A$119,0))*5*H23 -> 21144.375 | AJ23: =AI23*(J23+K23) -> 634331.25 | AK23: =AJ23/B23 -> 31716.562 | AL23: =1.3*1.3*1.3*3 -> 6.591
A24: 15 | B24: 25 | C24: =C23+$J$8 -> 1105 | D24: =ROUNDDOWN(C24/$D$8,0)*5 -> 110 | E24: =ROUNDDOWN(D24*$F$8/100,0)*1+ROUNDDOWN(D24*$G$8/100,0)*3+ROUNDDOWN(D24*$H$8/100,0)*7+15 -> 69 | F24: =IF(ROUND((D24+E24)/5,0)>64,64,ROUND((D24+E24)/5,0)) -> 36 | G24: 4 | H24: 5 | I24: =INDEX($R$56:$R$119,MATCH(F24,$A$56:$A$119,0))*5*H24 -> 915 | J24: 10 | K24: 25 | L24: =I24*(J24+K24) -> 32025 | M24: =L24/B24 -> 1281 | N24: 1.43 | O24: =ROUND(M24*N24,0) -> 1832 | P24: =ROUND($O$24*$N$8^(P9-1),0) -> 2437 | Q24: =ROUND($O$24*$N$8^(Q9-1),0) -> 3241 | R24: =ROUND($O$24*$N$8^(R9-1),0) -> 4310 | S24: =ROUND($O$24*$N$8^(S9-1),0) -> 5732 | T24: =ROUND($O$24*$N$8^(T9-1),0) -> 7624 | U24: =ROUND($O$24*$N$8^(U9-1),0) -> 10140 | V24: =ROUND($O$24*$N$8^(V9-1),0) -> 13486 | W24: =ROUND($O$24*$N$8^(W9-1),0) -> 17937 | ... AG24: =ROUND($O$24*$N$8^(AG9-1),0) -> 310638 | AH24: =ROUND(AK24*AL24*N24,0) -> 391006 | AI24: =INDEX($R$454:$R$517,MATCH(F24,$A$56:$A$119,0))*5*H24 -> 29632.5 | AJ24: =AI24*(J24+K24) -> 1037137.5 | AK24: =AJ24/B24 -> 41485.5 | AL24: =1.3*1.3*1.3*3 -> 6.591
A25: 16 | B25: 25 | C25: =C24+$J$8 -> 1175 | D25: =ROUNDDOWN(C25/$D$8,0)*5 -> 115 | E25: =ROUNDDOWN(D25*$F$8/100,0)*1+ROUNDDOWN(D25*$G$8/100,0)*3+ROUNDDOWN(D25*$H$8/100,0)*7+15 -> 69 | F25: =IF(ROUND((D25+E25)/5,0)>64,64,ROUND((D25+E25)/5,0)) -> 37 | G25: 4 | H25: 5 | I25: =INDEX($R$56:$R$119,MATCH(F25,$A$56:$A$119,0))*5*H25 -> 942.5 | J25: 10 | K25: 25 | L25: =I25*(J25+K25) -> 32987.5 | M25: =L25/B25 -> 1319.5 | N25: 1.63 | O25: =ROUND(M25*N25,0) -> 2151 | P25: =ROUND($O$25*$N$8^(P9-1),0) -> 2861 | Q25: =ROUND($O$25*$N$8^(Q9-1),0) -> 3805 | R25: =ROUND($O$25*$N$8^(R9-1),0) -> 5061 | S25: =ROUND($O$25*$N$8^(S9-1),0) -> 6730 | T25: =ROUND($O$25*$N$8^(T9-1),0) -> 8952 | U25: =ROUND($O$25*$N$8^(U9-1),0) -> 11906 | V25: =ROUND($O$25*$N$8^(V9-1),0) -> 15834 | W25: =ROUND($O$25*$N$8^(W9-1),0) -> 21060 | ... AG25: =ROUND($O$25*$N$8^(AG9-1),0) -> 364729 | AH25: =ROUND(AK25*AL25*N25,0) -> 474119 | AI25: =INDEX($R$454:$R$517,MATCH(F25,$A$56:$A$119,0))*5*H25 -> 31522.5 | AJ25: =AI25*(J25+K25) -> 1103287.5 | AK25: =AJ25/B25 -> 44131.5 | AL25: =1.3*1.3*1.3*3 -> 6.591
A26: 17 | B26: 25 | C26: =C25+$J$8 -> 1245 | D26: =ROUNDDOWN(C26/$D$8,0)*5 -> 120 | E26: =ROUNDDOWN(D26*$F$8/100,0)*1+ROUNDDOWN(D26*$G$8/100,0)*3+ROUNDDOWN(D26*$H$8/100,0)*7+15 -> 73 | F26: =IF(ROUND((D26+E26)/5,0)>64,64,ROUND((D26+E26)/5,0)) -> 39 | G26: 4 | H26: 5 | I26: =INDEX($R$56:$R$119,MATCH(F26,$A$56:$A$119,0))*5*H26 -> 997.5 | J26: 10 | K26: 25 | L26: =I26*(J26+K26) -> 34912.5 | M26: =L26/B26 -> 1396.5 | N26: 1.83 | O26: =ROUND(M26*N26,0) -> 2556 | P26: =ROUND($O$26*$N$8^(P9-1),0) -> 3399 | Q26: =ROUND($O$26*$N$8^(Q9-1),0) -> 4521 | R26: =ROUND($O$26*$N$8^(R9-1),0) -> 6013 | S26: =ROUND($O$26*$N$8^(S9-1),0) -> 7998 | T26: =ROUND($O$26*$N$8^(T9-1),0) -> 10637 | U26: =ROUND($O$26*$N$8^(U9-1),0) -> 14147 | V26: =ROUND($O$26*$N$8^(V9-1),0) -> 18816 | W26: =ROUND($O$26*$N$8^(W9-1),0) -> 25025 | ... AG26: =ROUND($O$26*$N$8^(AG9-1),0) -> 433401 | AH26: =ROUND(AK26*AL26*N26,0) -> 580926 | AI26: =INDEX($R$454:$R$517,MATCH(F26,$A$56:$A$119,0))*5*H26 -> 34402.5 | AJ26: =AI26*(J26+K26) -> 1204087.5 | AK26: =AJ26/B26 -> 48163.5 | AL26: =1.3*1.3*1.3*3 -> 6.591
A27: 18 | B27: 25 | C27: =C26+$J$8 -> 1315 | D27: =ROUNDDOWN(C27/$D$8,0)*5 -> 130 | E27: =ROUNDDOWN(D27*$F$8/100,0)*1+ROUNDDOWN(D27*$G$8/100,0)*3+ROUNDDOWN(D27*$H$8/100,0)*7+15 -> 81 | F27: =IF(ROUND((D27+E27)/5,0)>64,64,ROUND((D27+E27)/5,0)) -> 42 | G27: 4 | H27: 5 | I27: =INDEX($R$56:$R$119,MATCH(F27,$A$56:$A$119,0))*5*H27 -> 1205 | J27: 10 | K27: 25 | L27: =I27*(J27+K27) -> 42175 | M27: =L27/B27 -> 1687 | N27: 2.03 | O27: =ROUND(M27*N27,0) -> 3425 | P27: =ROUND($O$27*$N$8^(P9-1),0) -> 4555 | Q27: =ROUND($O$27*$N$8^(Q9-1),0) -> 6058 | R27: =ROUND($O$27*$N$8^(R9-1),0) -> 8058 | S27: =ROUND($O$27*$N$8^(S9-1),0) -> 10717 | T27: =ROUND($O$27*$N$8^(T9-1),0) -> 14253 | U27: =ROUND($O$27*$N$8^(U9-1),0) -> 18957 | V27: =ROUND($O$27*$N$8^(V9-1),0) -> 25213 | W27: =ROUND($O$27*$N$8^(W9-1),0) -> 33533 | ... AG27: =ROUND($O$27*$N$8^(AG9-1),0) -> 580751 | AH27: =ROUND(AK27*AL27*N27,0) -> 696676 | AI27: =INDEX($R$454:$R$517,MATCH(F27,$A$56:$A$119,0))*5*H27 -> 37192.5 | AJ27: =AI27*(J27+K27) -> 1301737.5 | AK27: =AJ27/B27 -> 52069.5 | AL27: =1.3*1.3*1.3*3 -> 6.591
A28: 19 | B28: 25 | C28: =C27+$J$8 -> 1385 | D28: =ROUNDDOWN(C28/$D$8,0)*5 -> 135 | E28: =ROUNDDOWN(D28*$F$8/100,0)*1+ROUNDDOWN(D28*$G$8/100,0)*3+ROUNDDOWN(D28*$H$8/100,0)*7+15 -> 81 | F28: =IF(ROUND((D28+E28)/5,0)>64,64,ROUND((D28+E28)/5,0)) -> 43 | G28: 4 | H28: 5 | I28: =INDEX($R$56:$R$119,MATCH(F28,$A$56:$A$119,0))*5*H28 -> 1232.5 | J28: 10 | K28: 25 | L28: =I28*(J28+K28) -> 43137.5 | M28: =L28/B28 -> 1725.5 | N28: 2.23 | O28: =ROUND(M28*N28,0) -> 3848 | P28: =ROUND($O$28*$N$8^(P9-1),0) -> 5118 | Q28: =ROUND($O$28*$N$8^(Q9-1),0) -> 6807 | R28: =ROUND($O$28*$N$8^(R9-1),0) -> 9053 | S28: =ROUND($O$28*$N$8^(S9-1),0) -> 12040 | T28: =ROUND($O$28*$N$8^(T9-1),0) -> 16014 | U28: =ROUND($O$28*$N$8^(U9-1),0) -> 21298 | V28: =ROUND($O$28*$N$8^(V9-1),0) -> 28327 | W28: =ROUND($O$28*$N$8^(W9-1),0) -> 37675 | ... AG28: =ROUND($O$28*$N$8^(AG9-1),0) -> 652476 | AH28: =ROUND(AK28*AL28*N28,0) -> 804205 | AI28: =INDEX($R$454:$R$517,MATCH(F28,$A$56:$A$119,0))*5*H28 -> 39082.5 | AJ28: =AI28*(J28+K28) -> 1367887.5 | AK28: =AJ28/B28 -> 54715.5 | AL28: =1.3*1.3*1.3*3 -> 6.591
A29: 20 | B29: 30 | C29: =C28+$J$8 -> 1455 | D29: =ROUNDDOWN(C29/$D$8,0)*5 -> 145 | E29: =ROUNDDOWN(D29*$F$8/100,0)*1+ROUNDDOWN(D29*$G$8/100,0)*3+ROUNDDOWN(D29*$H$8/100,0)*7+15 -> 85 | F29: =IF(ROUND((D29+E29)/5,0)>64,64,ROUND((D29+E29)/5,0)) -> 46 | G29: 5 | H29: 7.5 | I29: =INDEX($R$56:$R$119,MATCH(F29,$A$56:$A$119,0))*5*H29 -> 1972.5 | J29: 10 | K29: 30 | L29: =I29*(J29+K29) -> 78900 | M29: =L29/B29 -> 2630 | N29: 2.53 | O29: =ROUND(M29*N29,0) -> 6654 | P29: =ROUND($O$29*$N$8^(P9-1),0) -> 8850 | Q29: =ROUND($O$29*$N$8^(Q9-1),0) -> 11770 | R29: =ROUND($O$29*$N$8^(R9-1),0) -> 15654 | S29: =ROUND($O$29*$N$8^(S9-1),0) -> 20820 | T29: =ROUND($O$29*$N$8^(T9-1),0) -> 27691 | U29: =ROUND($O$29*$N$8^(U9-1),0) -> 36829 | V29: =ROUND($O$29*$N$8^(V9-1),0) -> 48983 | W29: =ROUND($O$29*$N$8^(W9-1),0) -> 65147 | ... AG29: =ROUND($O$29*$N$8^(AG9-1),0) -> 1128268 | AH29: =ROUND(AK29*AL29*N29,0) -> 1384461 | AI29: =INDEX($R$454:$R$517,MATCH(F29,$A$56:$A$119,0))*5*H29 -> 62268.75 | AJ29: =AI29*(J29+K29) -> 2490750 | AK29: =AJ29/B29 -> 83025 | AL29: =1.3*1.3*1.3*3 -> 6.591
A30: 21 | B30: 30 | C30: =C29+$J$8 -> 1525 | D30: =ROUNDDOWN(C30/$D$8,0)*5 -> 150 | E30: =ROUNDDOWN(D30*$F$8/100,0)*1+ROUNDDOWN(D30*$G$8/100,0)*3+ROUNDDOWN(D30*$H$8/100,0)*7+15 -> 93 | F30: =IF(ROUND((D30+E30)/5,0)>64,64,ROUND((D30+E30)/5,0)) -> 49 | G30: 5 | H30: 7.5 | I30: =INDEX($R$56:$R$119,MATCH(F30,$A$56:$A$119,0))*5*H30 -> 2025 | J30: 10 | K30: 30 | L30: =I30*(J30+K30) -> 81000 | M30: =L30/B30 -> 2700 | N30: 3.03 | O30: =ROUND(M30*N30,0) -> 8181 | P30: =ROUND($O$30*$N$8^(P9-1),0) -> 10881 | Q30: =ROUND($O$30*$N$8^(Q9-1),0) -> 14471 | R30: =ROUND($O$30*$N$8^(R9-1),0) -> 19247 | S30: =ROUND($O$30*$N$8^(S9-1),0) -> 25598 | T30: =ROUND($O$30*$N$8^(T9-1),0) -> 34046 | U30: =ROUND($O$30*$N$8^(U9-1),0) -> 45281 | V30: =ROUND($O$30*$N$8^(V9-1),0) -> 60224 | W30: =ROUND($O$30*$N$8^(W9-1),0) -> 80098 | ... AG30: =ROUND($O$30*$N$8^(AG9-1),0) -> 1387190 | AH30: =ROUND(AK30*AL30*N30,0) -> 1625717 | AI30: =INDEX($R$454:$R$517,MATCH(F30,$A$56:$A$119,0))*5*H30 -> 61053.75 | AJ30: =AI30*(J30+K30) -> 2442150 | AK30: =AJ30/B30 -> 81405 | AL30: =1.3*1.3*1.3*3 -> 6.591
A31: 22 | B31: 30 | C31: =C30+$J$8 -> 1595 | D31: =ROUNDDOWN(C31/$D$8,0)*5 -> 155 | E31: =ROUNDDOWN(D31*$F$8/100,0)*1+ROUNDDOWN(D31*$G$8/100,0)*3+ROUNDDOWN(D31*$H$8/100,0)*7+15 -> 93 | F31: =IF(ROUND((D31+E31)/5,0)>64,64,ROUND((D31+E31)/5,0)) -> 50 | G31: 5 | H31: 7.5 | I31: =INDEX($R$56:$R$119,MATCH(F31,$A$56:$A$119,0))*5*H31 -> 2066.25 | J31: 10 | K31: 30 | L31: =I31*(J31+K31) -> 82650 | M31: =L31/B31 -> 2755 | N31: 3.53 | O31: =ROUND(M31*N31,0) -> 9725 | P31: =ROUND($O$31*$N$8^(P9-1),0) -> 12934 | Q31: =ROUND($O$31*$N$8^(Q9-1),0) -> 17203 | R31: =ROUND($O$31*$N$8^(R9-1),0) -> 22879 | S31: =ROUND($O$31*$N$8^(S9-1),0) -> 30430 | T31: =ROUND($O$31*$N$8^(T9-1),0) -> 40471 | U31: =ROUND($O$31*$N$8^(U9-1),0) -> 53827 | V31: =ROUND($O$31*$N$8^(V9-1),0) -> 71590 | W31: =ROUND($O$31*$N$8^(W9-1),0) -> 95214 | ... AG31: =ROUND($O$31*$N$8^(AG9-1),0) -> 1648994 | AH31: =ROUND(AK31*AL31*N31,0) -> 1940055 | AI31: =INDEX($R$454:$R$517,MATCH(F31,$A$56:$A$119,0))*5*H31 -> 62538.75 | AJ31: =AI31*(J31+K31) -> 2501550 | AK31: =AJ31/B31 -> 83385 | AL31: =1.3*1.3*1.3*3 -> 6.591
A32: 23 | B32: 30 | C32: =C31+$J$8 -> 1665 | D32: =ROUNDDOWN(C32/$D$8,0)*5 -> 165 | E32: =ROUNDDOWN(D32*$F$8/100,0)*1+ROUNDDOWN(D32*$G$8/100,0)*3+ROUNDDOWN(D32*$H$8/100,0)*7+15 -> 97 | F32: =IF(ROUND((D32+E32)/5,0)>64,64,ROUND((D32+E32)/5,0)) -> 52 | G32: 5 | H32: 7.5 | I32: =INDEX($R$56:$R$119,MATCH(F32,$A$56:$A$119,0))*5*H32 -> 2148.75 | J32: 10 | K32: 30 | L32: =I32*(J32+K32) -> 85950 | M32: =L32/B32 -> 2865 | N32: 4.03 | O32: =ROUND(M32*N32,0) -> 11546 | P32: =ROUND($O$32*$N$8^(P9-1),0) -> 15356 | Q32: =ROUND($O$32*$N$8^(Q9-1),0) -> 20424 | R32: =ROUND($O$32*$N$8^(R9-1),0) -> 27164 | S32: =ROUND($O$32*$N$8^(S9-1),0) -> 36128 | T32: =ROUND($O$32*$N$8^(T9-1),0) -> 48050 | U32: =ROUND($O$32*$N$8^(U9-1),0) -> 63906 | V32: =ROUND($O$32*$N$8^(V9-1),0) -> 84995 | W32: =ROUND($O$32*$N$8^(W9-1),0) -> 113043 | ... AG32: =ROUND($O$32*$N$8^(AG9-1),0) -> 1957767 | AH32: =ROUND(AK32*AL32*N32,0) -> 2291348 | AI32: =INDEX($R$454:$R$517,MATCH(F32,$A$56:$A$119,0))*5*H32 -> 64698.75 | AJ32: =AI32*(J32+K32) -> 2587950 | AK32: =AJ32/B32 -> 86265 | AL32: =1.3*1.3*1.3*3 -> 6.591
A33: 24 | B33: 30 | C33: =C32+$J$8 -> 1735 | D33: =ROUNDDOWN(C33/$D$8,0)*5 -> 170 | E33: =ROUNDDOWN(D33*$F$8/100,0)*1+ROUNDDOWN(D33*$G$8/100,0)*3+ROUNDDOWN(D33*$H$8/100,0)*7+15 -> 98 | F33: =IF(ROUND((D33+E33)/5,0)>64,64,ROUND((D33+E33)/5,0)) -> 54 | G33: 5 | H33: 7.5 | I33: =INDEX($R$56:$R$119,MATCH(F33,$A$56:$A$119,0))*5*H33 -> 2231.25 | J33: 10 | K33: 30 | L33: =I33*(J33+K33) -> 89250 | M33: =L33/B33 -> 2975 | N33: 4.53 | O33: =ROUND(M33*N33,0) -> 13477 | P33: =ROUND($O$33*$N$8^(P9-1),0) -> 17924 | Q33: =ROUND($O$33*$N$8^(Q9-1),0) -> 23839 | R33: =ROUND($O$33*$N$8^(R9-1),0) -> 31706 | S33: =ROUND($O$33*$N$8^(S9-1),0) -> 42170 | T33: =ROUND($O$33*$N$8^(T9-1),0) -> 56086 | U33: =ROUND($O$33*$N$8^(U9-1),0) -> 74594 | V33: =ROUND($O$33*$N$8^(V9-1),0) -> 99210 | W33: =ROUND($O$33*$N$8^(W9-1),0) -> 131949 | ... AG33: =ROUND($O$33*$N$8^(AG9-1),0) -> 2285192 | AH33: =ROUND(AK33*AL33*N33,0) -> 2747612 | AI33: =INDEX($R$454:$R$517,MATCH(F33,$A$56:$A$119,0))*5*H33 -> 69018.75 | AJ33: =AI33*(J33+K33) -> 2760750 | AK33: =AJ33/B33 -> 92025 | AL33: =1.3*1.3*1.3*3 -> 6.591
A34: 25 | B34: 40 | C34: =C33+$J$8 -> 1805 | D34: =ROUNDDOWN(C34/$D$8,0)*5 -> 180 | E34: =ROUNDDOWN(D34*$F$8/100,0)*1+ROUNDDOWN(D34*$G$8/100,0)*3+ROUNDDOWN(D34*$H$8/100,0)*7+15 -> 109 | F34: =IF(ROUND((D34+E34)/5,0)>64,64,ROUND((D34+E34)/5,0)) -> 58 | G34: 6 | H34: 30 | I34: =INDEX($R$56:$R$119,MATCH(F34,$A$56:$A$119,0))*5*H34 -> 10335 | J34: 10 | K34: 40 | L34: =I34*(J34+K34) -> 516750 | M34: =L34/B34 -> 12918.75 | N34: 6 | O34: =ROUND(M34*N34,0) -> 77513 | P34: =ROUND($O$34*$N$8^(P9-1),0) -> 103092 | Q34: =ROUND($O$34*$N$8^(Q9-1),0) -> 137113 | R34: =ROUND($O$34*$N$8^(R9-1),0) -> 182360 | S34: =ROUND($O$34*$N$8^(S9-1),0) -> 242539 | T34: =ROUND($O$34*$N$8^(T9-1),0) -> 322577 | U34: =ROUND($O$34*$N$8^(U9-1),0) -> 429027 | V34: =ROUND($O$34*$N$8^(V9-1),0) -> 570606 | W34: =ROUND($O$34*$N$8^(W9-1),0) -> 758905 | ... AG34: =ROUND($O$34*$N$8^(AG9-1),0) -> 13143290 | AH34: =ROUND(AK34*AL34*N34,0) -> 15035142 | AI34: =INDEX($R$454:$R$517,MATCH(F34,$A$56:$A$119,0))*5*H34 -> 304155 | AJ34: =AI34*(J34+K34) -> 15207750 | AK34: =AJ34/B34 -> 380193.75 | AL34: =1.3*1.3*1.3*3 -> 6.591
N36: 特殊宝石 | Q36: 普通宝石 | T36: 等级秒伤
N37: 等级 | O37: 倍数 | Q37: 等级 | R37: 倍数 | T37: 1
A38: 数字强度 | B38: 等级 | C38: 攻击力 | D38: 普通攻击秒伤 | E38: 技能加成 | F38: 攻击倍数 | G38: 秒伤1 | H38: 秒伤2 | I38: 秒伤3 | J38: 秒伤4 | K38: 秒伤5 | L38: 秒伤6 | M38: 秒伤7 | N38: 1 | O38: 1.33 | Q38: 1 | R38: 1.1 | T38: 2
A39: 1 | B39: 1 | C39: 1 | D39: 1 | E39: 1 | F39: 1 | G39: =INDEX($M$2:$M$6,MATCH(B39,$N$2:$N$6,1))*C39*F39 -> 1.1 | H39: =G40 -> 2.2 | I39: =G41 -> 4.4 | J39: =G42 -> 13.8 | K39: =G43 -> 20.7 | L39: =G44 -> 32.2 | M39: =G45 -> 75.6 | N39: 2 | O39: 1.5 | Q39: 2 | R39: 1.15 | T39: 3
A40: 2 | B40: 2 | C40: 2 | D40: 2 | E40: 1 | F40: 1 | G40: =INDEX($M$2:$M$6,MATCH(B40,$N$2:$N$6,1))*C40*F40 -> 2.2 | H40: =G41 -> 4.4 | I40: =G42 -> 13.8 | J40: =G43 -> 20.7 | K40: =G44 -> 32.2 | L40: =G45 -> 75.6 | M40: =G46 -> 115.2 | N40: 3 | O40: 2 | Q40: 3 | R40: 1.2 | T40: 4
A41: 4 | B41: 3 | C41: 4 | D41: 4 | E41: 1 | F41: 1 | G41: =INDEX($M$2:$M$6,MATCH(B41,$N$2:$N$6,1))*C41*F41 -> 4.4 | H41: =G42 -> 13.8 | I41: =G43 -> 20.7 | J41: =G44 -> 32.2 | K41: =G45 -> 75.6 | L41: =G46 -> 115.2 | M41: =G47 -> 172.8 | N41: 4 | O41: 2.5 | Q41: 4 | R41: 1.25 | T41: 5
A42: 8 | B42: 4 | C42: =ROUND(C41*1.5,0) -> 6 | D42: =D41*2 -> 8 | E42: 1 | F42: 2 | G42: =INDEX($M$2:$M$6,MATCH(B42,$N$2:$N$6,1))*C42*F42 -> 13.8 | H42: =G43 -> 20.7 | I42: =G44 -> 32.2 | J42: =G45 -> 75.6 | K42: =G46 -> 115.2 | L42: =G47 -> 172.8 | M42: =G48 -> 360 | N42: 5 | O42: 3 | Q42: 5 | R42: 1.3
A43: =A42*2 -> 16 | B43: 5 | C43: =ROUND(C42*1.5,0) -> 9 | D43: =D42*2 -> 16 | E43: 1 | F43: 2 | G43: =INDEX($M$2:$M$6,MATCH(B43,$N$2:$N$6,1))*C43*F43 -> 20.7 | H43: =G44 -> 32.2 | I43: =G45 -> 75.6 | J43: =G46 -> 115.2 | K43: =G47 -> 172.8 | L43: =G48 -> 360 | M43: =G49 -> 540
A44: =A43*2 -> 32 | B44: 6 | C44: =ROUND(C43*1.5,0) -> 14 | D44: =D43*2 -> 32 | E44: 1 | F44: 2 | G44: =INDEX($M$2:$M$6,MATCH(B44,$N$2:$N$6,1))*C44*F44 -> 32.2 | H44: =G45 -> 75.6 | I44: =G46 -> 115.2 | J44: =G47 -> 172.8 | K44: =G48 -> 360 | L44: =G49 -> 540 | M44: =G50 -> 1012.5
A45: =A44*2 -> 64 | B45: 7 | C45: =ROUND(C44*1.5,0) -> 21 | D45: =D44*2 -> 64 | E45: 1 | F45: 3 | G45: =INDEX($M$2:$M$6,MATCH(B45,$N$2:$N$6,1))*C45*F45 -> 75.6 | H45: =G46 -> 115.2 | I45: =G47 -> 172.8 | J45: =G48 -> 360 | K45: =G49 -> 540 | L45: =G50 -> 1012.5 | M45: =G51 -> 1640.25
A46: =A45*2 -> 128 | B46: 8 | C46: =ROUND(C45*1.5,0) -> 32 | D46: =D45*2 -> 128 | E46: 1 | F46: 3 | G46: =INDEX($M$2:$M$6,MATCH(B46,$N$2:$N$6,1))*C46*F46 -> 115.2 | H46: =G47 -> 172.8 | I46: =G48 -> 360 | J46: =G49 -> 540 | K46: =G50 -> 1012.5 | L46: =G51 -> 1640.25 | M46: =G52 -> 2463.75
A47: =A46*2 -> 256 | B47: 9 | C47: =ROUND(C46*1.5,0) -> 48 | D47: =D46*2 -> 256 | E47: 1 | F47: 3 | G47: =INDEX($M$2:$M$6,MATCH(B47,$N$2:$N$6,1))*C47*F47 -> 172.8
A48: =A47*2 -> 512 | B48: 10 | C48: =ROUND(C47*1.5,0) -> 72 | D48: =D47*2 -> 512 | E48: 1 | F48: 4 | G48: =INDEX($M$2:$M$6,MATCH(B48,$N$2:$N$6,1))*C48*F48 -> 360
A49: =A48*2 -> 1024 | B49: 11 | C49: =ROUND(C48*1.5,0) -> 108 | D49: =D48*2 -> 1024 | E49: 1 | F49: 4 | G49: =INDEX($M$2:$M$6,MATCH(B49,$N$2:$N$6,1))*C49*F49 -> 540
A50: =A49*2 -> 2048 | B50: 12 | C50: =ROUND(C49*1.5,0) -> 162 | D50: =D49*2 -> 2048 | E50: 1 | F50: 5 | G50: =INDEX($M$2:$M$6,MATCH(B50,$N$2:$N$6,1))*C50*F50 -> 1012.5
A51: =A50*2 -> 4096 | B51: 13 | C51: =ROUND(C50*1.5,0) -> 243 | D51: =D50*2 -> 4096 | E51: 1 | F51: 5 | G51: =INDEX($M$2:$M$6,MATCH(B51,$N$2:$N$6,1))*C51*F51 -> 1640.25
A52: =A51*2 -> 8192 | B52: 14 | C52: =ROUND(C51*1.5,0) -> 365 | D52: =D51*2 -> 8192 | E52: 1 | F52: 5 | G52: =INDEX($M$2:$M$6,MATCH(B52,$N$2:$N$6,1))*C52*F52 -> 2463.75
B55: 1 | C55: 2 | D55: 4 | E55: 8 | F55: 16 | G55: 32 | H55: 64 | I55: 128 | J55: 秒伤1 | K55: 秒伤2 | L55: 秒伤4 | M55: 秒伤8 | N55: 秒伤16 | O55: 秒伤32 | P55: 秒伤64 | Q55: 秒伤128 | R55: 总秒伤1
A56: 1 | B56: 1 | J56: =IF(B56=1,$G$39,"") -> 1.1 | K56: =IF(C56=1,$G$40,"") | L56: =IF(D56=1,$G$41,"") | M56: =IF(E56=1,$G$42,"") | N56: =IF(F56=1,$G$43,"") | O56: =IF(G56=1,$G$44,"") | P56: =IF(H56=1,$G$45,"") | Q56: =IF(I56=1,$G$46,"") | R56: =SUM(J56:Q56) -> 1.1
A57: 2 | C57: 1 | J57: =IF(B57=1,$G$39,"") | K57: =IF(C57=1,$G$40,"") -> 2.2 | L57: =IF(D57=1,$G$41,"") | M57: =IF(E57=1,$G$42,"") | N57: =IF(F57=1,$G$43,"") | O57: =IF(G57=1,$G$44,"") | P57: =IF(H57=1,$G$45,"") | Q57: =IF(I57=1,$G$46,"") | R57: =SUM(J57:Q57) -> 2.2
A58: 3 | B58: 1 | C58: 1 | J58: =IF(B58=1,$G$39,"") -> 1.1 | K58: =IF(C58=1,$G$40,"") -> 2.2 | L58: =IF(D58=1,$G$41,"") | M58: =IF(E58=1,$G$42,"") | N58: =IF(F58=1,$G$43,"") | O58: =IF(G58=1,$G$44,"") | P58: =IF(H58=1,$G$45,"") | Q58: =IF(I58=1,$G$46,"") | R58: =SUM(J58:Q58) -> 3.3
A59: 4 | D59: 1 | J59: =IF(B59=1,$G$39,"") | K59: =IF(C59=1,$G$40,"") | L59: =IF(D59=1,$G$41,"") -> 4.4 | M59: =IF(E59=1,$G$42,"") | N59: =IF(F59=1,$G$43,"") | O59: =IF(G59=1,$G$44,"") | P59: =IF(H59=1,$G$45,"") | Q59: =IF(I59=1,$G$46,"") | R59: =SUM(J59:Q59) -> 4.4
A60: 5 | B60: 1 | D60: 1 | J60: =IF(B60=1,$G$39,"") -> 1.1 | K60: =IF(C60=1,$G$40,"") | L60: =IF(D60=1,$G$41,"") -> 4.4 | M60: =IF(E60=1,$G$42,"") | N60: =IF(F60=1,$G$43,"") | O60: =IF(G60=1,$G$44,"") | P60: =IF(H60=1,$G$45,"") | Q60: =IF(I60=1,$G$46,"") | R60: =SUM(J60:Q60) -> 5.5
A61: 6 | C61: 1 | D61: 1 | J61: =IF(B61=1,$G$39,"") | K61: =IF(C61=1,$G$40,"") -> 2.2 | L61: =IF(D61=1,$G$41,"") -> 4.4 | M61: =IF(E61=1,$G$42,"") | N61: =IF(F61=1,$G$43,"") | O61: =IF(G61=1,$G$44,"") | P61: =IF(H61=1,$G$45,"") | Q61: =IF(I61=1,$G$46,"") | R61: =SUM(J61:Q61) -> 6.6
A62: 7 | B62: 1 | C62: 1 | D62: 1 | J62: =IF(B62=1,$G$39,"") -> 1.1 | K62: =IF(C62=1,$G$40,"") -> 2.2 | L62: =IF(D62=1,$G$41,"") -> 4.4 | M62: =IF(E62=1,$G$42,"") | N62: =IF(F62=1,$G$43,"") | O62: =IF(G62=1,$G$44,"") | P62: =IF(H62=1,$G$45,"") | Q62: =IF(I62=1,$G$46,"") | R62: =SUM(J62:Q62) -> 7.7
A63: 8 | E63: 1 | J63: =IF(B63=1,$G$39,"") | K63: =IF(C63=1,$G$40,"") | L63: =IF(D63=1,$G$41,"") | M63: =IF(E63=1,$G$42,"") -> 13.8 | N63: =IF(F63=1,$G$43,"") | O63: =IF(G63=1,$G$44,"") | P63: =IF(H63=1,$G$45,"") | Q63: =IF(I63=1,$G$46,"") | R63: =SUM(J63:Q63) -> 13.8
A64: 9 | B64: 1 | E64: 1 | J64: =IF(B64=1,$G$39,"") -> 1.1 | K64: =IF(C64=1,$G$40,"") | L64: =IF(D64=1,$G$41,"") | M64: =IF(E64=1,$G$42,"") -> 13.8 | N64: =IF(F64=1,$G$43,"") | O64: =IF(G64=1,$G$44,"") | P64: =IF(H64=1,$G$45,"") | Q64: =IF(I64=1,$G$46,"") | R64: =SUM(J64:Q64) -> 14.9
A65: 10 | C65: 1 | E65: 1 | J65: =IF(B65=1,$G$39,"") | K65: =IF(C65=1,$G$40,"") -> 2.2 | L65: =IF(D65=1,$G$41,"") | M65: =IF(E65=1,$G$42,"") -> 13.8 | N65: =IF(F65=1,$G$43,"") | O65: =IF(G65=1,$G$44,"") | P65: =IF(H65=1,$G$45,"") | Q65: =IF(I65=1,$G$46,"") | R65: =SUM(J65:Q65) -> 16
A66: 11 | B66: 1 | C66: 1 | E66: 1 | J66: =IF(B66=1,$G$39,"") -> 1.1 | K66: =IF(C66=1,$G$40,"") -> 2.2 | L66: =IF(D66=1,$G$41,"") | M66: =IF(E66=1,$G$42,"") -> 13.8 | N66: =IF(F66=1,$G$43,"") | O66: =IF(G66=1,$G$44,"") | P66: =IF(H66=1,$G$45,"") | Q66: =IF(I66=1,$G$46,"") | R66: =SUM(J66:Q66) -> 17.1
A67: 12 | D67: 1 | E67: 1 | J67: =IF(B67=1,$G$39,"") | K67: =IF(C67=1,$G$40,"") | L67: =IF(D67=1,$G$41,"") -> 4.4 | M67: =IF(E67=1,$G$42,"") -> 13.8 | N67: =IF(F67=1,$G$43,"") | O67: =IF(G67=1,$G$44,"") | P67: =IF(H67=1,$G$45,"") | Q67: =IF(I67=1,$G$46,"") | R67: =SUM(J67:Q67) -> 18.2
A68: 13 | B68: 1 | D68: 1 | E68: 1 | J68: =IF(B68=1,$G$39,"") -> 1.1 | K68: =IF(C68=1,$G$40,"") | L68: =IF(D68=1,$G$41,"") -> 4.4 | M68: =IF(E68=1,$G$42,"") -> 13.8 | N68: =IF(F68=1,$G$43,"") | O68: =IF(G68=1,$G$44,"") | P68: =IF(H68=1,$G$45,"") | Q68: =IF(I68=1,$G$46,"") | R68: =SUM(J68:Q68) -> 19.3
A69: 14 | C69: 1 | D69: 1 | E69: 1 | J69: =IF(B69=1,$G$39,"") | K69: =IF(C69=1,$G$40,"") -> 2.2 | L69: =IF(D69=1,$G$41,"") -> 4.4 | M69: =IF(E69=1,$G$42,"") -> 13.8 | N69: =IF(F69=1,$G$43,"") | O69: =IF(G69=1,$G$44,"") | P69: =IF(H69=1,$G$45,"") | Q69: =IF(I69=1,$G$46,"") | R69: =SUM(J69:Q69) -> 20.4
A70: 15 | B70: 1 | C70: 1 | D70: 1 | E70: 1 | J70: =IF(B70=1,$G$39,"") -> 1.1 | K70: =IF(C70=1,$G$40,"") -> 2.2 | L70: =IF(D70=1,$G$41,"") -> 4.4 | M70: =IF(E70=1,$G$42,"") -> 13.8 | N70: =IF(F70=1,$G$43,"") | O70: =IF(G70=1,$G$44,"") | P70: =IF(H70=1,$G$45,"") | Q70: =IF(I70=1,$G$46,"") | R70: =SUM(J70:Q70) -> 21.5
A71: 16 | F71: 1 | J71: =IF(B71=1,$G$39,"") | K71: =IF(C71=1,$G$40,"") | L71: =IF(D71=1,$G$41,"") | M71: =IF(E71=1,$G$42,"") | N71: =IF(F71=1,$G$43,"") -> 20.7 | O71: =IF(G71=1,$G$44,"") | P71: =IF(H71=1,$G$45,"") | Q71: =IF(I71=1,$G$46,"") | R71: =SUM(J71:Q71) -> 20.7
A72: 17 | B72: 1 | F72: 1 | J72: =IF(B72=1,$G$39,"") -> 1.1 | K72: =IF(C72=1,$G$40,"") | L72: =IF(D72=1,$G$41,"") | M72: =IF(E72=1,$G$42,"") | N72: =IF(F72=1,$G$43,"") -> 20.7 | O72: =IF(G72=1,$G$44,"") | P72: =IF(H72=1,$G$45,"") | Q72: =IF(I72=1,$G$46,"") | R72: =SUM(J72:Q72) -> 21.8
A73: 18 | C73: 1 | F73: 1 | J73: =IF(B73=1,$G$39,"") | K73: =IF(C73=1,$G$40,"") -> 2.2 | L73: =IF(D73=1,$G$41,"") | M73: =IF(E73=1,$G$42,"") | N73: =IF(F73=1,$G$43,"") -> 20.7 | O73: =IF(G73=1,$G$44,"") | P73: =IF(H73=1,$G$45,"") | Q73: =IF(I73=1,$G$46,"") | R73: =SUM(J73:Q73) -> 22.9
A74: 19 | B74: 1 | C74: 1 | F74: 1 | J74: =IF(B74=1,$G$39,"") -> 1.1 | K74: =IF(C74=1,$G$40,"") -> 2.2 | L74: =IF(D74=1,$G$41,"") | M74: =IF(E74=1,$G$42,"") | N74: =IF(F74=1,$G$43,"") -> 20.7 | O74: =IF(G74=1,$G$44,"") | P74: =IF(H74=1,$G$45,"") | Q74: =IF(I74=1,$G$46,"") | R74: =SUM(J74:Q74) -> 24
A75: 20 | D75: 1 | F75: 1 | J75: =IF(B75=1,$G$39,"") | K75: =IF(C75=1,$G$40,"") | L75: =IF(D75=1,$G$41,"") -> 4.4 | M75: =IF(E75=1,$G$42,"") | N75: =IF(F75=1,$G$43,"") -> 20.7 | O75: =IF(G75=1,$G$44,"") | P75: =IF(H75=1,$G$45,"") | Q75: =IF(I75=1,$G$46,"") | R75: =SUM(J75:Q75) -> 25.1
A76: 21 | B76: 1 | D76: 1 | F76: 1 | J76: =IF(B76=1,$G$39,"") -> 1.1 | K76: =IF(C76=1,$G$40,"") | L76: =IF(D76=1,$G$41,"") -> 4.4 | M76: =IF(E76=1,$G$42,"") | N76: =IF(F76=1,$G$43,"") -> 20.7 | O76: =IF(G76=1,$G$44,"") | P76: =IF(H76=1,$G$45,"") | Q76: =IF(I76=1,$G$46,"") | R76: =SUM(J76:Q76) -> 26.2
A77: 22 | C77: 1 | D77: 1 | F77: 1 | J77: =IF(B77=1,$G$39,"") | K77: =IF(C77=1,$G$40,"") -> 2.2 | L77: =IF(D77=1,$G$41,"") -> 4.4 | M77: =IF(E77=1,$G$42,"") | N77: =IF(F77=1,$G$43,"") -> 20.7 | O77: =IF(G77=1,$G$44,"") | P77: =IF(H77=1,$G$45,"") | Q77: =IF(I77=1,$G$46,"") | R77: =SUM(J77:Q77) -> 27.3
A78: 23 | B78: 1 | C78: 1 | D78: 1 | F78: 1 | J78: =IF(B78=1,$G$39,"") -> 1.1 | K78: =IF(C78=1,$G$40,"") -> 2.2 | L78: =IF(D78=1,$G$41,"") -> 4.4 | M78: =IF(E78=1,$G$42,"") | N78: =IF(F78=1,$G$43,"") -> 20.7 | O78: =IF(G78=1,$G$44,"") | P78: =IF(H78=1,$G$45,"") | Q78: =IF(I78=1,$G$46,"") | R78: =SUM(J78:Q78) -> 28.4
A79: 24 | E79: 1 | F79: 1 | J79: =IF(B79=1,$G$39,"") | K79: =IF(C79=1,$G$40,"") | L79: =IF(D79=1,$G$41,"") | M79: =IF(E79=1,$G$42,"") -> 13.8 | N79: =IF(F79=1,$G$43,"") -> 20.7 | O79: =IF(G79=1,$G$44,"") | P79: =IF(H79=1,$G$45,"") | Q79: =IF(I79=1,$G$46,"") | R79: =SUM(J79:Q79) -> 34.5
A80: 25 | B80: 1 | E80: 1 | F80: 1 | J80: =IF(B80=1,$G$39,"") -> 1.1 | K80: =IF(C80=1,$G$40,"") | L80: =IF(D80=1,$G$41,"") | M80: =IF(E80=1,$G$42,"") -> 13.8 | N80: =IF(F80=1,$G$43,"") -> 20.7 | O80: =IF(G80=1,$G$44,"") | P80: =IF(H80=1,$G$45,"") | Q80: =IF(I80=1,$G$46,"") | R80: =SUM(J80:Q80) -> 35.6
A81: 26 | C81: 1 | E81: 1 | F81: 1 | J81: =IF(B81=1,$G$39,"") | K81: =IF(C81=1,$G$40,"") -> 2.2 | L81: =IF(D81=1,$G$41,"") | M81: =IF(E81=1,$G$42,"") -> 13.8 | N81: =IF(F81=1,$G$43,"") -> 20.7 | O81: =IF(G81=1,$G$44,"") | P81: =IF(H81=1,$G$45,"") | Q81: =IF(I81=1,$G$46,"") | R81: =SUM(J81:Q81) -> 36.7
A82: 27 | B82: 1 | C82: 1 | E82: 1 | F82: 1 | J82: =IF(B82=1,$G$39,"") -> 1.1 | K82: =IF(C82=1,$G$40,"") -> 2.2 | L82: =IF(D82=1,$G$41,"") | M82: =IF(E82=1,$G$42,"") -> 13.8 | N82: =IF(F82=1,$G$43,"") -> 20.7 | O82: =IF(G82=1,$G$44,"") | P82: =IF(H82=1,$G$45,"") | Q82: =IF(I82=1,$G$46,"") | R82: =SUM(J82:Q82) -> 37.8
A83: 28 | D83: 1 | E83: 1 | F83: 1 | J83: =IF(B83=1,$G$39,"") | K83: =IF(C83=1,$G$40,"") | L83: =IF(D83=1,$G$41,"") -> 4.4 | M83: =IF(E83=1,$G$42,"") -> 13.8 | N83: =IF(F83=1,$G$43,"") -> 20.7 | O83: =IF(G83=1,$G$44,"") | P83: =IF(H83=1,$G$45,"") | Q83: =IF(I83=1,$G$46,"") | R83: =SUM(J83:Q83) -> 38.9
A84: 29 | B84: 1 | D84: 1 | E84: 1 | F84: 1 | J84: =IF(B84=1,$G$39,"") -> 1.1 | K84: =IF(C84=1,$G$40,"") | L84: =IF(D84=1,$G$41,"") -> 4.4 | M84: =IF(E84=1,$G$42,"") -> 13.8 | N84: =IF(F84=1,$G$43,"") -> 20.7 | O84: =IF(G84=1,$G$44,"") | P84: =IF(H84=1,$G$45,"") | Q84: =IF(I84=1,$G$46,"") | R84: =SUM(J84:Q84) -> 40
A85: 30 | C85: 1 | D85: 1 | E85: 1 | F85: 1 | J85: =IF(B85=1,$G$39,"") | K85: =IF(C85=1,$G$40,"") -> 2.2 | L85: =IF(D85=1,$G$41,"") -> 4.4 | M85: =IF(E85=1,$G$42,"") -> 13.8 | N85: =IF(F85=1,$G$43,"") -> 20.7 | O85: =IF(G85=1,$G$44,"") | P85: =IF(H85=1,$G$45,"") | Q85: =IF(I85=1,$G$46,"") | R85: =SUM(J85:Q85) -> 41.1
A86: 31 | B86: 1 | C86: 1 | D86: 1 | E86: 1 | F86: 1 | J86: =IF(B86=1,$G$39,"") -> 1.1 | K86: =IF(C86=1,$G$40,"") -> 2.2 | L86: =IF(D86=1,$G$41,"") -> 4.4 | M86: =IF(E86=1,$G$42,"") -> 13.8 | N86: =IF(F86=1,$G$43,"") -> 20.7 | O86: =IF(G86=1,$G$44,"") | P86: =IF(H86=1,$G$45,"") | Q86: =IF(I86=1,$G$46,"") | R86: =SUM(J86:Q86) -> 42.2
A87: 32 | G87: 1 | J87: =IF(B87=1,$G$39,"") | K87: =IF(C87=1,$G$40,"") | L87: =IF(D87=1,$G$41,"") | M87: =IF(E87=1,$G$42,"") | N87: =IF(F87=1,$G$43,"") | O87: =IF(G87=1,$G$44,"") -> 32.2 | P87: =IF(H87=1,$G$45,"") | Q87: =IF(I87=1,$G$46,"") | R87: =SUM(J87:Q87) -> 32.2
A88: 33 | B88: 1 | G88: 1 | J88: =IF(B88=1,$G$39,"") -> 1.1 | K88: =IF(C88=1,$G$40,"") | L88: =IF(D88=1,$G$41,"") | M88: =IF(E88=1,$G$42,"") | N88: =IF(F88=1,$G$43,"") | O88: =IF(G88=1,$G$44,"") -> 32.2 | P88: =IF(H88=1,$G$45,"") | Q88: =IF(I88=1,$G$46,"") | R88: =SUM(J88:Q88) -> 33.3
A89: 34 | C89: 1 | G89: 1 | J89: =IF(B89=1,$G$39,"") | K89: =IF(C89=1,$G$40,"") -> 2.2 | L89: =IF(D89=1,$G$41,"") | M89: =IF(E89=1,$G$42,"") | N89: =IF(F89=1,$G$43,"") | O89: =IF(G89=1,$G$44,"") -> 32.2 | P89: =IF(H89=1,$G$45,"") | Q89: =IF(I89=1,$G$46,"") | R89: =SUM(J89:Q89) -> 34.4
A90: 35 | B90: 1 | C90: 1 | G90: 1 | J90: =IF(B90=1,$G$39,"") -> 1.1 | K90: =IF(C90=1,$G$40,"") -> 2.2 | L90: =IF(D90=1,$G$41,"") | M90: =IF(E90=1,$G$42,"") | N90: =IF(F90=1,$G$43,"") | O90: =IF(G90=1,$G$44,"") -> 32.2 | P90: =IF(H90=1,$G$45,"") | Q90: =IF(I90=1,$G$46,"") | R90: =SUM(J90:Q90) -> 35.5
A91: 36 | D91: 1 | G91: 1 | J91: =IF(B91=1,$G$39,"") | K91: =IF(C91=1,$G$40,"") | L91: =IF(D91=1,$G$41,"") -> 4.4 | M91: =IF(E91=1,$G$42,"") | N91: =IF(F91=1,$G$43,"") | O91: =IF(G91=1,$G$44,"") -> 32.2 | P91: =IF(H91=1,$G$45,"") | Q91: =IF(I91=1,$G$46,"") | R91: =SUM(J91:Q91) -> 36.6
A92: 37 | B92: 1 | D92: 1 | G92: 1 | J92: =IF(B92=1,$G$39,"") -> 1.1 | K92: =IF(C92=1,$G$40,"") | L92: =IF(D92=1,$G$41,"") -> 4.4 | M92: =IF(E92=1,$G$42,"") | N92: =IF(F92=1,$G$43,"") | O92: =IF(G92=1,$G$44,"") -> 32.2 | P92: =IF(H92=1,$G$45,"") | Q92: =IF(I92=1,$G$46,"") | R92: =SUM(J92:Q92) -> 37.7
A93: 38 | C93: 1 | D93: 1 | G93: 1 | J93: =IF(B93=1,$G$39,"") | K93: =IF(C93=1,$G$40,"") -> 2.2 | L93: =IF(D93=1,$G$41,"") -> 4.4 | M93: =IF(E93=1,$G$42,"") | N93: =IF(F93=1,$G$43,"") | O93: =IF(G93=1,$G$44,"") -> 32.2 | P93: =IF(H93=1,$G$45,"") | Q93: =IF(I93=1,$G$46,"") | R93: =SUM(J93:Q93) -> 38.8
A94: 39 | B94: 1 | C94: 1 | D94: 1 | G94: 1 | J94: =IF(B94=1,$G$39,"") -> 1.1 | K94: =IF(C94=1,$G$40,"") -> 2.2 | L94: =IF(D94=1,$G$41,"") -> 4.4 | M94: =IF(E94=1,$G$42,"") | N94: =IF(F94=1,$G$43,"") | O94: =IF(G94=1,$G$44,"") -> 32.2 | P94: =IF(H94=1,$G$45,"") | Q94: =IF(I94=1,$G$46,"") | R94: =SUM(J94:Q94) -> 39.9
A95: 40 | E95: 1 | G95: 1 | J95: =IF(B95=1,$G$39,"") | K95: =IF(C95=1,$G$40,"") | L95: =IF(D95=1,$G$41,"") | M95: =IF(E95=1,$G$42,"") -> 13.8 | N95: =IF(F95=1,$G$43,"") | O95: =IF(G95=1,$G$44,"") -> 32.2 | P95: =IF(H95=1,$G$45,"") | Q95: =IF(I95=1,$G$46,"") | R95: =SUM(J95:Q95) -> 46
A96: 41 | B96: 1 | E96: 1 | G96: 1 | J96: =IF(B96=1,$G$39,"") -> 1.1 | K96: =IF(C96=1,$G$40,"") | L96: =IF(D96=1,$G$41,"") | M96: =IF(E96=1,$G$42,"") -> 13.8 | N96: =IF(F96=1,$G$43,"") | O96: =IF(G96=1,$G$44,"") -> 32.2 | P96: =IF(H96=1,$G$45,"") | Q96: =IF(I96=1,$G$46,"") | R96: =SUM(J96:Q96) -> 47.1
A97: 42 | C97: 1 | E97: 1 | G97: 1 | J97: =IF(B97=1,$G$39,"") | K97: =IF(C97=1,$G$40,"") -> 2.2 | L97: =IF(D97=1,$G$41,"") | M97: =IF(E97=1,$G$42,"") -> 13.8 | N97: =IF(F97=1,$G$43,"") | O97: =IF(G97=1,$G$44,"") -> 32.2 | P97: =IF(H97=1,$G$45,"") | Q97: =IF(I97=1,$G$46,"") | R97: =SUM(J97:Q97) -> 48.2
A98: 43 | B98: 1 | C98: 1 | E98: 1 | G98: 1 | J98: =IF(B98=1,$G$39,"") -> 1.1 | K98: =IF(C98=1,$G$40,"") -> 2.2 | L98: =IF(D98=1,$G$41,"") | M98: =IF(E98=1,$G$42,"") -> 13.8 | N98: =IF(F98=1,$G$43,"") | O98: =IF(G98=1,$G$44,"") -> 32.2 | P98: =IF(H98=1,$G$45,"") | Q98: =IF(I98=1,$G$46,"") | R98: =SUM(J98:Q98) -> 49.3
A99: 44 | D99: 1 | E99: 1 | G99: 1 | J99: =IF(B99=1,$G$39,"") | K99: =IF(C99=1,$G$40,"") | L99: =IF(D99=1,$G$41,"") -> 4.4 | M99: =IF(E99=1,$G$42,"") -> 13.8 | N99: =IF(F99=1,$G$43,"") | O99: =IF(G99=1,$G$44,"") -> 32.2 | P99: =IF(H99=1,$G$45,"") | Q99: =IF(I99=1,$G$46,"") | R99: =SUM(J99:Q99) -> 50.4
A100: 45 | B100: 1 | D100: 1 | E100: 1 | G100: 1 | J100: =IF(B100=1,$G$39,"") -> 1.1 | K100: =IF(C100=1,$G$40,"") | L100: =IF(D100=1,$G$41,"") -> 4.4 | M100: =IF(E100=1,$G$42,"") -> 13.8 | N100: =IF(F100=1,$G$43,"") | O100: =IF(G100=1,$G$44,"") -> 32.2 | P100: =IF(H100=1,$G$45,"") | Q100: =IF(I100=1,$G$46,"") | R100: =SUM(J100:Q100) -> 51.5
A101: 46 | C101: 1 | D101: 1 | E101: 1 | G101: 1 | J101: =IF(B101=1,$G$39,"") | K101: =IF(C101=1,$G$40,"") -> 2.2 | L101: =IF(D101=1,$G$41,"") -> 4.4 | M101: =IF(E101=1,$G$42,"") -> 13.8 | N101: =IF(F101=1,$G$43,"") | O101: =IF(G101=1,$G$44,"") -> 32.2 | P101: =IF(H101=1,$G$45,"") | Q101: =IF(I101=1,$G$46,"") | R101: =SUM(J101:Q101) -> 52.6
A102: 47 | B102: 1 | C102: 1 | D102: 1 | E102: 1 | G102: 1 | J102: =IF(B102=1,$G$39,"") -> 1.1 | K102: =IF(C102=1,$G$40,"") -> 2.2 | L102: =IF(D102=1,$G$41,"") -> 4.4 | M102: =IF(E102=1,$G$42,"") -> 13.8 | N102: =IF(F102=1,$G$43,"") | O102: =IF(G102=1,$G$44,"") -> 32.2 | P102: =IF(H102=1,$G$45,"") | Q102: =IF(I102=1,$G$46,"") | R102: =SUM(J102:Q102) -> 53.7
A103: 48 | F103: 1 | G103: 1 | J103: =IF(B103=1,$G$39,"") | K103: =IF(C103=1,$G$40,"") | L103: =IF(D103=1,$G$41,"") | M103: =IF(E103=1,$G$42,"") | N103: =IF(F103=1,$G$43,"") -> 20.7 | O103: =IF(G103=1,$G$44,"") -> 32.2 | P103: =IF(H103=1,$G$45,"") | Q103: =IF(I103=1,$G$46,"") | R103: =SUM(J103:Q103) -> 52.9
...

Sheet 新版本修改
A2: 1 | B2: 下方解锁格子机制调整
C3: 解锁条件更难
C4: 根据解锁格子次数，解锁后新格子内被帮主的数字增加等级，比如1次，增加为0，第2-3次增加1，4-6次增加2，7-10次增加3，11-15次+4，16-22次+5
A8: 2 | B8: buff机制放到局内，触发条件在指定解锁地块时触发
C9: 解锁地块改成11处触发
C10: 触发时添加是否有宝箱掉落配置
A14: 3 | B14: 结算改成每波结算，小怪不再掉落金钱
C15: 添加每波怪物刷新倒计时显示
C16: 倒计时开始时发发放每波金钱，每波金钱在常量表配置
A23: buff增加
B24: 金系数字伤害+20% | I24: 金系 | J24: 增加攻击距离 | P24: 水系 | Q24: 普通攻击穿透+1
B25: 金系数字暴击+20% | J25: 场上最大的金系数字，每过一定时间释放剑气攻击 | Q25: 冰球术，每攻击一定次数，召唤冰球砸向目标区域，减速并几率冰冻
B26: 金系数字攻速+20% | J26: 超过32的金系数字，斩杀血量低于20%对手 | Q26: 超过32的水系，击杀怪物，在目标脚下生成一块水潭，经过水潭减速
B27: 木系数字伤害+20% | J27: 超过128的金系数字，一定几率秒杀怪物 | Q27: 超过128的水系，对减速单位必定暴击
B28: 木系数字暴击+20% | J28: 金系武器伤害+200%，剑气伤害*3 | Q28: 水系武器伤害+200%，对减速单位伤害*2
B29: 木系数字攻速+20% | J29: 金系武器伤害+200%，飞剑伤害*3 | Q29: 水系武器伤害+200%，暴风雨伤害*3
B30: 水系数字伤害+20% | J30: 金系武器伤害+200%，剑阵伤害*3 | Q30: 水系武器伤害+200%，冰锥伤害*3
B31: 水系数字暴击+20%
B32: 水系数字攻速+20% | I32: 木系 | J32: 增加伤害 | P32: 火系 | Q32: 增加暴击率
B33: 火系数字伤害+20% | J33: 命中后给目标添加毒素，造成持续掉血 | Q33: 场上最大的火系数字，必定暴击，暴击率转化成暴击伤害
B34: 火系数字暴击+20% | J34: 超过32的木系数字， | Q34: 超过32数字的水系数字，每次攻击额外发射发射一支箭
B35: 火系数字攻速+20% | J35: 超过128的木系，对中毒目标造成的伤害必定暴击 | Q35: 每攻击x次，发射直线穿透巨箭
B36: 土系数字伤害+20% | J36: 木系数字伤害+200%，狠击伤害*3 | Q36: 火系数字伤害+200%，对点燃单位造成伤害必定暴击，暴击转化成爆伤
B37: 土系数字暴击+20% | J37: 木系数字伤害+200%，大风车伤害*3 | Q37: 火系数字伤害+200%，火龙伤害必定暴击，暴击转化成爆伤
B38: 土系数字攻速+20% | J38: 木系数字伤害+200%，旋转飞棍伤害*3 | Q38: 火系数字伤害+200%，箭雨伤害必定暴击，暴击转化成爆伤
P42: 土系 | Q42: 增加攻速
B43: 宝石库的界面重新调整一下 | E43: 宝石图标，形状颜色变化 | Q43: 隔山打牛，击中目标，对目标身后扇形区域造成伤害
Q44: 超过32的土系，锁定同一目标时，每次攻击攻速+20%
B45: buff三选一机制放入局内，三选一 | Q45: 超过128的土系，每次击杀，伤害提升2%，最大200%
Q46: 土系数字伤害+200%，飞枪冲锋伤害*3
B47: 地图调整 | Q47: 土系数字伤害+200%，爆炸伤害*3
